PDS_VERSION_ID = PDS3
/* FILE DATA ELEMENTS */
RECORD_TYPE = STREAM
/* POINTERS TO DATA OBJECTS */
^COMPRESSED_FILE = "HH775_0000_S13.JP2"
/* IDENTIFICATION DATA ELEMENTS */
DATA_SET_ID = "MEX-M-HRSC-5-REFDR-MAPPROJECTED-V3.0"
DATA_SET_NAME = "MARS EXPRESS HRSC MAP PROJECTED REFDR V3.0"
DETECTOR_ID = MEX_HRSC_S1
EVENT_TYPE = "MARS-REGIONAL-MAPPING-Te-Fl-Eo"
INSTRUMENT_HOST_ID = MEX
INSTRUMENT_HOST_NAME = "MARS EXPRESS"
INSTRUMENT_ID = HRSC
INSTRUMENT_NAME = "HIGH RESOLUTION STEREO CAMERA"
MISSION_NAME = "MARS EXPRESS"
MISSION_PHASE_NAME = ME_Phase_38
PROCESSING_LEVEL_ID = 3
PRODUCT_CREATION_TIME = 2018-09-04T13:05:27.000Z
PRODUCT_ID = "HH775_0000_S13.JP2"
RELEASE_ID = 0140
REVISION_ID = 0000
/* QUALITY DATA ELEMENTS */
DATA_QUALITY_ID = 1
DATA_QUALITY_DESC = "Data calculated based on original SPICE kernels"
/* TIME DATA ELEMENTS */
SPACECRAFT_CLOCK_START_COUNT = "1/0464199058.09065"
SPACECRAFT_CLOCK_STOP_COUNT = "1/0464199211.49450"
START_TIME = 2018-01-16T16:11:07.214Z
STOP_TIME = 2018-01-16T16:12:32.094Z
/* ORBITAL DATA ELEMENTS */
ASCENDING_NODE_LONGITUDE = 240.4
MAXIMUM_RESOLUTION = 30.7
FOOTPRINT_POINT_LATITUDE = (27.0269,27.0077,26.9977,26.9876, 26.9772,26.9665,26.9556,26.9444,26.933, 26.9212,26.9092,26.8615,26.7412,26.6205 ,26.5008,26.3211,26.1437,25.9634, 25.8429,25.6624,25.5428,25.4223,25.3018 ,25.119,24.9371,24.8159,24.7006,24.5973 ,24.3981,24.1935,24.0912,23.9895, 23.7863,23.5865,23.3873,23.2838,23.0794 ,22.9259,22.8235,22.7214,22.6191, 22.4658,22.3635,22.2618,22.1591,22.0567 ,21.9551,21.8504,21.7472,21.6451, 21.4435,21.4515,21.4631,21.4803,21.499, 21.5121,21.5216,21.5336,21.5589,21.5694 ,21.7237,21.9263,22.0786,22.2315, 22.3338,22.4367,22.5392,22.6412,22.7952 ,22.8981,23.0003,23.153,23.2549,23.4075 ,23.5095,23.6623,23.7648,23.9174, 24.1701,24.2717,24.3742,24.5273,24.679, 24.8831,25.0045,25.1248,25.3067,25.4284 ,25.5476,25.6688,25.851,25.9708,26.1517 ,26.2729,26.3926,26.572,26.6923,26.8119 ,26.9319,27.0269)
FOOTPRINT_POINT_LONGITUDE = (81.5665,81.3418,81.2281,81.1134, 80.9977,80.8809,80.7634,80.6448,80.5251 ,80.4043,80.2823,80.0775,80.0807, 80.0835,80.0873,80.0929,80.1009,80.1059 ,80.1089,80.1138,80.1179,80.1209,80.124 ,80.1267,80.1302,80.1328,80.1336,80.134 ,80.1421,80.1447,80.146,80.1481,80.1522 ,80.1599,80.1681,80.1683,80.1713, 80.1733,80.1747,80.1763,80.1777,80.1801 ,80.1815,80.1835,80.1846,80.1859,80.188 ,80.1871,80.1876,80.1892,80.1952, 80.3682,80.485,80.6584,80.87,81.01, 81.1206,81.2576,81.477,81.5967,81.6391, 81.6374,81.6363,81.6355,81.635,81.6349, 81.6345,81.634,81.6337,81.6335,81.6331, 81.6323,81.6318,81.6309,81.6305,81.6297 ,81.6294,81.6287,81.6267,81.6262,81.626 ,81.6255,81.6244,81.6231,81.6226, 81.6216,81.6208,81.6204,81.6191,81.6185 ,81.6179,81.6168,81.6157,81.6152, 81.6142,81.6126,81.6117,81.6107,81.6098 ,81.5665)
ORBIT_NUMBER = 17775
ORBITAL_ECCENTRICITY = 0.576
ORBITAL_INCLINATION = 86.97
ORBITAL_SEMIMAJOR_AXIS = 8849.11
PERIAPSIS_ALTITUDE = 357.67
PERIAPSIS_ARGUMENT_ANGLE = 156.79
PERIAPSIS_TIME = 2018-01-16T16:12:40.000Z
SPACECRAFT_ORIENTATION = (0.0,-1.0,0.0)
^MEX_ORIENTATION_DESC = "MEX_ORIENTATION_DESC.TXT"
SPACECRAFT_POINTING_MODE = ACROSSTRACK
^MEX_POINTING_DESC = "MEX_POINTING_DESC.TXT"
RIGHT_ASCENSION = -1e+32
DECLINATION = -1e+32
OFFSET_ANGLE = -1.4
SPACECRAFT_SOLAR_DISTANCE = 2.4198e+08
TARGET_NAME = MARS
/* CAMERA DATA ELEMENTS */
DETECTOR_TEMPERATURE = 17.7588
FOCAL_PLANE_TEMPERATURE = 8.7872
INST_CMPRS_NAME = "DISCRETE COSINE TRANSFORMATION (DCT)"
INST_CMPRS_RATIO = 6.22673
INST_CMPRS_QUALITY = 0
INST_CMPRS_QUANTZ_TBL_ID = 0
INSTRUMENT_TEMPERATURE = 11.6418
LENS_TEMPERATURE = 8.9911
MACROPIXEL_SIZE = 2
MISSING_FRAMES = 0
PIXEL_SUBSAMPLING_FLAG = N
SIGNAL_CHAIN_ID = 1
/* RADIOMETRIC DATA ELEMENTS */
BANDWIDTH = 180.0
CENTER_FILTER_WAVELENGTH = 677.0
RADIANCE_OFFSET = 1.65828
RADIANCE_SCALING_FACTOR = 0.0201285
REFLECTANCE_SCALING_FACTOR = 0.00061491
MEX:REFLECTANCE_OFFSET = 0.0506591
/* IMAGE OBJECT DEFINITIONS */
OBJECT = IMAGE
  INTERCHANGE_FORMAT = BINARY
  LINES = 12891
  LINE_SAMPLES = 3599
  SAMPLE_TYPE = UNSIGNED_INTEGER
  SAMPLE_BITS = 8
  BANDS = 1
  BAND_STORAGE_TYPE = BAND_SEQUENTIAL
  MAXIMUM = 255
  MEAN = 96.5722
  MINIMUM = 1
  STANDARD_DEVIATION = 27.5611
END_OBJECT = IMAGE
/* MAP OBJECT DEFINITIONS */
OBJECT = IMAGE_MAP_PROJECTION
  ^DATA_SET_MAP_PROJECTION_CATALOG= "DSMAP.CAT"
  A_AXIS_RADIUS = 3396.0
  B_AXIS_RADIUS = 3396.0
  C_AXIS_RADIUS = 3396.0
  CENTER_LATITUDE = 0.0
  CENTER_LONGITUDE = 81.0
  COORDINATE_SYSTEM_NAME = PLANETOGRAPHIC
  COORDINATE_SYSTEM_TYPE = "BODY-FIXED ROTATING"
  EASTERNMOST_LONGITUDE = 81.6391
  FIRST_STANDARD_PARALLEL = "N/A"
  LINE_FIRST_PIXEL = 1
  LINE_LAST_PIXEL = 12891
  LINE_PROJECTION_OFFSET = 63880.75
  MAP_PROJECTION_ROTATION = 0.0
  MAP_PROJECTION_TYPE = SINUSOIDAL
  MAP_RESOLUTION = 2370.85521546667
  MAP_SCALE = 0.025
  MAXIMUM_LATITUDE = 27.0269
  MINIMUM_LATITUDE = 21.4435
  POSITIVE_LONGITUDE_DIRECTION = EAST
  REFERENCE_LATITUDE = "N/A"
  REFERENCE_LONGITUDE = "N/A"
  SAMPLE_FIRST_PIXEL = 1
  SAMPLE_LAST_PIXEL = 3599
  SAMPLE_PROJECTION_OFFSET = 2153.75
  SECOND_STANDARD_PARALLEL = "N/A"
  WESTERNMOST_LONGITUDE = 80.0775
END_OBJECT = IMAGE_MAP_PROJECTION
/* The JPEG2000 image data file associated with this label. */
OBJECT = COMPRESSED_FILE
  FILE_NAME = "HH775_0000_S13.JP2"
  RECORD_TYPE = UNDEFINED
  FILE_RECORDS = UNK
  ENCODING_TYPE = "JP2"
  INTERCHANGE_FORMAT = BINARY
  UNCOMPRESSED_FILE_NAME = "HH775_0000_S13.IMG"
  REQUIRED_STORAGE_BYTES = "46416303"
  ^DESCRIPTION = "JP2INFO.TXT"
END_OBJECT = COMPRESSED_FILE
END
