PDS_VERSION_ID = PDS3
/* FILE DATA ELEMENTS */
RECORD_TYPE = STREAM
/* POINTERS TO DATA OBJECTS */
^COMPRESSED_FILE = "HH776_0000_S23.JP2"
/* IDENTIFICATION DATA ELEMENTS */
DATA_SET_ID = "MEX-M-HRSC-5-REFDR-MAPPROJECTED-V3.0"
DATA_SET_NAME = "MARS EXPRESS HRSC MAP PROJECTED REFDR V3.0"
DETECTOR_ID = MEX_HRSC_S2
EVENT_TYPE = "MARS-REGIONAL-STEREO-Eb-La-Tc"
INSTRUMENT_HOST_ID = MEX
INSTRUMENT_HOST_NAME = "MARS EXPRESS"
INSTRUMENT_ID = HRSC
INSTRUMENT_NAME = "HIGH RESOLUTION STEREO CAMERA"
MISSION_NAME = "MARS EXPRESS"
MISSION_PHASE_NAME = ME_Phase_38
PROCESSING_LEVEL_ID = 3
PRODUCT_CREATION_TIME = 2018-09-04T13:05:27.000Z
PRODUCT_ID = "HH776_0000_S23.JP2"
RELEASE_ID = 0140
REVISION_ID = 0000
/* QUALITY DATA ELEMENTS */
DATA_QUALITY_ID = 1
DATA_QUALITY_DESC = "Data calculated based on original SPICE kernels"
/* TIME DATA ELEMENTS */
SPACECRAFT_CLOCK_START_COUNT = "1/0464224242.09048"
SPACECRAFT_CLOCK_STOP_COUNT = "1/0464224496.50084"
START_TIME = 2018-01-16T23:11:56.980Z
STOP_TIME = 2018-01-16T23:15:03.860Z
/* ORBITAL DATA ELEMENTS */
ASCENDING_NODE_LONGITUDE = 240.39
MAXIMUM_RESOLUTION = 15.4
FOOTPRINT_POINT_LATITUDE = (26.9209,26.9207,26.9202,26.9198, 26.7366,26.5011,26.2658,26.0302,25.795, 25.5595,25.3204,25.0847,24.8519,24.6172 ,24.3817,24.0369,23.8034,23.5697, 23.3358,23.1017,22.8639,22.5073,22.2748 ,22.042,21.8098,21.5777,21.3456,20.9975 ,20.7655,20.5349,20.3021,20.0706, 19.8389,19.6172,19.388,19.1471,18.918, 18.6882,18.458,18.2284,17.999,17.7691, 17.5405,17.1987,16.8095,16.5386,16.2656 ,15.9947,15.7236,15.4531,15.0473, 15.0422,15.039,15.0365,15.0328,15.4408, 15.7125,16.1194,16.3908,16.662,16.9346, 17.1887,17.4172,17.6467,17.8758,18.2193 ,18.5636,18.9091,19.1394,19.486,19.8326 ,20.0636,20.2952,20.5282,20.8708, 21.1043,21.4515,21.6833,21.9164,22.1501 ,22.3853,22.6186,22.9708,23.2049, 23.4387,23.6713,23.9054,24.1414,24.3782 ,24.7311,24.9658,25.3201,25.5569, 25.7944,26.0293,26.263,26.4981,26.733, 26.9698,26.9209)
FOOTPRINT_POINT_LONGITUDE = (340.579,340.357,339.968,339.746,339.46 ,339.463,339.465,339.468,339.47,339.472 ,339.476,339.478,339.479,339.481, 339.483,339.483,339.484,339.485,339.486 ,339.487,339.489,339.493,339.493, 339.493,339.494,339.494,339.494,339.494 ,339.494,339.493,339.493,339.493, 339.492,339.489,339.488,339.49,339.489, 339.488,339.487,339.486,339.484,339.483 ,339.482,339.479,339.476,339.473, 339.471,339.469,339.466,339.464,339.459 ,339.915,340.246,340.466,340.858,340.86 ,340.861,340.862,340.862,340.862, 340.863,340.864,340.864,340.865,340.866 ,340.866,340.867,340.868,340.869,340.87 ,340.871,340.872,340.873,340.874, 340.874,340.875,340.876,340.876,340.877 ,340.878,340.88,340.881,340.883,340.884 ,340.884,340.885,340.886,340.887, 340.889,340.891,340.892,340.894,340.895 ,340.897,340.898,340.898,340.899, 340.899,340.901,340.579)
ORBIT_NUMBER = 17776
ORBITAL_ECCENTRICITY = 0.576
ORBITAL_INCLINATION = 86.96
ORBITAL_SEMIMAJOR_AXIS = 8839.93
PERIAPSIS_ALTITUDE = 358.69
PERIAPSIS_ARGUMENT_ANGLE = 156.61
PERIAPSIS_TIME = 2018-01-16T23:12:20.000Z
SPACECRAFT_ORIENTATION = (0.0,-1.0,0.0)
^MEX_ORIENTATION_DESC = "MEX_ORIENTATION_DESC.TXT"
SPACECRAFT_POINTING_MODE = NADIR
^MEX_POINTING_DESC = "MEX_POINTING_DESC.TXT"
RIGHT_ASCENSION = -1e+32
DECLINATION = -1e+32
OFFSET_ANGLE = -1e+32
SPACECRAFT_SOLAR_DISTANCE = 2.4194e+08
TARGET_NAME = MARS
/* CAMERA DATA ELEMENTS */
DETECTOR_TEMPERATURE = 18.7783
FOCAL_PLANE_TEMPERATURE = 8.5833
INST_CMPRS_NAME = "DISCRETE COSINE TRANSFORMATION (DCT)"
INST_CMPRS_RATIO = 7.01988
INST_CMPRS_QUALITY = 0
INST_CMPRS_QUANTZ_TBL_ID = 0
INSTRUMENT_TEMPERATURE = 12.0496
LENS_TEMPERATURE = 9.3989
MACROPIXEL_SIZE = 1
MISSING_FRAMES = 0
PIXEL_SUBSAMPLING_FLAG = N
SIGNAL_CHAIN_ID = 1
/* RADIOMETRIC DATA ELEMENTS */
BANDWIDTH = 178.0
CENTER_FILTER_WAVELENGTH = 679.0
RADIANCE_OFFSET = 1.73725
RADIANCE_SCALING_FACTOR = 0.00923015
REFLECTANCE_SCALING_FACTOR = 0.000286122
MEX:REFLECTANCE_OFFSET = 0.0538523
/* IMAGE OBJECT DEFINITIONS */
OBJECT = IMAGE
  INTERCHANGE_FORMAT = BINARY
  LINES = 56634
  LINE_SAMPLES = 6510
  SAMPLE_TYPE = UNSIGNED_INTEGER
  SAMPLE_BITS = 8
  BANDS = 1
  BAND_STORAGE_TYPE = BAND_SEQUENTIAL
  MAXIMUM = 255
  MEAN = 90.2524
  MINIMUM = 1
  STANDARD_DEVIATION = 25.0383
END_OBJECT = IMAGE
/* MAP OBJECT DEFINITIONS */
OBJECT = IMAGE_MAP_PROJECTION
  ^DATA_SET_MAP_PROJECTION_CATALOG= "DSMAP.CAT"
  A_AXIS_RADIUS = 3396.0
  B_AXIS_RADIUS = 3396.0
  C_AXIS_RADIUS = 3396.0
  CENTER_LATITUDE = 0.0
  CENTER_LONGITUDE = 340.0
  COORDINATE_SYSTEM_NAME = PLANETOGRAPHIC
  COORDINATE_SYSTEM_TYPE = "BODY-FIXED ROTATING"
  EASTERNMOST_LONGITUDE = 340.901
  FIRST_STANDARD_PARALLEL = "N/A"
  LINE_FIRST_PIXEL = 1
  LINE_LAST_PIXEL = 56634
  LINE_PROJECTION_OFFSET = 127833.0
  MAP_PROJECTION_ROTATION = 0.0
  MAP_PROJECTION_TYPE = SINUSOIDAL
  MAP_RESOLUTION = 4741.71043093333
  MAP_SCALE = 0.0125
  MAXIMUM_LATITUDE = 26.9698
  MINIMUM_LATITUDE = 15.0328
  POSITIVE_LONGITUDE_DIRECTION = EAST
  REFERENCE_LATITUDE = "N/A"
  REFERENCE_LONGITUDE = "N/A"
  SAMPLE_FIRST_PIXEL = 1
  SAMPLE_LAST_PIXEL = 6510
  SAMPLE_PROJECTION_OFFSET = 2509.0
  SECOND_STANDARD_PARALLEL = "N/A"
  WESTERNMOST_LONGITUDE = 339.459
END_OBJECT = IMAGE_MAP_PROJECTION
/* The JPEG2000 image data file associated with this label. */
OBJECT = COMPRESSED_FILE
  FILE_NAME = "HH776_0000_S23.JP2"
  RECORD_TYPE = UNDEFINED
  FILE_RECORDS = UNK
  ENCODING_TYPE = "JP2"
  INTERCHANGE_FORMAT = BINARY
  UNCOMPRESSED_FILE_NAME = "HH776_0000_S23.IMG"
  REQUIRED_STORAGE_BYTES = "368719890"
  ^DESCRIPTION = "JP2INFO.TXT"
END_OBJECT = COMPRESSED_FILE
END
