PDS_VERSION_ID = PDS3
/* FILE DATA ELEMENTS */
RECORD_TYPE = STREAM
/* POINTERS TO DATA OBJECTS */
^COMPRESSED_FILE = "HH782_0000_RE3.JP2"
/* IDENTIFICATION DATA ELEMENTS */
DATA_SET_ID = "MEX-M-HRSC-5-REFDR-MAPPROJECTED-V3.0"
DATA_SET_NAME = "MARS EXPRESS HRSC MAP PROJECTED REFDR V3.0"
DETECTOR_ID = MEX_HRSC_RED
EVENT_TYPE = "MARS-REGIONAL-MAPPING-Vo-Fl-Tc"
INSTRUMENT_HOST_ID = MEX
INSTRUMENT_HOST_NAME = "MARS EXPRESS"
INSTRUMENT_ID = HRSC
INSTRUMENT_NAME = "HIGH RESOLUTION STEREO CAMERA"
MISSION_NAME = "MARS EXPRESS"
MISSION_PHASE_NAME = ME_Phase_38
PROCESSING_LEVEL_ID = 3
PRODUCT_CREATION_TIME = 2018-09-04T13:05:27.000Z
PRODUCT_ID = "HH782_0000_RE3.JP2"
RELEASE_ID = 0140
REVISION_ID = 0000
/* QUALITY DATA ELEMENTS */
DATA_QUALITY_ID = 1
DATA_QUALITY_DESC = "Data calculated based on original SPICE kernels"
/* TIME DATA ELEMENTS */
SPACECRAFT_CLOCK_START_COUNT = "1/0464375597.07361"
SPACECRAFT_CLOCK_STOP_COUNT = "1/0464375841.48258"
START_TIME = 2018-01-18T17:14:31.829Z
STOP_TIME = 2018-01-18T17:17:19.958Z
/* ORBITAL DATA ELEMENTS */
ASCENDING_NODE_LONGITUDE = 240.27
MAXIMUM_RESOLUTION = 67.8
FOOTPRINT_POINT_LATITUDE = (11.6631,11.657,11.651,11.6452,11.6396, 11.6341,11.6287,11.4604,11.0861,10.7126 ,10.3398,10.0557,9.86486,9.67406, 9.48358,9.29351,9.10371,8.91408,8.62447 ,8.43045,8.23662,8.04304,7.84975, 7.65669,7.36205,7.16466,6.96757,6.77111 ,6.47645,6.17667,5.97622,5.77602,5.5761 ,5.37626,5.17304,4.96917,4.7655,4.56201 ,4.35902,4.04882,3.84158,3.63472, 3.42817,3.21338,2.99511,2.78912,2.58026 ,2.25828,2.04031,1.82734,1.66883,1.6755 ,1.68025,1.68526,1.69659,1.91635, 2.23497,2.45734,2.66608,2.87772,3.09192 ,3.30197,3.50303,3.7172,4.03056,4.23816 ,4.5451,4.74845,4.95213,5.15614,5.46054 ,5.66035,5.8605,6.06096,6.26173,6.4624, 6.65864,6.85522,7.05229,7.24956,7.4472, 7.64428,7.83736,8.03071,8.22431,8.41818 ,8.61213,8.90323,9.09296,9.28288, 9.47306,9.66339,9.85406,10.0449,10.236, 10.4234,10.7962,11.0767,11.4513, 11.6631)
FOOTPRINT_POINT_LONGITUDE = (87.7825,87.5601,87.3399,87.1215, 86.9052,86.6909,86.4779,86.3927,86.3849 ,86.3769,86.3687,86.3624,86.3581, 86.3537,86.3493,86.3449,86.3404,86.3359 ,86.3289,86.3242,86.3194,86.3146, 86.3097,86.3048,86.2972,86.292,86.2868, 86.2816,86.2737,86.2655,86.26,86.2544, 86.2487,86.2431,86.2372,86.2313,86.2254 ,86.2194,86.2134,86.204,86.1977,86.1914 ,86.185,86.1784,86.1717,86.1651,86.1584 ,86.1481,86.1411,86.1341,86.3659, 86.7338,86.9758,87.2845,87.6971,87.8688 ,87.866,87.871,87.8692,87.8695,87.8714, 87.8701,87.8642,87.8689,87.87,87.8695, 87.8685,87.868,87.8675,87.867,87.8664, 87.8659,87.8656,87.8653,87.865,87.8648, 87.8644,87.8642,87.8641,87.8641,87.8641 ,87.8641,87.8641,87.8641,87.8642, 87.8643,87.8643,87.8647,87.8649,87.8651 ,87.8654,87.8657,87.866,87.8663,87.8668 ,87.8672,87.8678,87.8686,87.8697, 87.7825)
ORBIT_NUMBER = 17782
ORBITAL_ECCENTRICITY = 0.576
ORBITAL_INCLINATION = 86.97
ORBITAL_SEMIMAJOR_AXIS = 8847.82
PERIAPSIS_ALTITUDE = 358.35
PERIAPSIS_ARGUMENT_ANGLE = 155.58
PERIAPSIS_TIME = 2018-01-18T17:10:43.000Z
SPACECRAFT_ORIENTATION = (0.0,-1.0,0.0)
^MEX_ORIENTATION_DESC = "MEX_ORIENTATION_DESC.TXT"
SPACECRAFT_POINTING_MODE = ACROSSTRACK
^MEX_POINTING_DESC = "MEX_POINTING_DESC.TXT"
RIGHT_ASCENSION = -1e+32
DECLINATION = -1e+32
OFFSET_ANGLE = 0.8
SPACECRAFT_SOLAR_DISTANCE = 2.41696e+08
TARGET_NAME = MARS
/* CAMERA DATA ELEMENTS */
DETECTOR_TEMPERATURE = 19.39
FOCAL_PLANE_TEMPERATURE = 9.3989
INST_CMPRS_NAME = "DISCRETE COSINE TRANSFORMATION (DCT)"
INST_CMPRS_RATIO = 10.0683
INST_CMPRS_QUALITY = 0
INST_CMPRS_QUANTZ_TBL_ID = 0
INSTRUMENT_TEMPERATURE = 12.2535
LENS_TEMPERATURE = 8.5833
MACROPIXEL_SIZE = 4
MISSING_FRAMES = 0
PIXEL_SUBSAMPLING_FLAG = N
SIGNAL_CHAIN_ID = 2
/* RADIOMETRIC DATA ELEMENTS */
BANDWIDTH = 48.0
CENTER_FILTER_WAVELENGTH = 748.0
RADIANCE_OFFSET = 0.322314
RADIANCE_SCALING_FACTOR = 0.00292294
REFLECTANCE_SCALING_FACTOR = 0.000389659
MEX:REFLECTANCE_OFFSET = 0.0429678
/* IMAGE OBJECT DEFINITIONS */
OBJECT = IMAGE
  INTERCHANGE_FORMAT = BINARY
  LINES = 11858
  LINE_SAMPLES = 2055
  SAMPLE_TYPE = UNSIGNED_INTEGER
  SAMPLE_BITS = 8
  BANDS = 1
  BAND_STORAGE_TYPE = BAND_SEQUENTIAL
  MAXIMUM = 255
  MEAN = 101.146
  MINIMUM = 1
  STANDARD_DEVIATION = 30.7462
END_OBJECT = IMAGE
/* MAP OBJECT DEFINITIONS */
OBJECT = IMAGE_MAP_PROJECTION
  ^DATA_SET_MAP_PROJECTION_CATALOG= "DSMAP.CAT"
  A_AXIS_RADIUS = 3396.0
  B_AXIS_RADIUS = 3396.0
  C_AXIS_RADIUS = 3396.0
  CENTER_LATITUDE = 0.0
  CENTER_LONGITUDE = 87.0
  COORDINATE_SYSTEM_NAME = PLANETOGRAPHIC
  COORDINATE_SYSTEM_TYPE = "BODY-FIXED ROTATING"
  EASTERNMOST_LONGITUDE = 87.87139999999999
  FIRST_STANDARD_PARALLEL = "N/A"
  LINE_FIRST_PIXEL = 1
  LINE_LAST_PIXEL = 11858
  LINE_PROJECTION_OFFSET = 13807.875
  MAP_PROJECTION_ROTATION = 0.0
  MAP_PROJECTION_TYPE = SINUSOIDAL
  MAP_RESOLUTION = 1185.42760773333
  MAP_SCALE = 0.05
  MAXIMUM_LATITUDE = 11.6631
  MINIMUM_LATITUDE = 1.66883
  POSITIVE_LONGITUDE_DIRECTION = EAST
  REFERENCE_LATITUDE = "N/A"
  REFERENCE_LONGITUDE = "N/A"
  SAMPLE_FIRST_PIXEL = 1
  SAMPLE_LAST_PIXEL = 2055
  SAMPLE_PROJECTION_OFFSET = 985.125
  SECOND_STANDARD_PARALLEL = "N/A"
  WESTERNMOST_LONGITUDE = 86.1341
END_OBJECT = IMAGE_MAP_PROJECTION
/* The JPEG2000 image data file associated with this label. */
OBJECT = COMPRESSED_FILE
  FILE_NAME = "HH782_0000_RE3.JP2"
  RECORD_TYPE = UNDEFINED
  FILE_RECORDS = UNK
  ENCODING_TYPE = "JP2"
  INTERCHANGE_FORMAT = BINARY
  UNCOMPRESSED_FILE_NAME = "HH782_0000_RE3.IMG"
  REQUIRED_STORAGE_BYTES = "24388740"
  ^DESCRIPTION = "JP2INFO.TXT"
END_OBJECT = COMPRESSED_FILE
END
