PDS_VERSION_ID = PDS3
/* FILE DATA ELEMENTS */
RECORD_TYPE = STREAM
/* POINTERS TO DATA OBJECTS */
^COMPRESSED_FILE = "HH785_0000_ND3.JP2"
/* IDENTIFICATION DATA ELEMENTS */
DATA_SET_ID = "MEX-M-HRSC-5-REFDR-MAPPROJECTED-V3.0"
DATA_SET_NAME = "MARS EXPRESS HRSC MAP PROJECTED REFDR V3.0"
DETECTOR_ID = MEX_HRSC_NADIR
EVENT_TYPE = "MARS-LOCAL-COLOR-Lc-La-Tc"
INSTRUMENT_HOST_ID = MEX
INSTRUMENT_HOST_NAME = "MARS EXPRESS"
INSTRUMENT_ID = HRSC
INSTRUMENT_NAME = "HIGH RESOLUTION STEREO CAMERA"
MISSION_NAME = "MARS EXPRESS"
MISSION_PHASE_NAME = ME_Phase_38
PROCESSING_LEVEL_ID = 3
PRODUCT_CREATION_TIME = 2018-09-04T13:05:27.000Z
PRODUCT_ID = "HH785_0000_ND3.JP2"
RELEASE_ID = 0140
REVISION_ID = 0000
/* QUALITY DATA ELEMENTS */
DATA_QUALITY_ID = 1
DATA_QUALITY_DESC = "Data calculated based on original SPICE kernels"
/* TIME DATA ELEMENTS */
SPACECRAFT_CLOCK_START_COUNT = "1/0464451393.07350"
SPACECRAFT_CLOCK_STOP_COUNT = "1/0464451582.40737"
START_TIME = 2018-01-19T14:17:31.843Z
STOP_TIME = 2018-01-19T14:18:41.823Z
/* ORBITAL DATA ELEMENTS */
ASCENDING_NODE_LONGITUDE = 240.21
MAXIMUM_RESOLUTION = 21.5
FOOTPRINT_POINT_LATITUDE = (-3.66846,-3.66592,-3.66336,-3.66072, -3.65802,-3.65532,-3.65252,-3.64971, -3.64684,-3.64392,-3.64094,-3.63791, -3.63482,-3.75207,-3.90938,-4.06658, -4.22362,-4.34143,-4.46105,-4.62064, -4.7801,-4.9394,-5.09855,-5.30106, -5.46291,-5.62455,-5.78605,-5.95021, -6.11435,-6.27828,-6.44201,-6.56626, -6.64949,-6.73267,-6.81579,-6.89885, -6.9819,-7.06489,-7.19008,-7.27447, -7.3588,-7.44307,-7.5273,-7.61149, -7.69562,-7.69841,-7.70048,-7.70252, -7.70453,-7.70651,-7.70847,-7.71042, -7.71332,-7.71519,-7.71821,-7.72004, -7.72186,-7.72363,-7.72536,-7.72749, -7.72919,-7.73089,-7.73257,-7.73464, -7.73781,-7.74052,-7.65718,-7.5728, -7.48836,-7.40387,-7.31933,-7.23473, -7.10927,-7.02607,-6.94282,-6.85952, -6.73449,-6.65114,-6.56761,-6.48469, -6.32043,-6.23826,-6.15606,-6.07382, -5.99155,-5.9092,-5.82696,-5.70555, -5.54363,-5.3815,-5.2191,-4.97825, -4.81856,-4.61875,-4.37903,-4.22169, -4.10363,-3.9461,-3.78842,-3.66846)
FOOTPRINT_POINT_LONGITUDE = (138.327,138.18,138.032,137.883,137.732 ,137.58,137.428,137.274,137.119,136.962 ,136.804,136.645,136.484,136.432, 136.426,136.421,136.416,136.416,136.412 ,136.403,136.396,136.389,136.383, 136.376,136.37,136.364,136.359,136.352, 136.346,136.339,136.332,136.325,136.321 ,136.317,136.313,136.309,136.305, 136.301,136.298,136.294,136.29,136.287, 136.283,136.28,136.277,136.365,136.454, 136.542,136.629,136.716,136.803,136.889 ,137.02,137.105,137.25,137.335,137.42, 137.504,137.588,137.693,137.777,137.86, 137.943,138.047,138.211,138.354,138.424 ,138.423,138.423,138.422,138.421,138.42 ,138.42,138.419,138.418,138.418,138.417 ,138.418,138.416,138.415,138.412, 138.411,138.411,138.41,138.41,138.409, 138.408,138.406,138.406,138.406,138.404 ,138.4,138.4,138.399,138.401,138.399, 138.398,138.397,138.396,138.327)
ORBIT_NUMBER = 17785
ORBITAL_ECCENTRICITY = 0.576
ORBITAL_INCLINATION = 86.95
ORBITAL_SEMIMAJOR_AXIS = 8843.46
PERIAPSIS_ALTITUDE = 359.69
PERIAPSIS_ARGUMENT_ANGLE = 155.09
PERIAPSIS_TIME = 2018-01-19T14:09:56.000Z
SPACECRAFT_ORIENTATION = (0.0,-1.0,0.0)
^MEX_ORIENTATION_DESC = "MEX_ORIENTATION_DESC.TXT"
SPACECRAFT_POINTING_MODE = ACROSSTRACK
^MEX_POINTING_DESC = "MEX_POINTING_DESC.TXT"
RIGHT_ASCENSION = -1e+32
DECLINATION = -1e+32
OFFSET_ANGLE = -1.7
SPACECRAFT_SOLAR_DISTANCE = 2.41573e+08
TARGET_NAME = MARS
/* CAMERA DATA ELEMENTS */
DETECTOR_TEMPERATURE = 18.5744
FOCAL_PLANE_TEMPERATURE = 8.5833
INST_CMPRS_NAME = "DISCRETE COSINE TRANSFORMATION (DCT)"
INST_CMPRS_RATIO = 6.04396
INST_CMPRS_QUALITY = 0
INST_CMPRS_QUANTZ_TBL_ID = 0
INSTRUMENT_TEMPERATURE = 12.0496
LENS_TEMPERATURE = 9.195
MACROPIXEL_SIZE = 1
MISSING_FRAMES = 0
PIXEL_SUBSAMPLING_FLAG = N
SIGNAL_CHAIN_ID = 0
/* RADIOMETRIC DATA ELEMENTS */
BANDWIDTH = 177.0
CENTER_FILTER_WAVELENGTH = 677.5
RADIANCE_OFFSET = 0.695952
RADIANCE_SCALING_FACTOR = 0.0115467
REFLECTANCE_SCALING_FACTOR = 0.000357962
MEX:REFLECTANCE_OFFSET = 0.0215753
/* IMAGE OBJECT DEFINITIONS */
OBJECT = IMAGE
  INTERCHANGE_FORMAT = BINARY
  LINES = 9739
  LINE_SAMPLES = 5304
  SAMPLE_TYPE = UNSIGNED_INTEGER
  SAMPLE_BITS = 8
  BANDS = 1
  BAND_STORAGE_TYPE = BAND_SEQUENTIAL
  MAXIMUM = 255
  MEAN = 77.0988
  MINIMUM = 1
  STANDARD_DEVIATION = 35.7588
END_OBJECT = IMAGE
/* MAP OBJECT DEFINITIONS */
OBJECT = IMAGE_MAP_PROJECTION
  ^DATA_SET_MAP_PROJECTION_CATALOG= "DSMAP.CAT"
  A_AXIS_RADIUS = 3396.0
  B_AXIS_RADIUS = 3396.0
  C_AXIS_RADIUS = 3396.0
  CENTER_LATITUDE = 0.0
  CENTER_LONGITUDE = 137.0
  COORDINATE_SYSTEM_NAME = PLANETOGRAPHIC
  COORDINATE_SYSTEM_TYPE = "BODY-FIXED ROTATING"
  EASTERNMOST_LONGITUDE = 138.424
  FIRST_STANDARD_PARALLEL = "N/A"
  LINE_FIRST_PIXEL = 1
  LINE_LAST_PIXEL = 9739
  LINE_PROJECTION_OFFSET = -8617.0
  MAP_PROJECTION_ROTATION = 0.0
  MAP_PROJECTION_TYPE = SINUSOIDAL
  MAP_RESOLUTION = 2370.85521546667
  MAP_SCALE = 0.025
  MAXIMUM_LATITUDE = -3.63482
  MINIMUM_LATITUDE = -7.74052
  POSITIVE_LONGITUDE_DIRECTION = EAST
  REFERENCE_LATITUDE = "N/A"
  REFERENCE_LONGITUDE = "N/A"
  SAMPLE_FIRST_PIXEL = 1
  SAMPLE_LAST_PIXEL = 5304
  SAMPLE_PROJECTION_OFFSET = 1955.0
  SECOND_STANDARD_PARALLEL = "N/A"
  WESTERNMOST_LONGITUDE = 136.277
END_OBJECT = IMAGE_MAP_PROJECTION
/* The JPEG2000 image data file associated with this label. */
OBJECT = COMPRESSED_FILE
  FILE_NAME = "HH785_0000_ND3.JP2"
  RECORD_TYPE = UNDEFINED
  FILE_RECORDS = UNK
  ENCODING_TYPE = "JP2"
  INTERCHANGE_FORMAT = BINARY
  UNCOMPRESSED_FILE_NAME = "HH785_0000_ND3.IMG"
  REQUIRED_STORAGE_BYTES = "51682176"
  ^DESCRIPTION = "JP2INFO.TXT"
END_OBJECT = COMPRESSED_FILE
END
