PDS_VERSION_ID = PDS3
/* FILE DATA ELEMENTS */
RECORD_TYPE = STREAM
/* POINTERS TO DATA OBJECTS */
^COMPRESSED_FILE = "HH786_0000_BL3.JP2"
/* IDENTIFICATION DATA ELEMENTS */
DATA_SET_ID = "MEX-M-HRSC-5-REFDR-MAPPROJECTED-V3.0"
DATA_SET_NAME = "MARS EXPRESS HRSC MAP PROJECTED REFDR V3.0"
DETECTOR_ID = MEX_HRSC_BLUE
EVENT_TYPE = "MARS-REGIONAL-MAPPING-Im-Fl"
INSTRUMENT_HOST_ID = MEX
INSTRUMENT_HOST_NAME = "MARS EXPRESS"
INSTRUMENT_ID = HRSC
INSTRUMENT_NAME = "HIGH RESOLUTION STEREO CAMERA"
MISSION_NAME = "MARS EXPRESS"
MISSION_PHASE_NAME = ME_Phase_38
PROCESSING_LEVEL_ID = 3
PRODUCT_CREATION_TIME = 2018-09-04T13:05:27.000Z
PRODUCT_ID = "HH786_0000_BL3.JP2"
RELEASE_ID = 0140
REVISION_ID = 0000
/* QUALITY DATA ELEMENTS */
DATA_QUALITY_ID = 1
DATA_QUALITY_DESC = "Data calculated based on original SPICE kernels"
/* TIME DATA ELEMENTS */
SPACECRAFT_CLOCK_START_COUNT = "1/0464476069.07353"
SPACECRAFT_CLOCK_STOP_COUNT = "1/0464476328.40778"
START_TIME = 2018-01-19T21:08:37.670Z
STOP_TIME = 2018-01-19T21:11:46.702Z
/* ORBITAL DATA ELEMENTS */
ASCENDING_NODE_LONGITUDE = 240.2
MAXIMUM_RESOLUTION = 57.7
FOOTPRINT_POINT_LATITUDE = (29.4084,29.4074,29.4061,29.4031, 29.4061,29.165,28.9241,28.5628,28.201, 27.9601,27.7189,27.4778,27.1163,26.875, 26.6338,26.3928,26.0311,25.7898,25.5487 ,25.3076,25.0662,24.8256,24.5843, 24.2229,23.9815,23.7408,23.4998,23.1386 ,22.8977,22.5366,22.2959,22.0555, 21.8156,21.5752,21.3351,21.0945,20.8544 ,20.6144,20.2545,20.0154,19.7756, 19.5354,19.2959,19.0565,18.8179,18.5782 ,18.3387,18.0998,17.8189,17.5343, 17.2225,17.2213,17.2198,17.2183,17.2169 ,17.502,17.7875,18.0727,18.4317,18.6711 ,18.9107,19.1506,19.5102,19.75,20.1098, 20.3498,20.5902,20.8302,21.0719,21.3124 ,21.5531,21.9128,22.1536,22.5149, 22.8763,23.1173,23.3585,23.5998,23.841, 24.0822,24.3233,24.6853,24.9266,25.1678 ,25.4092,25.7713,26.1341,26.3747, 26.6162,26.9784,27.2197,27.461,27.8232, 28.0646,28.3058,28.5472,28.9093,29.1506 ,29.3918,29.4084)
FOOTPRINT_POINT_LONGITUDE = (37.5592,37.2118,36.9581,36.5575, 36.3562,36.3607,36.3646,36.3701,36.376, 36.3794,36.383,36.3862,36.3906,36.3938, 36.3967,36.3992,36.4031,36.4058,36.408, 36.4103,36.4129,36.4141,36.4164,36.4188 ,36.421,36.4221,36.4235,36.4252,36.4264 ,36.4278,36.4288,36.4291,36.4286, 36.4289,36.4288,36.4295,36.4295,36.4291 ,36.4286,36.427,36.4265,36.4268,36.426, 36.425,36.4229,36.4226,36.4221,36.4208, 36.4191,36.4168,36.528,36.8815,37.1965, 37.4106,37.7675,37.7684,37.7697,37.7702 ,37.7714,37.7721,37.7729,37.7741, 37.7751,37.7756,37.7763,37.7769,37.7781 ,37.7783,37.7814,37.7822,37.7834, 37.7822,37.7834,37.7848,37.7862,37.787, 37.7882,37.7895,37.7905,37.7914,37.7922 ,37.7937,37.7946,37.7953,37.7963, 37.7977,37.8004,37.7997,37.8006,37.8022 ,37.8027,37.8034,37.8048,37.8056, 37.8061,37.8071,37.8084,37.8092,37.8098 ,37.5592)
ORBIT_NUMBER = 17786
ORBITAL_ECCENTRICITY = 0.576
ORBITAL_INCLINATION = 86.95
ORBITAL_SEMIMAJOR_AXIS = 8845.93
PERIAPSIS_ALTITUDE = 359.45
PERIAPSIS_ARGUMENT_ANGLE = 154.92
PERIAPSIS_TIME = 2018-01-19T21:09:40.000Z
SPACECRAFT_ORIENTATION = (0.0,-1.0,0.0)
^MEX_ORIENTATION_DESC = "MEX_ORIENTATION_DESC.TXT"
SPACECRAFT_POINTING_MODE = ACROSSTRACK
^MEX_POINTING_DESC = "MEX_POINTING_DESC.TXT"
RIGHT_ASCENSION = -1e+32
DECLINATION = -1e+32
OFFSET_ANGLE = 0.78
SPACECRAFT_SOLAR_DISTANCE = 2.41532e+08
TARGET_NAME = MARS
/* CAMERA DATA ELEMENTS */
DETECTOR_TEMPERATURE = 18.5744
FOCAL_PLANE_TEMPERATURE = 8.5833
INST_CMPRS_NAME = "DISCRETE COSINE TRANSFORMATION (DCT)"
INST_CMPRS_RATIO = 5.55063
INST_CMPRS_QUALITY = 0
INST_CMPRS_QUANTZ_TBL_ID = 0
INSTRUMENT_TEMPERATURE = 11.4379
LENS_TEMPERATURE = 9.195
MACROPIXEL_SIZE = 4
MISSING_FRAMES = 0
PIXEL_SUBSAMPLING_FLAG = N
SIGNAL_CHAIN_ID = 2
/* RADIOMETRIC DATA ELEMENTS */
BANDWIDTH = 76.0
CENTER_FILTER_WAVELENGTH = 444.0
RADIANCE_OFFSET = 0.294695
RADIANCE_SCALING_FACTOR = 0.00180982
REFLECTANCE_SCALING_FACTOR = 0.000108477
MEX:REFLECTANCE_OFFSET = 0.0176635
/* IMAGE OBJECT DEFINITIONS */
OBJECT = IMAGE
  INTERCHANGE_FORMAT = BINARY
  LINES = 14469
  LINE_SAMPLES = 1624
  SAMPLE_TYPE = UNSIGNED_INTEGER
  SAMPLE_BITS = 8
  BANDS = 1
  BAND_STORAGE_TYPE = BAND_SEQUENTIAL
  MAXIMUM = 255
  MEAN = 136.519
  MINIMUM = 1
  STANDARD_DEVIATION = 23.0218
END_OBJECT = IMAGE
/* MAP OBJECT DEFINITIONS */
OBJECT = IMAGE_MAP_PROJECTION
  ^DATA_SET_MAP_PROJECTION_CATALOG= "DSMAP.CAT"
  A_AXIS_RADIUS = 3396.0
  B_AXIS_RADIUS = 3396.0
  C_AXIS_RADIUS = 3396.0
  CENTER_LATITUDE = 0.0
  CENTER_LONGITUDE = 37.0
  COORDINATE_SYSTEM_NAME = PLANETOGRAPHIC
  COORDINATE_SYSTEM_TYPE = "BODY-FIXED ROTATING"
  EASTERNMOST_LONGITUDE = 37.8098
  FIRST_STANDARD_PARALLEL = "N/A"
  LINE_FIRST_PIXEL = 1
  LINE_LAST_PIXEL = 14469
  LINE_PROJECTION_OFFSET = 34878.625
  MAP_PROJECTION_ROTATION = 0.0
  MAP_PROJECTION_TYPE = SINUSOIDAL
  MAP_RESOLUTION = 1185.42760773333
  MAP_SCALE = 0.05
  MAXIMUM_LATITUDE = 29.4084
  MINIMUM_LATITUDE = 17.2169
  POSITIVE_LONGITUDE_DIRECTION = EAST
  REFERENCE_LATITUDE = "N/A"
  REFERENCE_LONGITUDE = "N/A"
  SAMPLE_FIRST_PIXEL = 1
  SAMPLE_LAST_PIXEL = 1624
  SAMPLE_PROJECTION_OFFSET = 711.375
  SECOND_STANDARD_PARALLEL = "N/A"
  WESTERNMOST_LONGITUDE = 36.3562
END_OBJECT = IMAGE_MAP_PROJECTION
/* The JPEG2000 image data file associated with this label. */
OBJECT = COMPRESSED_FILE
  FILE_NAME = "HH786_0000_BL3.JP2"
  RECORD_TYPE = UNDEFINED
  FILE_RECORDS = UNK
  ENCODING_TYPE = "JP2"
  INTERCHANGE_FORMAT = BINARY
  UNCOMPRESSED_FILE_NAME = "HH786_0000_BL3.IMG"
  REQUIRED_STORAGE_BYTES = "23517144"
  ^DESCRIPTION = "JP2INFO.TXT"
END_OBJECT = COMPRESSED_FILE
END
