PDS_VERSION_ID = PDS3
/* FILE DATA ELEMENTS */
RECORD_TYPE = STREAM
/* POINTERS TO DATA OBJECTS */
^COMPRESSED_FILE = "HH786_0000_GR3.JP2"
/* IDENTIFICATION DATA ELEMENTS */
DATA_SET_ID = "MEX-M-HRSC-5-REFDR-MAPPROJECTED-V3.0"
DATA_SET_NAME = "MARS EXPRESS HRSC MAP PROJECTED REFDR V3.0"
DETECTOR_ID = MEX_HRSC_GREEN
EVENT_TYPE = "MARS-REGIONAL-MAPPING-Im-Fl"
INSTRUMENT_HOST_ID = MEX
INSTRUMENT_HOST_NAME = "MARS EXPRESS"
INSTRUMENT_ID = HRSC
INSTRUMENT_NAME = "HIGH RESOLUTION STEREO CAMERA"
MISSION_NAME = "MARS EXPRESS"
MISSION_PHASE_NAME = ME_Phase_38
PROCESSING_LEVEL_ID = 3
PRODUCT_CREATION_TIME = 2018-09-04T13:05:27.000Z
PRODUCT_ID = "HH786_0000_GR3.JP2"
RELEASE_ID = 0140
REVISION_ID = 0000
/* QUALITY DATA ELEMENTS */
DATA_QUALITY_ID = 1
DATA_QUALITY_DESC = "Data calculated based on original SPICE kernels"
/* TIME DATA ELEMENTS */
SPACECRAFT_CLOCK_START_COUNT = "1/0464476069.07353"
SPACECRAFT_CLOCK_STOP_COUNT = "1/0464476328.40778"
START_TIME = 2018-01-19T21:08:26.348Z
STOP_TIME = 2018-01-19T21:11:35.209Z
/* ORBITAL DATA ELEMENTS */
ASCENDING_NODE_LONGITUDE = 240.2
MAXIMUM_RESOLUTION = 57.6
FOOTPRINT_POINT_LATITUDE = (29.4292,29.4286,29.4278,29.4252, 29.4159,29.1744,28.9326,28.6908,28.4487 ,28.207,27.965,27.6018,27.2386,26.9963, 26.7541,26.5117,26.2693,26.0269,25.6632 ,25.4208,25.1785,24.9357,24.693,24.4507 ,24.2077,23.844,23.6012,23.3587,23.1159 ,22.8733,22.6302,22.388,22.0238,21.7806 ,21.5379,21.295,21.0527,20.8099,20.5672 ,20.3245,20.0818,19.8388,19.5967, 19.3473,18.9834,18.7407,18.499,18.2568, 17.8935,17.651,17.409,17.2291,17.2286, 17.2276,17.2262,17.2244,17.4861,17.8493 ,18.0918,18.4554,18.698,18.9405,19.1829 ,19.5539,19.7968,20.0398,20.2826, 20.6468,21.0103,21.2533,21.4963,21.74, 22.1046,22.3476,22.7121,22.9551,23.3195 ,23.5623,23.8052,24.1697,24.4128, 24.7771,25.02,25.263,25.5057,25.7486, 25.9908,26.2339,26.5983,26.8408,27.0835 ,27.4474,27.6899,27.9322,28.1747,28.417 ,28.6591,28.9012,29.1433,29.4292)
FOOTPRINT_POINT_LONGITUDE = (37.6409,37.3323,37.1175,36.7152,36.352 ,36.3566,36.3607,36.3648,36.3683, 36.3726,36.3762,36.3815,36.3865,36.3896 ,36.3929,36.3957,36.3984,36.4012, 36.4051,36.4076,36.4104,36.4123,36.4141 ,36.4168,36.4178,36.4209,36.4222,36.424 ,36.4251,36.4263,36.4268,36.4286, 36.4294,36.429,36.4296,36.4296,36.4306, 36.4304,36.4302,36.43,36.4295,36.4283, 36.4286,36.4279,36.4263,36.4247,36.4251 ,36.4241,36.4224,36.4202,36.419,36.6559 ,36.8441,37.1324,37.3831,37.7631, 37.7639,37.7656,37.7661,37.7676,37.7685 ,37.7693,37.7708,37.7719,37.7725, 37.7731,37.7739,37.7756,37.7787,37.7797 ,37.7806,37.7801,37.7814,37.7824,37.784 ,37.7851,37.7867,37.7882,37.7894,37.791 ,37.7919,37.7936,37.7947,37.7956, 37.7969,37.7978,37.8001,37.8005,37.8013 ,37.8025,37.8033,37.8046,37.8055, 37.8067,37.8075,37.8083,37.8095,37.8105 ,37.8114,37.6409)
ORBIT_NUMBER = 17786
ORBITAL_ECCENTRICITY = 0.576
ORBITAL_INCLINATION = 86.95
ORBITAL_SEMIMAJOR_AXIS = 8845.93
PERIAPSIS_ALTITUDE = 359.45
PERIAPSIS_ARGUMENT_ANGLE = 154.92
PERIAPSIS_TIME = 2018-01-19T21:09:40.000Z
SPACECRAFT_ORIENTATION = (0.0,-1.0,0.0)
^MEX_ORIENTATION_DESC = "MEX_ORIENTATION_DESC.TXT"
SPACECRAFT_POINTING_MODE = ACROSSTRACK
^MEX_POINTING_DESC = "MEX_POINTING_DESC.TXT"
RIGHT_ASCENSION = -1e+32
DECLINATION = -1e+32
OFFSET_ANGLE = 0.78
SPACECRAFT_SOLAR_DISTANCE = 2.41532e+08
TARGET_NAME = MARS
/* CAMERA DATA ELEMENTS */
DETECTOR_TEMPERATURE = 18.5744
FOCAL_PLANE_TEMPERATURE = 8.5833
INST_CMPRS_NAME = "DISCRETE COSINE TRANSFORMATION (DCT)"
INST_CMPRS_RATIO = 11.0723
INST_CMPRS_QUALITY = 0
INST_CMPRS_QUANTZ_TBL_ID = 0
INSTRUMENT_TEMPERATURE = 11.4379
LENS_TEMPERATURE = 9.195
MACROPIXEL_SIZE = 4
MISSING_FRAMES = 1
PIXEL_SUBSAMPLING_FLAG = N
SIGNAL_CHAIN_ID = 2
/* RADIOMETRIC DATA ELEMENTS */
BANDWIDTH = 88.0
CENTER_FILTER_WAVELENGTH = 538.0
RADIANCE_OFFSET = 0.697133
RADIANCE_SCALING_FACTOR = 0.00460439
REFLECTANCE_SCALING_FACTOR = 0.000231265
MEX:REFLECTANCE_OFFSET = 0.035015
/* IMAGE OBJECT DEFINITIONS */
OBJECT = IMAGE
  INTERCHANGE_FORMAT = BINARY
  LINES = 14469
  LINE_SAMPLES = 1624
  SAMPLE_TYPE = UNSIGNED_INTEGER
  SAMPLE_BITS = 8
  BANDS = 1
  BAND_STORAGE_TYPE = BAND_SEQUENTIAL
  MAXIMUM = 255
  MEAN = 132.727
  MINIMUM = 1
  STANDARD_DEVIATION = 18.2871
END_OBJECT = IMAGE
/* MAP OBJECT DEFINITIONS */
OBJECT = IMAGE_MAP_PROJECTION
  ^DATA_SET_MAP_PROJECTION_CATALOG= "DSMAP.CAT"
  A_AXIS_RADIUS = 3396.0
  B_AXIS_RADIUS = 3396.0
  C_AXIS_RADIUS = 3396.0
  CENTER_LATITUDE = 0.0
  CENTER_LONGITUDE = 37.0
  COORDINATE_SYSTEM_NAME = PLANETOGRAPHIC
  COORDINATE_SYSTEM_TYPE = "BODY-FIXED ROTATING"
  EASTERNMOST_LONGITUDE = 37.8114
  FIRST_STANDARD_PARALLEL = "N/A"
  LINE_FIRST_PIXEL = 1
  LINE_LAST_PIXEL = 14469
  LINE_PROJECTION_OFFSET = 34878.625
  MAP_PROJECTION_ROTATION = 0.0
  MAP_PROJECTION_TYPE = SINUSOIDAL
  MAP_RESOLUTION = 1185.42760773333
  MAP_SCALE = 0.05
  MAXIMUM_LATITUDE = 29.4292
  MINIMUM_LATITUDE = 17.2244
  POSITIVE_LONGITUDE_DIRECTION = EAST
  REFERENCE_LATITUDE = "N/A"
  REFERENCE_LONGITUDE = "N/A"
  SAMPLE_FIRST_PIXEL = 1
  SAMPLE_LAST_PIXEL = 1624
  SAMPLE_PROJECTION_OFFSET = 711.375
  SECOND_STANDARD_PARALLEL = "N/A"
  WESTERNMOST_LONGITUDE = 36.352
END_OBJECT = IMAGE_MAP_PROJECTION
/* The JPEG2000 image data file associated with this label. */
OBJECT = COMPRESSED_FILE
  FILE_NAME = "HH786_0000_GR3.JP2"
  RECORD_TYPE = UNDEFINED
  FILE_RECORDS = UNK
  ENCODING_TYPE = "JP2"
  INTERCHANGE_FORMAT = BINARY
  UNCOMPRESSED_FILE_NAME = "HH786_0000_GR3.IMG"
  REQUIRED_STORAGE_BYTES = "23517144"
  ^DESCRIPTION = "JP2INFO.TXT"
END_OBJECT = COMPRESSED_FILE
END
