PDS_VERSION_ID = PDS3
/* FILE DATA ELEMENTS */
RECORD_TYPE = STREAM
/* POINTERS TO DATA OBJECTS */
^COMPRESSED_FILE = "HH792_0000_BL3.JP2"
/* IDENTIFICATION DATA ELEMENTS */
DATA_SET_ID = "MEX-M-HRSC-5-REFDR-MAPPROJECTED-V3.0"
DATA_SET_NAME = "MARS EXPRESS HRSC MAP PROJECTED REFDR V3.0"
DETECTOR_ID = MEX_HRSC_BLUE
EVENT_TYPE = "MARS-LOCAL-MAPPING-Vo-Te-Fl"
INSTRUMENT_HOST_ID = MEX
INSTRUMENT_HOST_NAME = "MARS EXPRESS"
INSTRUMENT_ID = HRSC
INSTRUMENT_NAME = "HIGH RESOLUTION STEREO CAMERA"
MISSION_NAME = "MARS EXPRESS"
MISSION_PHASE_NAME = ME_Phase_38
PROCESSING_LEVEL_ID = 3
PRODUCT_CREATION_TIME = 2018-09-04T13:05:27.000Z
PRODUCT_ID = "HH792_0000_BL3.JP2"
RELEASE_ID = 0140
REVISION_ID = 0000
/* QUALITY DATA ELEMENTS */
DATA_QUALITY_ID = 1
DATA_QUALITY_DESC = "Data calculated based on original SPICE kernels"
/* TIME DATA ELEMENTS */
SPACECRAFT_CLOCK_START_COUNT = "1/0464627121.07340"
SPACECRAFT_CLOCK_STOP_COUNT = "1/0464627250.56770"
START_TIME = 2018-01-21T15:06:09.018Z
STOP_TIME = 2018-01-21T15:07:10.909Z
/* ORBITAL DATA ELEMENTS */
ASCENDING_NODE_LONGITUDE = 240.08
MAXIMUM_RESOLUTION = 57.5
FOOTPRINT_POINT_LATITUDE = (29.2503,29.2502,29.2501,29.2496, 29.2491,29.2484,29.2478,29.2466,29.2458 ,29.2449,29.2434,29.1294,29.0507,28.972 ,28.8933,28.7753,28.618,28.5394,28.4607 ,28.382,28.3033,28.1853,28.1066,27.9886 ,27.9099,27.8312,27.7525,27.6345, 27.4781,27.3205,27.2413,27.084,26.9278, 26.8092,26.73,26.6513,26.4941,26.4154, 26.2975,26.1403,25.9046,25.6688,25.5115 ,25.3545,25.2486,25.2492,25.2498, 25.2502,25.2508,25.251,25.2511,25.2511, 25.2509,25.2508,25.2505,25.2501,25.3295 ,25.4081,25.4868,25.6049,25.6836, 25.7623,25.8409,25.9982,26.1162,26.1949 ,26.2737,26.3524,26.4311,26.5099, 26.5886,26.6673,26.7461,26.8248,26.9036 ,26.9824,27.0611,27.1792,27.2579, 27.3367,27.4549,27.5338,27.6519,27.77, 27.8487,27.9275,28.0457,28.1639,28.2427 ,28.3214,28.4002,28.479,28.5577,28.6365 ,28.7547,28.8335,28.9122,28.991,29.1093 ,29.2503)
FOOTPRINT_POINT_LONGITUDE = (144.206,144.099,143.993,143.807, 143.647,143.501,143.394,143.208,143.102 ,142.995,142.836,142.798,142.799, 142.801,142.802,142.804,142.807,142.808 ,142.809,142.811,142.812,142.814, 142.815,142.817,142.818,142.82,142.821, 142.822,142.823,142.826,142.827,142.83, 142.83,142.832,142.834,142.835,142.837, 142.838,142.839,142.84,142.843,142.845, 142.846,142.847,142.848,142.95,143.066, 143.169,143.349,143.452,143.632,143.76, 143.863,143.966,144.055,144.196,144.226 ,144.227,144.227,144.227,144.228, 144.228,144.228,144.228,144.229,144.229 ,144.229,144.23,144.23,144.23,144.23, 144.231,144.231,144.231,144.232,144.232 ,144.232,144.233,144.233,144.233, 144.234,144.234,144.235,144.235,144.235 ,144.236,144.236,144.237,144.237, 144.237,144.237,144.238,144.238,144.238 ,144.239,144.239,144.239,144.24,144.24, 144.206)
ORBIT_NUMBER = 17792
ORBITAL_ECCENTRICITY = 0.575
ORBITAL_INCLINATION = 86.95
ORBITAL_SEMIMAJOR_AXIS = 8832.84
PERIAPSIS_ALTITUDE = 360.52
PERIAPSIS_ARGUMENT_ANGLE = 153.88
PERIAPSIS_TIME = 2018-01-21T15:06:52.000Z
SPACECRAFT_ORIENTATION = (0.0,-1.0,0.0)
^MEX_ORIENTATION_DESC = "MEX_ORIENTATION_DESC.TXT"
SPACECRAFT_POINTING_MODE = ACROSSTRACK
^MEX_POINTING_DESC = "MEX_POINTING_DESC.TXT"
RIGHT_ASCENSION = -1e+32
DECLINATION = -1e+32
OFFSET_ANGLE = -0.269
SPACECRAFT_SOLAR_DISTANCE = 2.41283e+08
TARGET_NAME = MARS
/* CAMERA DATA ELEMENTS */
DETECTOR_TEMPERATURE = 18.3705
FOCAL_PLANE_TEMPERATURE = 8.1755
INST_CMPRS_NAME = "DISCRETE COSINE TRANSFORMATION (DCT)"
INST_CMPRS_RATIO = 5.43834
INST_CMPRS_QUALITY = 0
INST_CMPRS_QUANTZ_TBL_ID = 0
INSTRUMENT_TEMPERATURE = 11.4379
LENS_TEMPERATURE = 8.5833
MACROPIXEL_SIZE = 4
MISSING_FRAMES = 0
PIXEL_SUBSAMPLING_FLAG = N
SIGNAL_CHAIN_ID = 2
/* RADIOMETRIC DATA ELEMENTS */
BANDWIDTH = 76.0
CENTER_FILTER_WAVELENGTH = 444.0
RADIANCE_OFFSET = 0.464543
RADIANCE_SCALING_FACTOR = 0.00218609
REFLECTANCE_SCALING_FACTOR = 0.00013076
MEX:REFLECTANCE_OFFSET = 0.0277866
/* IMAGE OBJECT DEFINITIONS */
OBJECT = IMAGE
  INTERCHANGE_FORMAT = BINARY
  LINES = 4753
  LINE_SAMPLES = 1585
  SAMPLE_TYPE = UNSIGNED_INTEGER
  SAMPLE_BITS = 8
  BANDS = 1
  BAND_STORAGE_TYPE = BAND_SEQUENTIAL
  MAXIMUM = 255
  MEAN = 127.741
  MINIMUM = 1
  STANDARD_DEVIATION = 32.2067
END_OBJECT = IMAGE
/* MAP OBJECT DEFINITIONS */
OBJECT = IMAGE_MAP_PROJECTION
  ^DATA_SET_MAP_PROJECTION_CATALOG= "DSMAP.CAT"
  A_AXIS_RADIUS = 3396.0
  B_AXIS_RADIUS = 3396.0
  C_AXIS_RADIUS = 3396.0
  CENTER_LATITUDE = 0.0
  CENTER_LONGITUDE = 144.0
  COORDINATE_SYSTEM_NAME = PLANETOGRAPHIC
  COORDINATE_SYSTEM_TYPE = "BODY-FIXED ROTATING"
  EASTERNMOST_LONGITUDE = 144.24
  FIRST_STANDARD_PARALLEL = "N/A"
  LINE_FIRST_PIXEL = 1
  LINE_LAST_PIXEL = 4753
  LINE_PROJECTION_OFFSET = 34688.125
  MAP_PROJECTION_ROTATION = 0.0
  MAP_PROJECTION_TYPE = SINUSOIDAL
  MAP_RESOLUTION = 1185.42760773333
  MAP_SCALE = 0.05
  MAXIMUM_LATITUDE = 29.2503
  MINIMUM_LATITUDE = 25.2486
  POSITIVE_LONGITUDE_DIRECTION = EAST
  REFERENCE_LATITUDE = "N/A"
  REFERENCE_LONGITUDE = "N/A"
  SAMPLE_FIRST_PIXEL = 1
  SAMPLE_LAST_PIXEL = 1585
  SAMPLE_PROJECTION_OFFSET = 1294.125
  SECOND_STANDARD_PARALLEL = "N/A"
  WESTERNMOST_LONGITUDE = 142.798
END_OBJECT = IMAGE_MAP_PROJECTION
/* The JPEG2000 image data file associated with this label. */
OBJECT = COMPRESSED_FILE
  FILE_NAME = "HH792_0000_BL3.JP2"
  RECORD_TYPE = UNDEFINED
  FILE_RECORDS = UNK
  ENCODING_TYPE = "JP2"
  INTERCHANGE_FORMAT = BINARY
  UNCOMPRESSED_FILE_NAME = "HH792_0000_BL3.IMG"
  REQUIRED_STORAGE_BYTES = "7552525"
  ^DESCRIPTION = "JP2INFO.TXT"
END_OBJECT = COMPRESSED_FILE
END
