PDS_VERSION_ID = PDS3
/* FILE DATA ELEMENTS */
RECORD_TYPE = STREAM
/* POINTERS TO DATA OBJECTS */
^COMPRESSED_FILE = "HH794_0000_S13.JP2"
/* IDENTIFICATION DATA ELEMENTS */
DATA_SET_ID = "MEX-M-HRSC-5-REFDR-MAPPROJECTED-V3.0"
DATA_SET_NAME = "MARS EXPRESS HRSC MAP PROJECTED REFDR V3.0"
DETECTOR_ID = MEX_HRSC_S1
EVENT_TYPE = "MARS-REGIONAL-MAPPING-Fl-Gl"
INSTRUMENT_HOST_ID = MEX
INSTRUMENT_HOST_NAME = "MARS EXPRESS"
INSTRUMENT_ID = HRSC
INSTRUMENT_NAME = "HIGH RESOLUTION STEREO CAMERA"
MISSION_NAME = "MARS EXPRESS"
MISSION_PHASE_NAME = ME_Phase_38
PROCESSING_LEVEL_ID = 3
PRODUCT_CREATION_TIME = 2018-09-04T13:05:27.000Z
PRODUCT_ID = "HH794_0000_S13.JP2"
RELEASE_ID = 0140
REVISION_ID = 0000
/* QUALITY DATA ELEMENTS */
DATA_QUALITY_ID = 1
DATA_QUALITY_DESC = "Data calculated based on original SPICE kernels"
/* TIME DATA ELEMENTS */
SPACECRAFT_CLOCK_START_COUNT = "1/0464677354.09049"
SPACECRAFT_CLOCK_STOP_COUNT = "1/0464677611.16538"
START_TIME = 2018-01-22T05:02:43.305Z
STOP_TIME = 2018-01-22T05:05:52.367Z
/* ORBITAL DATA ELEMENTS */
ASCENDING_NODE_LONGITUDE = 240.05
MAXIMUM_RESOLUTION = 30.7
FOOTPRINT_POINT_LATITUDE = (33.648,33.6455,33.6422,33.6389,33.6348 ,33.4511,33.0468,32.7768,32.5062, 32.0969,31.684,31.2758,31.0033,30.6053, 30.3767,30.1476,29.9179,29.6887,29.4589 ,29.1136,28.8833,28.6527,28.422,28.1911 ,27.9596,27.6125,27.3796,27.1493, 26.9133,26.6845,26.4498,26.2187,25.9865 ,25.6385,25.4062,25.1703,24.9341, 24.7059,24.4706,24.2414,24.0054,23.6517 ,23.4213,23.1879,22.9603,22.7296,22.495 ,22.1426,21.9075,21.6723,21.5366, 21.5374,21.5357,21.6523,21.8877,22.2406 ,22.4757,22.8279,23.0597,23.2885, 23.6379,23.8709,24.1028,24.3339,24.5696 ,24.8061,25.0335,25.3885,25.739,25.9744 ,26.207,26.4502,26.8037,27.0353,27.2551 ,27.4869,27.7201,27.9512,28.1822, 28.4127,28.6435,28.8687,29.0968,29.3297 ,29.6775,29.9081,30.1387,30.3687, 30.5982,30.9934,31.2664,31.5427,31.8209 ,32.0941,32.3649,32.6357,32.9064, 33.1767,33.4466,33.648)
FOOTPRINT_POINT_LONGITUDE = (299.823,299.394,299.073,298.828, 298.583,298.353,298.366,298.374,298.382 ,298.393,298.402,298.412,298.419, 298.428,298.433,298.438,298.443,298.448 ,298.453,298.459,298.463,298.467, 298.471,298.475,298.479,298.484,298.487 ,298.491,298.492,298.496,298.499, 298.502,298.504,298.508,298.511,298.512 ,298.513,298.517,298.518,298.521, 298.522,298.524,298.526,298.527,298.531 ,298.533,298.534,298.535,298.535, 298.536,298.879,299.222,299.684,299.901 ,299.902,299.903,299.904,299.906, 299.908,299.911,299.914,299.915,299.917 ,299.919,299.92,299.92,299.923,299.923, 299.925,299.925,299.926,299.924,299.924 ,299.925,299.931,299.932,299.933, 299.934,299.935,299.937,299.938,299.941 ,299.943,299.944,299.945,299.946, 299.947,299.948,299.949,299.951,299.952 ,299.952,299.952,299.953,299.954, 299.956,299.958,299.959,299.961, 299.823)
ORBIT_NUMBER = 17794
ORBITAL_ECCENTRICITY = 0.575
ORBITAL_INCLINATION = 86.96
ORBITAL_SEMIMAJOR_AXIS = 8831.73
PERIAPSIS_ALTITUDE = 360.32
PERIAPSIS_ARGUMENT_ANGLE = 153.54
PERIAPSIS_TIME = 2018-01-22T05:05:09.000Z
SPACECRAFT_ORIENTATION = (0.0,-1.0,0.0)
^MEX_ORIENTATION_DESC = "MEX_ORIENTATION_DESC.TXT"
SPACECRAFT_POINTING_MODE = NADIR
^MEX_POINTING_DESC = "MEX_POINTING_DESC.TXT"
RIGHT_ASCENSION = -1e+32
DECLINATION = -1e+32
OFFSET_ANGLE = -1e+32
SPACECRAFT_SOLAR_DISTANCE = 2.41199e+08
TARGET_NAME = MARS
/* CAMERA DATA ELEMENTS */
DETECTOR_TEMPERATURE = 17.5549
FOCAL_PLANE_TEMPERATURE = 8.5833
INST_CMPRS_NAME = "DISCRETE COSINE TRANSFORMATION (DCT)"
INST_CMPRS_RATIO = 6.16388
INST_CMPRS_QUALITY = 0
INST_CMPRS_QUANTZ_TBL_ID = 0
INSTRUMENT_TEMPERATURE = 10.6223
LENS_TEMPERATURE = 9.195
MACROPIXEL_SIZE = 2
MISSING_FRAMES = 0
PIXEL_SUBSAMPLING_FLAG = N
SIGNAL_CHAIN_ID = 1
/* RADIOMETRIC DATA ELEMENTS */
BANDWIDTH = 180.0
CENTER_FILTER_WAVELENGTH = 677.0
RADIANCE_OFFSET = 1.34242
RADIANCE_SCALING_FACTOR = 0.0244639
REFLECTANCE_SCALING_FACTOR = 0.000742538
MEX:REFLECTANCE_OFFSET = 0.0407456
/* IMAGE OBJECT DEFINITIONS */
OBJECT = IMAGE
  INTERCHANGE_FORMAT = BINARY
  LINES = 28624
  LINE_SAMPLES = 3386
  SAMPLE_TYPE = UNSIGNED_INTEGER
  SAMPLE_BITS = 8
  BANDS = 1
  BAND_STORAGE_TYPE = BAND_SEQUENTIAL
  MAXIMUM = 255
  MEAN = 76.4823
  MINIMUM = 1
  STANDARD_DEVIATION = 25.179
END_OBJECT = IMAGE
/* MAP OBJECT DEFINITIONS */
OBJECT = IMAGE_MAP_PROJECTION
  ^DATA_SET_MAP_PROJECTION_CATALOG= "DSMAP.CAT"
  A_AXIS_RADIUS = 3396.0
  B_AXIS_RADIUS = 3396.0
  C_AXIS_RADIUS = 3396.0
  CENTER_LATITUDE = 0.0
  CENTER_LONGITUDE = 299.0
  COORDINATE_SYSTEM_NAME = PLANETOGRAPHIC
  COORDINATE_SYSTEM_TYPE = "BODY-FIXED ROTATING"
  EASTERNMOST_LONGITUDE = 299.961
  FIRST_STANDARD_PARALLEL = "N/A"
  LINE_FIRST_PIXEL = 1
  LINE_LAST_PIXEL = 28624
  LINE_PROJECTION_OFFSET = 79676.75
  MAP_PROJECTION_ROTATION = 0.0
  MAP_PROJECTION_TYPE = SINUSOIDAL
  MAP_RESOLUTION = 2370.85521546667
  MAP_SCALE = 0.025
  MAXIMUM_LATITUDE = 33.648
  MINIMUM_LATITUDE = 21.5357
  POSITIVE_LONGITUDE_DIRECTION = EAST
  REFERENCE_LATITUDE = "N/A"
  REFERENCE_LONGITUDE = "N/A"
  SAMPLE_FIRST_PIXEL = 1
  SAMPLE_LAST_PIXEL = 3386
  SAMPLE_PROJECTION_OFFSET = 1315.25
  SECOND_STANDARD_PARALLEL = "N/A"
  WESTERNMOST_LONGITUDE = 298.353
END_OBJECT = IMAGE_MAP_PROJECTION
/* The JPEG2000 image data file associated with this label. */
OBJECT = COMPRESSED_FILE
  FILE_NAME = "HH794_0000_S13.JP2"
  RECORD_TYPE = UNDEFINED
  FILE_RECORDS = UNK
  ENCODING_TYPE = "JP2"
  INTERCHANGE_FORMAT = BINARY
  UNCOMPRESSED_FILE_NAME = "HH794_0000_S13.IMG"
  REQUIRED_STORAGE_BYTES = "96944566"
  ^DESCRIPTION = "JP2INFO.TXT"
END_OBJECT = COMPRESSED_FILE
END
