PDS_VERSION_ID = PDS3
/* FILE DATA ELEMENTS */
RECORD_TYPE = STREAM
/* POINTERS TO DATA OBJECTS */
^COMPRESSED_FILE = "HH795_0000_P13.JP2"
/* IDENTIFICATION DATA ELEMENTS */
DATA_SET_ID = "MEX-M-HRSC-5-REFDR-MAPPROJECTED-V3.0"
DATA_SET_NAME = "MARS EXPRESS HRSC MAP PROJECTED REFDR V3.0"
DETECTOR_ID = MEX_HRSC_P1
EVENT_TYPE = "MARS-REGIONAL-VARIABLE-Eo-At-Sh"
INSTRUMENT_HOST_ID = MEX
INSTRUMENT_HOST_NAME = "MARS EXPRESS"
INSTRUMENT_ID = HRSC
INSTRUMENT_NAME = "HIGH RESOLUTION STEREO CAMERA"
MISSION_NAME = "MARS EXPRESS"
MISSION_PHASE_NAME = ME_Phase_38
PROCESSING_LEVEL_ID = 3
PRODUCT_CREATION_TIME = 2018-09-04T13:05:27.000Z
PRODUCT_ID = "HH795_0000_P13.JP2"
RELEASE_ID = 0140
REVISION_ID = 0000
/* QUALITY DATA ELEMENTS */
DATA_QUALITY_ID = 1
DATA_QUALITY_DESC = "Data calculated based on original SPICE kernels"
/* TIME DATA ELEMENTS */
SPACECRAFT_CLOCK_START_COUNT = "1/0464702420.08296"
SPACECRAFT_CLOCK_STOP_COUNT = "1/0464702616.33597"
START_TIME = 2018-01-22T12:00:42.648Z
STOP_TIME = 2018-01-22T12:02:49.137Z
/* ORBITAL DATA ELEMENTS */
ASCENDING_NODE_LONGITUDE = 240.03
MAXIMUM_RESOLUTION = 30.6
FOOTPRINT_POINT_LATITUDE = (38.5486,38.5451,38.5416,38.5378, 38.5329,38.5279,38.5215,38.2331,37.9148 ,37.596,37.4364,37.2767,37.1169,36.8769 ,36.7168,36.5565,36.3962,36.2357, 36.0751,35.9144,35.7536,35.5927,35.4317 ,35.2705,35.1092,34.9478,34.7863, 34.6248,34.4631,34.3013,34.1394,33.9774 ,33.8154,33.6532,33.4909,33.3285,33.166 ,33.0034,32.8407,32.6779,32.5151, 32.2666,32.1035,31.9403,31.777,31.4585, 31.1844,30.9101,30.6355,30.5335,30.5361 ,30.538,30.5398,30.5406,30.5412,30.8162 ,31.0224,31.3657,31.6643,31.8279, 31.9914,32.1549,32.3183,32.4856,32.6488 ,32.8119,32.9749,33.1378,33.3006, 33.4633,33.6259,33.7885,33.9509,34.1132 ,34.2755,34.4377,34.5998,34.7618, 34.9237,35.0854,35.247,35.4085,35.5699, 35.7312,35.8924,36.0534,36.2144,36.3753 ,36.5361,36.6967,36.8573,37.0177,37.178 ,37.3383,37.4984,37.6584,37.8182,37.978 ,38.2971,38.5486)
FOOTPRINT_POINT_LONGITUDE = (197.812,197.385,197.094,196.838, 196.565,196.326,196.052,196.031,196.047 ,196.061,196.069,196.076,196.083, 196.093,196.1,196.107,196.113,196.12, 196.126,196.132,196.139,196.145,196.151 ,196.157,196.163,196.168,196.174,196.18 ,196.185,196.191,196.196,196.201, 196.206,196.212,196.217,196.221,196.226 ,196.231,196.236,196.24,196.245,196.252 ,196.256,196.26,196.264,196.272,196.279 ,196.285,196.291,196.616,196.85,197.07, 197.378,197.612,197.808,197.81,197.811, 197.812,197.813,197.814,197.815,197.816 ,197.816,197.817,197.818,197.818, 197.819,197.82,197.821,197.821,197.822, 197.823,197.823,197.824,197.825,197.825 ,197.826,197.827,197.827,197.828, 197.829,197.829,197.83,197.831,197.831, 197.832,197.833,197.833,197.834,197.835 ,197.835,197.836,197.837,197.837, 197.838,197.839,197.839,197.84,197.841, 197.812)
ORBIT_NUMBER = 17795
ORBITAL_ECCENTRICITY = 0.575
ORBITAL_INCLINATION = 86.96
ORBITAL_SEMIMAJOR_AXIS = 8827.09
PERIAPSIS_ALTITUDE = 360.48
PERIAPSIS_ARGUMENT_ANGLE = 153.34
PERIAPSIS_TIME = 2018-01-22T12:04:12.000Z
SPACECRAFT_ORIENTATION = (0.0,-1.0,0.0)
^MEX_ORIENTATION_DESC = "MEX_ORIENTATION_DESC.TXT"
SPACECRAFT_POINTING_MODE = NADIR
^MEX_POINTING_DESC = "MEX_POINTING_DESC.TXT"
RIGHT_ASCENSION = -1e+32
DECLINATION = -1e+32
OFFSET_ANGLE = -1e+32
SPACECRAFT_SOLAR_DISTANCE = 2.41157e+08
TARGET_NAME = MARS
/* CAMERA DATA ELEMENTS */
DETECTOR_TEMPERATURE = 17.5549
FOCAL_PLANE_TEMPERATURE = 8.5833
INST_CMPRS_NAME = "DISCRETE COSINE TRANSFORMATION (DCT)"
INST_CMPRS_RATIO = 8.84975
INST_CMPRS_QUALITY = 0
INST_CMPRS_QUANTZ_TBL_ID = 0
INSTRUMENT_TEMPERATURE = 11.4379
LENS_TEMPERATURE = 8.7872
MACROPIXEL_SIZE = 2
MISSING_FRAMES = 1
PIXEL_SUBSAMPLING_FLAG = N
SIGNAL_CHAIN_ID = 3
/* RADIOMETRIC DATA ELEMENTS */
BANDWIDTH = 174.0
CENTER_FILTER_WAVELENGTH = 675.0
RADIANCE_OFFSET = 2.52207
RADIANCE_SCALING_FACTOR = 0.0112219
REFLECTANCE_SCALING_FACTOR = 0.000351036
MEX:REFLECTANCE_OFFSET = 0.0788939
/* IMAGE OBJECT DEFINITIONS */
OBJECT = IMAGE
  INTERCHANGE_FORMAT = BINARY
  LINES = 18888
  LINE_SAMPLES = 3510
  SAMPLE_TYPE = UNSIGNED_INTEGER
  SAMPLE_BITS = 8
  BANDS = 1
  BAND_STORAGE_TYPE = BAND_SEQUENTIAL
  MAXIMUM = 255
  MEAN = 133.314
  MINIMUM = 1
  STANDARD_DEVIATION = 36.0569
END_OBJECT = IMAGE
/* MAP OBJECT DEFINITIONS */
OBJECT = IMAGE_MAP_PROJECTION
  ^DATA_SET_MAP_PROJECTION_CATALOG= "DSMAP.CAT"
  A_AXIS_RADIUS = 3396.0
  B_AXIS_RADIUS = 3396.0
  C_AXIS_RADIUS = 3396.0
  CENTER_LATITUDE = 0.0
  CENTER_LONGITUDE = 197.0
  COORDINATE_SYSTEM_NAME = PLANETOGRAPHIC
  COORDINATE_SYSTEM_TYPE = "BODY-FIXED ROTATING"
  EASTERNMOST_LONGITUDE = 197.841
  FIRST_STANDARD_PARALLEL = "N/A"
  LINE_FIRST_PIXEL = 1
  LINE_LAST_PIXEL = 18888
  LINE_PROJECTION_OFFSET = 91313.25
  MAP_PROJECTION_ROTATION = 0.0
  MAP_PROJECTION_TYPE = SINUSOIDAL
  MAP_RESOLUTION = 2370.85521546667
  MAP_SCALE = 0.025
  MAXIMUM_LATITUDE = 38.5486
  MINIMUM_LATITUDE = 30.5335
  POSITIVE_LONGITUDE_DIRECTION = EAST
  REFERENCE_LATITUDE = "N/A"
  REFERENCE_LONGITUDE = "N/A"
  SAMPLE_FIRST_PIXEL = 1
  SAMPLE_LAST_PIXEL = 3510
  SAMPLE_PROJECTION_OFFSET = 1826.25
  SECOND_STANDARD_PARALLEL = "N/A"
  WESTERNMOST_LONGITUDE = 196.031
END_OBJECT = IMAGE_MAP_PROJECTION
/* The JPEG2000 image data file associated with this label. */
OBJECT = COMPRESSED_FILE
  FILE_NAME = "HH795_0000_P13.JP2"
  RECORD_TYPE = UNDEFINED
  FILE_RECORDS = UNK
  ENCODING_TYPE = "JP2"
  INTERCHANGE_FORMAT = BINARY
  UNCOMPRESSED_FILE_NAME = "HH795_0000_P13.IMG"
  REQUIRED_STORAGE_BYTES = "66317940"
  ^DESCRIPTION = "JP2INFO.TXT"
END_OBJECT = COMPRESSED_FILE
END
