PDS_VERSION_ID = PDS3
/* FILE DATA ELEMENTS */
RECORD_TYPE = STREAM
/* POINTERS TO DATA OBJECTS */
^COMPRESSED_FILE = "HH796_0000_GR3.JP2"
/* IDENTIFICATION DATA ELEMENTS */
DATA_SET_ID = "MEX-M-HRSC-5-REFDR-MAPPROJECTED-V3.0"
DATA_SET_NAME = "MARS EXPRESS HRSC MAP PROJECTED REFDR V3.0"
DETECTOR_ID = MEX_HRSC_GREEN
EVENT_TYPE = "MARS-REGIONAL-MAPPING-Im-Pf-Eo"
INSTRUMENT_HOST_ID = MEX
INSTRUMENT_HOST_NAME = "MARS EXPRESS"
INSTRUMENT_ID = HRSC
INSTRUMENT_NAME = "HIGH RESOLUTION STEREO CAMERA"
MISSION_NAME = "MARS EXPRESS"
MISSION_PHASE_NAME = ME_Phase_38
PROCESSING_LEVEL_ID = 3
PRODUCT_CREATION_TIME = 2018-09-04T13:05:27.000Z
PRODUCT_ID = "HH796_0000_GR3.JP2"
RELEASE_ID = 0140
REVISION_ID = 0000
/* QUALITY DATA ELEMENTS */
DATA_QUALITY_ID = 1
DATA_QUALITY_DESC = "Data calculated based on original SPICE kernels"
/* TIME DATA ELEMENTS */
SPACECRAFT_CLOCK_START_COUNT = "1/0464727686.09080"
SPACECRAFT_CLOCK_STOP_COUNT = "1/0464727900.08003"
START_TIME = 2018-01-22T19:02:03.203Z
STOP_TIME = 2018-01-22T19:04:28.268Z
/* ORBITAL DATA ELEMENTS */
ASCENDING_NODE_LONGITUDE = 240.01
MAXIMUM_RESOLUTION = 58.1
FOOTPRINT_POINT_LATITUDE = (31.4152,31.4155,31.4155,31.415,31.4141 ,31.4128,31.411,31.1229,30.8447,30.6592 ,30.3809,30.1952,29.9167,29.731,29.5452 ,29.3594,29.0806,28.8947,28.7088, 28.5228,28.3368,28.0577,27.7786,27.5925 ,27.4063,27.2202,27.0339,26.8477, 26.6614,26.382,26.1958,26.0095,25.8231, 25.6368,25.4505,25.171,24.9846,24.7051, 24.5188,24.2393,24.053,23.8666,23.6802, 23.4007,23.2144,22.9348,22.7485,22.5622 ,22.3759,22.0401,22.0398,22.0385, 22.0366,22.0347,22.2206,22.4071,22.6868 ,22.9666,23.1531,23.3395,23.5261, 23.7126,23.8992,24.0857,24.2723,24.4589 ,24.7387,24.9252,25.1118,25.3916, 25.5782,25.8579,26.0445,26.231,26.4175, 26.6041,26.7905,27.0701,27.2565,27.4429 ,27.6293,27.8156,28.002,28.1883,28.3745 ,28.5608,28.747,28.9332,29.1192,29.3054 ,29.5844,29.8634,30.1424,30.3282,30.514 ,30.6998,30.8856,31.0713,31.2569, 31.4152)
FOOTPRINT_POINT_LONGITUDE = (95.7924,95.5712,95.3506,95.1168, 94.8976,94.6789,94.4604,94.4098,94.415, 94.4184,94.4232,94.4264,94.4309,94.4339 ,94.4367,94.4395,94.4434,94.446,94.4485 ,94.4509,94.4531,94.4564,94.4595, 94.4616,94.4635,94.4653,94.467,94.4687, 94.4702,94.4725,94.4739,94.4752,94.4764 ,94.4775,94.4786,94.4801,94.4811, 94.4823,94.4831,94.4841,94.4847,94.4852 ,94.4856,94.4861,94.4863,94.4865, 94.4865,94.4866,94.4865,94.4862,94.7275 ,95.1238,95.4579,95.7029,95.8632, 95.8641,95.8655,95.867,95.868,95.8691, 95.8701,95.8711,95.8721,95.873,95.8741, 95.875,95.8765,95.8776,95.8787,95.8802, 95.8813,95.8829,95.8839,95.885,95.8859, 95.8868,95.8879,95.8897,95.8908,95.892, 95.893,95.8941,95.8952,95.8963,95.8975, 95.8986,95.8997,95.9008,95.902,95.9031, 95.9048,95.9066,95.9082,95.9095,95.9107 ,95.9118,95.9129,95.9141,95.9154, 95.7924)
ORBIT_NUMBER = 17796
ORBITAL_ECCENTRICITY = 0.575
ORBITAL_INCLINATION = 86.96
ORBITAL_SEMIMAJOR_AXIS = 8836.41
PERIAPSIS_ALTITUDE = 359.85
PERIAPSIS_ARGUMENT_ANGLE = 153.16
PERIAPSIS_TIME = 2018-01-22T19:03:20.000Z
SPACECRAFT_ORIENTATION = (0.0,-1.0,0.0)
^MEX_ORIENTATION_DESC = "MEX_ORIENTATION_DESC.TXT"
SPACECRAFT_POINTING_MODE = ACROSSTRACK
^MEX_POINTING_DESC = "MEX_POINTING_DESC.TXT"
RIGHT_ASCENSION = -1e+32
DECLINATION = -1e+32
OFFSET_ANGLE = 0.229
SPACECRAFT_SOLAR_DISTANCE = 2.41115e+08
TARGET_NAME = MARS
/* CAMERA DATA ELEMENTS */
DETECTOR_TEMPERATURE = 17.9627
FOCAL_PLANE_TEMPERATURE = 8.3794
INST_CMPRS_NAME = "DISCRETE COSINE TRANSFORMATION (DCT)"
INST_CMPRS_RATIO = 11.1907
INST_CMPRS_QUALITY = 0
INST_CMPRS_QUANTZ_TBL_ID = 0
INSTRUMENT_TEMPERATURE = 11.4379
LENS_TEMPERATURE = 8.7872
MACROPIXEL_SIZE = 4
MISSING_FRAMES = 0
PIXEL_SUBSAMPLING_FLAG = N
SIGNAL_CHAIN_ID = 2
/* RADIOMETRIC DATA ELEMENTS */
BANDWIDTH = 88.0
CENTER_FILTER_WAVELENGTH = 538.0
RADIANCE_OFFSET = 0.671476
RADIANCE_SCALING_FACTOR = 0.0040071
REFLECTANCE_SCALING_FACTOR = 0.000200571
MEX:REFLECTANCE_OFFSET = 0.0336099
/* IMAGE OBJECT DEFINITIONS */
OBJECT = IMAGE
  INTERCHANGE_FORMAT = BINARY
  LINES = 11110
  LINE_SAMPLES = 1622
  SAMPLE_TYPE = UNSIGNED_INTEGER
  SAMPLE_BITS = 8
  BANDS = 1
  BAND_STORAGE_TYPE = BAND_SEQUENTIAL
  MAXIMUM = 255
  MEAN = 124.462
  MINIMUM = 1
  STANDARD_DEVIATION = 21.9088
END_OBJECT = IMAGE
/* MAP OBJECT DEFINITIONS */
OBJECT = IMAGE_MAP_PROJECTION
  ^DATA_SET_MAP_PROJECTION_CATALOG= "DSMAP.CAT"
  A_AXIS_RADIUS = 3396.0
  B_AXIS_RADIUS = 3396.0
  C_AXIS_RADIUS = 3396.0
  CENTER_LATITUDE = 0.0
  CENTER_LONGITUDE = 95.0
  COORDINATE_SYSTEM_NAME = PLANETOGRAPHIC
  COORDINATE_SYSTEM_TYPE = "BODY-FIXED ROTATING"
  EASTERNMOST_LONGITUDE = 95.91540000000001
  FIRST_STANDARD_PARALLEL = "N/A"
  LINE_FIRST_PIXEL = 1
  LINE_LAST_PIXEL = 11110
  LINE_PROJECTION_OFFSET = 37239.375
  MAP_PROJECTION_ROTATION = 0.0
  MAP_PROJECTION_TYPE = SINUSOIDAL
  MAP_RESOLUTION = 1185.42760773333
  MAP_SCALE = 0.05
  MAXIMUM_LATITUDE = 31.4155
  MINIMUM_LATITUDE = 22.0347
  POSITIVE_LONGITUDE_DIRECTION = EAST
  REFERENCE_LATITUDE = "N/A"
  REFERENCE_LONGITUDE = "N/A"
  SAMPLE_FIRST_PIXEL = 1
  SAMPLE_LAST_PIXEL = 1622
  SAMPLE_PROJECTION_OFFSET = 622.375
  SECOND_STANDARD_PARALLEL = "N/A"
  WESTERNMOST_LONGITUDE = 94.4098
END_OBJECT = IMAGE_MAP_PROJECTION
/* The JPEG2000 image data file associated with this label. */
OBJECT = COMPRESSED_FILE
  FILE_NAME = "HH796_0000_GR3.JP2"
  RECORD_TYPE = UNDEFINED
  FILE_RECORDS = UNK
  ENCODING_TYPE = "JP2"
  INTERCHANGE_FORMAT = BINARY
  UNCOMPRESSED_FILE_NAME = "HH796_0000_GR3.IMG"
  REQUIRED_STORAGE_BYTES = "18039884"
  ^DESCRIPTION = "JP2INFO.TXT"
END_OBJECT = COMPRESSED_FILE
END
