PDS_VERSION_ID = PDS3
/* FILE DATA ELEMENTS */
RECORD_TYPE = STREAM
/* POINTERS TO DATA OBJECTS */
^COMPRESSED_FILE = "HH796_0000_P13.JP2"
/* IDENTIFICATION DATA ELEMENTS */
DATA_SET_ID = "MEX-M-HRSC-5-REFDR-MAPPROJECTED-V3.0"
DATA_SET_NAME = "MARS EXPRESS HRSC MAP PROJECTED REFDR V3.0"
DETECTOR_ID = MEX_HRSC_P1
EVENT_TYPE = "MARS-REGIONAL-MAPPING-Im-Pf-Eo"
INSTRUMENT_HOST_ID = MEX
INSTRUMENT_HOST_NAME = "MARS EXPRESS"
INSTRUMENT_ID = HRSC
INSTRUMENT_NAME = "HIGH RESOLUTION STEREO CAMERA"
MISSION_NAME = "MARS EXPRESS"
MISSION_PHASE_NAME = ME_Phase_38
PROCESSING_LEVEL_ID = 3
PRODUCT_CREATION_TIME = 2018-09-04T13:05:27.000Z
PRODUCT_ID = "HH796_0000_P13.JP2"
RELEASE_ID = 0140
REVISION_ID = 0000
/* QUALITY DATA ELEMENTS */
DATA_QUALITY_ID = 1
DATA_QUALITY_DESC = "Data calculated based on original SPICE kernels"
/* TIME DATA ELEMENTS */
SPACECRAFT_CLOCK_START_COUNT = "1/0464727686.09080"
SPACECRAFT_CLOCK_STOP_COUNT = "1/0464727900.08003"
START_TIME = 2018-01-22T19:01:46.910Z
STOP_TIME = 2018-01-22T19:04:12.405Z
/* ORBITAL DATA ELEMENTS */
ASCENDING_NODE_LONGITUDE = 240.01
MAXIMUM_RESOLUTION = 29.8
FOOTPRINT_POINT_LATITUDE = (31.4244,31.4266,31.4278,31.4286, 31.4284,31.4269,31.113,30.9275,30.7421, 30.5565,30.3708,30.1851,29.9062,29.7203 ,29.5342,29.348,29.1617,28.9753,28.789, 28.6024,28.4158,28.229,27.9489,27.762, 27.5752,27.2945,27.1074,26.9201,26.6389 ,26.4515,26.264,26.0765,25.7949,25.6071 ,25.4194,25.1376,24.8556,24.5739,24.386 ,24.1979,24.0097,23.8215,23.633,23.4447 ,23.2562,23.0677,22.8791,22.5964, 22.3134,22.1247,22.0303,22.0276,22.0257 ,22.0234,22.0196,22.207,22.3957,22.6789 ,22.8676,23.0562,23.2447,23.4331, 23.6217,23.9044,24.0928,24.2811,24.4696 ,24.658,24.846,25.0341,25.3163,25.5982, 25.7861,25.974,26.1618,26.3498,26.5378, 26.7253,27.0064,27.2874,27.5684,27.8492 ,28.0363,28.2233,28.4102,28.6905, 28.8772,29.0638,29.2503,29.4369,29.6232 ,29.8094,29.9958,30.1819,30.3677, 30.5535,30.7393,31.0178,31.2033, 31.4244)
FOOTPRINT_POINT_LONGITUDE = (95.8991,95.6077,95.3754,95.0427, 94.8122,94.4527,94.3993,94.403,94.4066, 94.4101,94.4135,94.4169,94.4217,94.4248 ,94.4279,94.4308,94.4337,94.4364, 94.4392,94.4418,94.4443,94.4467,94.4502 ,94.4524,94.4547,94.4577,94.4597, 94.4615,94.4641,94.4658,94.4674,94.4689 ,94.471,94.4723,94.4736,94.4753,94.4769 ,94.4784,94.4793,94.4801,94.4808, 94.4815,94.482,94.4824,94.4828,94.4832, 94.4834,94.4837,94.4838,94.4838,94.6821 ,95.0544,95.2546,95.4554,95.7239, 95.8643,95.8654,95.867,95.8681,95.8693, 95.8706,95.8718,95.8729,95.8747,95.8758 ,95.8771,95.8782,95.8792,95.8806, 95.8818,95.8836,95.8855,95.8868,95.888, 95.8892,95.8903,95.8913,95.8927,95.8947 ,95.8967,95.8986,95.9005,95.9018, 95.9031,95.9045,95.9064,95.9077,95.9091 ,95.9104,95.9117,95.9131,95.9144, 95.9156,95.917,95.9185,95.9199,95.9213, 95.9233,95.9248,95.8991)
ORBIT_NUMBER = 17796
ORBITAL_ECCENTRICITY = 0.575
ORBITAL_INCLINATION = 86.96
ORBITAL_SEMIMAJOR_AXIS = 8836.41
PERIAPSIS_ALTITUDE = 359.85
PERIAPSIS_ARGUMENT_ANGLE = 153.16
PERIAPSIS_TIME = 2018-01-22T19:03:20.000Z
SPACECRAFT_ORIENTATION = (0.0,-1.0,0.0)
^MEX_ORIENTATION_DESC = "MEX_ORIENTATION_DESC.TXT"
SPACECRAFT_POINTING_MODE = ACROSSTRACK
^MEX_POINTING_DESC = "MEX_POINTING_DESC.TXT"
RIGHT_ASCENSION = -1e+32
DECLINATION = -1e+32
OFFSET_ANGLE = 0.229
SPACECRAFT_SOLAR_DISTANCE = 2.41115e+08
TARGET_NAME = MARS
/* CAMERA DATA ELEMENTS */
DETECTOR_TEMPERATURE = 16.7393
FOCAL_PLANE_TEMPERATURE = 8.3794
INST_CMPRS_NAME = "DISCRETE COSINE TRANSFORMATION (DCT)"
INST_CMPRS_RATIO = 9.59107
INST_CMPRS_QUALITY = 0
INST_CMPRS_QUANTZ_TBL_ID = 0
INSTRUMENT_TEMPERATURE = 11.4379
LENS_TEMPERATURE = 8.7872
MACROPIXEL_SIZE = 2
MISSING_FRAMES = 0
PIXEL_SUBSAMPLING_FLAG = N
SIGNAL_CHAIN_ID = 3
/* RADIOMETRIC DATA ELEMENTS */
BANDWIDTH = 174.0
CENTER_FILTER_WAVELENGTH = 675.0
RADIANCE_OFFSET = 1.7956
RADIANCE_SCALING_FACTOR = 0.0145632
REFLECTANCE_SCALING_FACTOR = 0.0004554
MEX:REFLECTANCE_OFFSET = 0.0561493
/* IMAGE OBJECT DEFINITIONS */
OBJECT = IMAGE
  INTERCHANGE_FORMAT = BINARY
  LINES = 22220
  LINE_SAMPLES = 3243
  SAMPLE_TYPE = UNSIGNED_INTEGER
  SAMPLE_BITS = 8
  BANDS = 1
  BAND_STORAGE_TYPE = BAND_SEQUENTIAL
  MAXIMUM = 255
  MEAN = 110.273
  MINIMUM = 1
  STANDARD_DEVIATION = 30.8856
END_OBJECT = IMAGE
/* MAP OBJECT DEFINITIONS */
OBJECT = IMAGE_MAP_PROJECTION
  ^DATA_SET_MAP_PROJECTION_CATALOG= "DSMAP.CAT"
  A_AXIS_RADIUS = 3396.0
  B_AXIS_RADIUS = 3396.0
  C_AXIS_RADIUS = 3396.0
  CENTER_LATITUDE = 0.0
  CENTER_LONGITUDE = 95.0
  COORDINATE_SYSTEM_NAME = PLANETOGRAPHIC
  COORDINATE_SYSTEM_TYPE = "BODY-FIXED ROTATING"
  EASTERNMOST_LONGITUDE = 95.9248
  FIRST_STANDARD_PARALLEL = "N/A"
  LINE_FIRST_PIXEL = 1
  LINE_LAST_PIXEL = 22220
  LINE_PROJECTION_OFFSET = 74479.25
  MAP_PROJECTION_ROTATION = 0.0
  MAP_PROJECTION_TYPE = SINUSOIDAL
  MAP_RESOLUTION = 2370.85521546667
  MAP_SCALE = 0.025
  MAXIMUM_LATITUDE = 31.4286
  MINIMUM_LATITUDE = 22.0196
  POSITIVE_LONGITUDE_DIRECTION = EAST
  REFERENCE_LATITUDE = "N/A"
  REFERENCE_LONGITUDE = "N/A"
  SAMPLE_FIRST_PIXEL = 1
  SAMPLE_LAST_PIXEL = 3243
  SAMPLE_PROJECTION_OFFSET = 1245.25
  SECOND_STANDARD_PARALLEL = "N/A"
  WESTERNMOST_LONGITUDE = 94.3993
END_OBJECT = IMAGE_MAP_PROJECTION
/* The JPEG2000 image data file associated with this label. */
OBJECT = COMPRESSED_FILE
  FILE_NAME = "HH796_0000_P13.JP2"
  RECORD_TYPE = UNDEFINED
  FILE_RECORDS = UNK
  ENCODING_TYPE = "JP2"
  INTERCHANGE_FORMAT = BINARY
  UNCOMPRESSED_FILE_NAME = "HH796_0000_P13.IMG"
  REQUIRED_STORAGE_BYTES = "72082161"
  ^DESCRIPTION = "JP2INFO.TXT"
END_OBJECT = COMPRESSED_FILE
END
