PDS_VERSION_ID = PDS3
/* FILE DATA ELEMENTS */
RECORD_TYPE = STREAM
/* POINTERS TO DATA OBJECTS */
^COMPRESSED_FILE = "HH797_0000_S23.JP2"
/* IDENTIFICATION DATA ELEMENTS */
DATA_SET_ID = "MEX-M-HRSC-5-REFDR-MAPPROJECTED-V3.0"
DATA_SET_NAME = "MARS EXPRESS HRSC MAP PROJECTED REFDR V3.0"
DETECTOR_ID = MEX_HRSC_S2
EVENT_TYPE = "MARS-LOCAL-STEREO-Fl-La-Tc"
INSTRUMENT_HOST_ID = MEX
INSTRUMENT_HOST_NAME = "MARS EXPRESS"
INSTRUMENT_ID = HRSC
INSTRUMENT_NAME = "HIGH RESOLUTION STEREO CAMERA"
MISSION_NAME = "MARS EXPRESS"
MISSION_PHASE_NAME = ME_Phase_38
PROCESSING_LEVEL_ID = 3
PRODUCT_CREATION_TIME = 2018-09-04T13:05:27.000Z
PRODUCT_ID = "HH797_0000_S23.JP2"
RELEASE_ID = 0140
REVISION_ID = 0000
/* QUALITY DATA ELEMENTS */
DATA_QUALITY_ID = 1
DATA_QUALITY_DESC = "Data calculated based on original SPICE kernels"
/* TIME DATA ELEMENTS */
SPACECRAFT_CLOCK_START_COUNT = "1/0464753189.07325"
SPACECRAFT_CLOCK_STOP_COUNT = "1/0464753379.64432"
START_TIME = 2018-01-23T02:07:59.003Z
STOP_TIME = 2018-01-23T02:09:47.159Z
/* ORBITAL DATA ELEMENTS */
ASCENDING_NODE_LONGITUDE = 240.0
MAXIMUM_RESOLUTION = 38.8
FOOTPRINT_POINT_LATITUDE = (8.44943,8.45016,8.45086,8.45149, 8.45218,8.45296,8.4538,8.45475,8.45643, 8.45753,8.45916,8.36289,8.12978,7.89341 ,7.71586,7.47787,7.24328,7.12255, 7.00255,6.76344,6.58469,6.34553,6.16393 ,6.04182,5.91991,5.73813,5.617,5.49505, 5.37352,5.18818,5.06451,4.94103,4.81766 ,4.69465,4.57149,4.44698,4.32126, 4.19518,4.06965,3.94421,3.81927,3.69465 ,3.56724,3.43955,3.31233,3.12178, 2.93156,2.8031,2.67463,2.54583,2.35133, 2.3553,2.35416,2.35216,2.3486,2.346, 2.34177,2.33929,2.33814,2.33674,2.33604 ,2.33623,2.46449,2.65824,2.78731, 2.91588,3.10497,3.2945,3.42139,3.55054, 3.74163,3.86667,4.05412,4.17976,4.36748 ,4.49272,4.61598,4.80075,4.92417, 5.04786,5.2333,5.35684,5.47817,5.59969, 5.72108,5.84315,6.02606,6.20949,6.33053 ,6.45029,6.63007,6.7507,6.93106,7.05127 ,7.23165,7.52656,7.76246,8.05864, 8.29353,8.44943)
FOOTPRINT_POINT_LONGITUDE = (353.588,353.4,353.244,353.119,352.994, 352.87,352.745,352.621,352.419,352.294, 352.123,351.97,351.964,351.958,351.953, 351.947,351.94,351.937,351.934,351.927, 351.921,351.914,351.909,351.905,351.901 ,351.896,351.892,351.888,351.885, 351.879,351.875,351.871,351.867,351.863 ,351.859,351.855,351.851,351.847, 351.843,351.838,351.834,351.83,351.826, 351.821,351.817,351.81,351.804,351.799, 351.794,351.79,351.836,351.978,352.139, 352.264,352.407,352.568,352.801,352.98, 353.123,353.302,353.446,353.632,353.63, 353.629,353.628,353.627,353.625,353.623 ,353.622,353.621,353.62,353.619,353.618 ,353.617,353.616,353.615,353.614, 353.612,353.612,353.611,353.609,353.609 ,353.608,353.607,353.606,353.606, 353.605,353.604,353.603,353.603,353.602 ,353.601,353.6,353.6,353.599,353.598, 353.597,353.595,353.594,353.588)
ORBIT_NUMBER = 17797
ORBITAL_ECCENTRICITY = 0.575
ORBITAL_INCLINATION = 86.95
ORBITAL_SEMIMAJOR_AXIS = 8828.4
PERIAPSIS_ALTITUDE = 360.89
PERIAPSIS_ARGUMENT_ANGLE = 152.98
PERIAPSIS_TIME = 2018-01-23T02:02:26.000Z
SPACECRAFT_ORIENTATION = (0.0,-1.0,0.0)
^MEX_ORIENTATION_DESC = "MEX_ORIENTATION_DESC.TXT"
SPACECRAFT_POINTING_MODE = ACROSSTRACK
^MEX_POINTING_DESC = "MEX_POINTING_DESC.TXT"
RIGHT_ASCENSION = -1e+32
DECLINATION = -1e+32
OFFSET_ANGLE = 0.1
SPACECRAFT_SOLAR_DISTANCE = 2.41073e+08
TARGET_NAME = MARS
/* CAMERA DATA ELEMENTS */
DETECTOR_TEMPERATURE = 18.9822
FOCAL_PLANE_TEMPERATURE = 8.5833
INST_CMPRS_NAME = "DISCRETE COSINE TRANSFORMATION (DCT)"
INST_CMPRS_RATIO = 8.33458
INST_CMPRS_QUALITY = 0
INST_CMPRS_QUANTZ_TBL_ID = 0
INSTRUMENT_TEMPERATURE = 12.0496
LENS_TEMPERATURE = 8.9911
MACROPIXEL_SIZE = 2
MISSING_FRAMES = 0
PIXEL_SUBSAMPLING_FLAG = N
SIGNAL_CHAIN_ID = 1
/* RADIOMETRIC DATA ELEMENTS */
BANDWIDTH = 178.0
CENTER_FILTER_WAVELENGTH = 679.0
RADIANCE_OFFSET = 1.47103
RADIANCE_SCALING_FACTOR = 0.0146231
REFLECTANCE_SCALING_FACTOR = 0.000450054
MEX:REFLECTANCE_OFFSET = 0.0452738
/* IMAGE OBJECT DEFINITIONS */
OBJECT = IMAGE
  INTERCHANGE_FORMAT = BINARY
  LINES = 14588
  LINE_SAMPLES = 4220
  SAMPLE_TYPE = UNSIGNED_INTEGER
  SAMPLE_BITS = 8
  BANDS = 1
  BAND_STORAGE_TYPE = BAND_SEQUENTIAL
  MAXIMUM = 255
  MEAN = 94.3569
  MINIMUM = 1
  STANDARD_DEVIATION = 21.3838
END_OBJECT = IMAGE
/* MAP OBJECT DEFINITIONS */
OBJECT = IMAGE_MAP_PROJECTION
  ^DATA_SET_MAP_PROJECTION_CATALOG= "DSMAP.CAT"
  A_AXIS_RADIUS = 3396.0
  B_AXIS_RADIUS = 3396.0
  C_AXIS_RADIUS = 3396.0
  CENTER_LATITUDE = 0.0
  CENTER_LONGITUDE = 353.0
  COORDINATE_SYSTEM_NAME = PLANETOGRAPHIC
  COORDINATE_SYSTEM_TYPE = "BODY-FIXED ROTATING"
  EASTERNMOST_LONGITUDE = 353.632
  FIRST_STANDARD_PARALLEL = "N/A"
  LINE_FIRST_PIXEL = 1
  LINE_LAST_PIXEL = 14588
  LINE_PROJECTION_OFFSET = 20036.75
  MAP_PROJECTION_ROTATION = 0.0
  MAP_PROJECTION_TYPE = SINUSOIDAL
  MAP_RESOLUTION = 2370.85521546667
  MAP_SCALE = 0.025
  MAXIMUM_LATITUDE = 8.459160000000001
  MINIMUM_LATITUDE = 2.33604
  POSITIVE_LONGITUDE_DIRECTION = EAST
  REFERENCE_LATITUDE = "N/A"
  REFERENCE_LONGITUDE = "N/A"
  SAMPLE_FIRST_PIXEL = 1
  SAMPLE_LAST_PIXEL = 4220
  SAMPLE_PROJECTION_OFFSET = 2791.75
  SECOND_STANDARD_PARALLEL = "N/A"
  WESTERNMOST_LONGITUDE = 351.79
END_OBJECT = IMAGE_MAP_PROJECTION
/* The JPEG2000 image data file associated with this label. */
OBJECT = COMPRESSED_FILE
  FILE_NAME = "HH797_0000_S23.JP2"
  RECORD_TYPE = UNDEFINED
  FILE_RECORDS = UNK
  ENCODING_TYPE = "JP2"
  INTERCHANGE_FORMAT = BINARY
  UNCOMPRESSED_FILE_NAME = "HH797_0000_S23.IMG"
  REQUIRED_STORAGE_BYTES = "61586680"
  ^DESCRIPTION = "JP2INFO.TXT"
END_OBJECT = COMPRESSED_FILE
END
