PDS_VERSION_ID = PDS3
/* FILE DATA ELEMENTS */
RECORD_TYPE = STREAM
/* POINTERS TO DATA OBJECTS */
^COMPRESSED_FILE = "HH802_0000_P13.JP2"
/* IDENTIFICATION DATA ELEMENTS */
DATA_SET_ID = "MEX-M-HRSC-5-REFDR-MAPPROJECTED-V3.0"
DATA_SET_NAME = "MARS EXPRESS HRSC MAP PROJECTED REFDR V3.0"
DETECTOR_ID = MEX_HRSC_P1
EVENT_TYPE = "MARS-REGIONAL-VARIABLE-Eo-At-Sh"
INSTRUMENT_HOST_ID = MEX
INSTRUMENT_HOST_NAME = "MARS EXPRESS"
INSTRUMENT_ID = HRSC
INSTRUMENT_NAME = "HIGH RESOLUTION STEREO CAMERA"
MISSION_NAME = "MARS EXPRESS"
MISSION_PHASE_NAME = ME_Phase_38
PROCESSING_LEVEL_ID = 3
PRODUCT_CREATION_TIME = 2018-09-04T13:05:27.000Z
PRODUCT_ID = "HH802_0000_P13.JP2"
RELEASE_ID = 0140
REVISION_ID = 0000
/* QUALITY DATA ELEMENTS */
DATA_QUALITY_ID = 1
DATA_QUALITY_DESC = "Data calculated based on original SPICE kernels"
/* TIME DATA ELEMENTS */
SPACECRAFT_CLOCK_START_COUNT = "1/0464878473.07331"
SPACECRAFT_CLOCK_STOP_COUNT = "1/0464878669.41366"
START_TIME = 2018-01-24T12:54:55.249Z
STOP_TIME = 2018-01-24T12:57:02.371Z
/* ORBITAL DATA ELEMENTS */
ASCENDING_NODE_LONGITUDE = 239.9
MAXIMUM_RESOLUTION = 30.4
FOOTPRINT_POINT_LATITUDE = (38.3826,38.3809,38.3791,38.3757, 38.3719,38.3672,38.3623,38.356,38.0589, 37.8939,37.7289,37.5636,37.3983,37.2329 ,37.0673,36.9017,36.6528,36.4869, 36.3208,36.1546,35.9882,35.8218,35.6552 ,35.4885,35.2383,35.0714,34.9044, 34.7373,34.5701,34.4027,34.2352,34.0677 ,33.9,33.7323,33.5644,33.3965,33.2285, 33.0603,32.8921,32.7238,32.5553,32.3868 ,32.2248,31.942,31.659,31.3759,31.0925, 30.7378,30.454,30.2865,30.2901,30.2926, 30.2944,30.2955,30.2965,30.2973,30.5108 ,30.8662,31.1503,31.4342,31.7178, 32.0012,32.2137,32.371,32.5398,32.7086, 32.8772,33.0458,33.2142,33.3826,33.5509 ,33.7193,33.8872,34.0552,34.2232,34.391 ,34.5587,34.7263,34.8938,35.0612, 35.2285,35.3957,35.5628,35.7297,35.8966 ,36.0634,36.2301,36.3967,36.5631, 36.7294,36.8956,37.0617,37.2277,37.3936 ,37.5593,37.725,37.8905,38.0559,38.2212 ,38.3826)
FOOTPRINT_POINT_LONGITUDE = (202.691,202.456,202.271,201.986, 201.735,201.467,201.233,200.965,200.944 ,200.952,200.959,200.967,200.974, 200.981,200.988,200.995,201.005,201.012 ,201.019,201.025,201.031,201.038, 201.044,201.05,201.059,201.065,201.071, 201.076,201.082,201.087,201.093,201.098 ,201.103,201.108,201.113,201.118, 201.123,201.128,201.133,201.137,201.142 ,201.146,201.15,201.157,201.164,201.171 ,201.177,201.185,201.191,201.252, 201.514,201.746,201.964,202.138,202.371 ,202.696,202.697,202.698,202.699,202.7, 202.701,202.702,202.702,202.703,202.703 ,202.704,202.704,202.705,202.705, 202.706,202.706,202.707,202.707,202.708 ,202.708,202.709,202.71,202.71,202.71, 202.711,202.711,202.712,202.712,202.713 ,202.713,202.714,202.714,202.715, 202.715,202.716,202.716,202.717,202.717 ,202.717,202.718,202.718,202.719, 202.719,202.719,202.691)
ORBIT_NUMBER = 17802
ORBITAL_ECCENTRICITY = 0.575
ORBITAL_INCLINATION = 86.96
ORBITAL_SEMIMAJOR_AXIS = 8826.44
PERIAPSIS_ALTITUDE = 361.12
PERIAPSIS_ARGUMENT_ANGLE = 152.13
PERIAPSIS_TIME = 2018-01-24T12:58:03.000Z
SPACECRAFT_ORIENTATION = (0.0,-1.0,0.0)
^MEX_ORIENTATION_DESC = "MEX_ORIENTATION_DESC.TXT"
SPACECRAFT_POINTING_MODE = NADIR
^MEX_POINTING_DESC = "MEX_POINTING_DESC.TXT"
RIGHT_ASCENSION = -1e+32
DECLINATION = -1e+32
OFFSET_ANGLE = -1e+32
SPACECRAFT_SOLAR_DISTANCE = 2.40861e+08
TARGET_NAME = MARS
/* CAMERA DATA ELEMENTS */
DETECTOR_TEMPERATURE = 18.3705
FOCAL_PLANE_TEMPERATURE = 8.3794
INST_CMPRS_NAME = "DISCRETE COSINE TRANSFORMATION (DCT)"
INST_CMPRS_RATIO = 8.89882
INST_CMPRS_QUALITY = 0
INST_CMPRS_QUANTZ_TBL_ID = 0
INSTRUMENT_TEMPERATURE = 11.6418
LENS_TEMPERATURE = 8.5833
MACROPIXEL_SIZE = 2
MISSING_FRAMES = 0
PIXEL_SUBSAMPLING_FLAG = N
SIGNAL_CHAIN_ID = 3
/* RADIOMETRIC DATA ELEMENTS */
BANDWIDTH = 174.0
CENTER_FILTER_WAVELENGTH = 675.0
RADIANCE_OFFSET = 2.86158
RADIANCE_SCALING_FACTOR = 0.0121729
REFLECTANCE_SCALING_FACTOR = 0.000379849
MEX:REFLECTANCE_OFFSET = 0.0892941
/* IMAGE OBJECT DEFINITIONS */
OBJECT = IMAGE
  INTERCHANGE_FORMAT = BINARY
  LINES = 19074
  LINE_SAMPLES = 3451
  SAMPLE_TYPE = UNSIGNED_INTEGER
  SAMPLE_BITS = 8
  BANDS = 1
  BAND_STORAGE_TYPE = BAND_SEQUENTIAL
  MAXIMUM = 255
  MEAN = 133.758
  MINIMUM = 1
  STANDARD_DEVIATION = 32.9619
END_OBJECT = IMAGE
/* MAP OBJECT DEFINITIONS */
OBJECT = IMAGE_MAP_PROJECTION
  ^DATA_SET_MAP_PROJECTION_CATALOG= "DSMAP.CAT"
  A_AXIS_RADIUS = 3396.0
  B_AXIS_RADIUS = 3396.0
  C_AXIS_RADIUS = 3396.0
  CENTER_LATITUDE = 0.0
  CENTER_LONGITUDE = 202.0
  COORDINATE_SYSTEM_NAME = PLANETOGRAPHIC
  COORDINATE_SYSTEM_TYPE = "BODY-FIXED ROTATING"
  EASTERNMOST_LONGITUDE = 202.719
  FIRST_STANDARD_PARALLEL = "N/A"
  LINE_FIRST_PIXEL = 1
  LINE_LAST_PIXEL = 19074
  LINE_PROJECTION_OFFSET = 90914.75
  MAP_PROJECTION_ROTATION = 0.0
  MAP_PROJECTION_TYPE = SINUSOIDAL
  MAP_RESOLUTION = 2370.85521546667
  MAP_SCALE = 0.025
  MAXIMUM_LATITUDE = 38.3826
  MINIMUM_LATITUDE = 30.2865
  POSITIVE_LONGITUDE_DIRECTION = EAST
  REFERENCE_LATITUDE = "N/A"
  REFERENCE_LONGITUDE = "N/A"
  SAMPLE_FIRST_PIXEL = 1
  SAMPLE_LAST_PIXEL = 3451
  SAMPLE_PROJECTION_OFFSET = 1985.75
  SECOND_STANDARD_PARALLEL = "N/A"
  WESTERNMOST_LONGITUDE = 200.944
END_OBJECT = IMAGE_MAP_PROJECTION
/* The JPEG2000 image data file associated with this label. */
OBJECT = COMPRESSED_FILE
  FILE_NAME = "HH802_0000_P13.JP2"
  RECORD_TYPE = UNDEFINED
  FILE_RECORDS = UNK
  ENCODING_TYPE = "JP2"
  INTERCHANGE_FORMAT = BINARY
  UNCOMPRESSED_FILE_NAME = "HH802_0000_P13.IMG"
  REQUIRED_STORAGE_BYTES = "65848531"
  ^DESCRIPTION = "JP2INFO.TXT"
END_OBJECT = COMPRESSED_FILE
END
