PDS_VERSION_ID = PDS3
/* FILE DATA ELEMENTS */
RECORD_TYPE = STREAM
/* POINTERS TO DATA OBJECTS */
^COMPRESSED_FILE = "HH803_0009_IR3.JP2"
/* IDENTIFICATION DATA ELEMENTS */
DATA_SET_ID = "MEX-M-HRSC-5-REFDR-MAPPROJECTED-V3.0"
DATA_SET_NAME = "MARS EXPRESS HRSC MAP PROJECTED REFDR V3.0"
DETECTOR_ID = MEX_HRSC_IR
EVENT_TYPE = "MARS-REGIONAL-MAPPING-Vo-Te-Im"
INSTRUMENT_HOST_ID = MEX
INSTRUMENT_HOST_NAME = "MARS EXPRESS"
INSTRUMENT_ID = HRSC
INSTRUMENT_NAME = "HIGH RESOLUTION STEREO CAMERA"
MISSION_NAME = "MARS EXPRESS"
MISSION_PHASE_NAME = ME_Phase_38
PROCESSING_LEVEL_ID = 3
PRODUCT_CREATION_TIME = 2018-09-04T13:05:27.000Z
PRODUCT_ID = "HH803_0009_IR3.JP2"
RELEASE_ID = 0140
REVISION_ID = 0000
/* QUALITY DATA ELEMENTS */
DATA_QUALITY_ID = 1
DATA_QUALITY_DESC = "Data calculated based on original SPICE kernels"
/* TIME DATA ELEMENTS */
SPACECRAFT_CLOCK_START_COUNT = "1/0464904018.09089"
SPACECRAFT_CLOCK_STOP_COUNT = "1/0464904240.16810"
START_TIME = 2018-01-24T20:00:33.239Z
STOP_TIME = 2018-01-24T20:02:43.666Z
/* ORBITAL DATA ELEMENTS */
ASCENDING_NODE_LONGITUDE = 239.88
MAXIMUM_RESOLUTION = 66.2
FOOTPRINT_POINT_LATITUDE = (13.0923,13.1024,13.1121,13.1213,13.13, 13.1383,13.1461,12.9631,12.7995,12.6379 ,12.3193,12.0758,11.9126,11.6697, 11.5079,11.2668,11.1048,10.7822,10.4596 ,10.2959,10.0506,9.88854,9.72669,9.5607 ,9.39502,9.22901,8.98017,8.81457, 8.64879,8.40029,8.23482,8.0651,7.8954, 7.64087,7.47077,7.30247,7.13241,6.96481 ,6.79466,6.53823,6.36418,6.18857, 6.01556,5.84379,5.6697,5.48783,5.30886, 5.13273,4.86857,4.7008,4.69288,4.67587, 4.66402,4.66144,4.65538,4.6402,4.63128, 4.81004,4.98638,5.16452,5.34086,5.51752 ,5.77781,5.95186,6.12557,6.38584, 6.64679,6.81974,6.98937,7.15935,7.32916 ,7.49908,7.66922,7.83965,8.00961, 8.18025,8.34267,8.50856,8.67475,8.84009 ,9.00725,9.25639,9.50698,9.67543,9.9192 ,10.0825,10.321,10.6419,10.8039,11.0471 ,11.2906,11.4529,11.7765,11.9392, 12.1011,12.2637,12.4282,12.7506,12.9129 ,13.0923)
FOOTPRINT_POINT_LONGITUDE = (101.132,100.915,100.7,100.487,100.275, 100.064,99.8555,99.7714,99.7685,99.7656 ,99.7596,99.755,99.7519,99.7472,99.744, 99.7392,99.7359,99.7293,99.7226,99.7191 ,99.7139,99.7104,99.7069,99.7032, 99.6995,99.6958,99.6901,99.6863,99.6825 ,99.6767,99.6728,99.6687,99.6646, 99.6584,99.6542,99.6501,99.6458,99.6416 ,99.6373,99.6308,99.6263,99.6217, 99.6171,99.6126,99.6079,99.6029,99.598, 99.5932,99.586,99.5814,99.8296,100.096, 100.276,100.484,100.693,100.982,101.186 ,101.185,101.186,101.186,101.187, 101.188,101.188,101.188,101.188,101.189 ,101.189,101.19,101.19,101.19,101.191, 101.191,101.191,101.191,101.192,101.192 ,101.195,101.195,101.195,101.196, 101.196,101.197,101.197,101.195,101.196 ,101.195,101.199,101.203,101.203, 101.204,101.205,101.206,101.208,101.208 ,101.209,101.21,101.209,101.212,101.213 ,101.132)
ORBIT_NUMBER = 17803
ORBITAL_ECCENTRICITY = 0.575
ORBITAL_INCLINATION = 86.96
ORBITAL_SEMIMAJOR_AXIS = 8834.65
PERIAPSIS_ALTITUDE = 360.57
PERIAPSIS_ARGUMENT_ANGLE = 151.95
PERIAPSIS_TIME = 2018-01-24T19:57:12.000Z
SPACECRAFT_ORIENTATION = (0.0,-1.0,0.0)
^MEX_ORIENTATION_DESC = "MEX_ORIENTATION_DESC.TXT"
SPACECRAFT_POINTING_MODE = ACROSSTRACK
^MEX_POINTING_DESC = "MEX_POINTING_DESC.TXT"
RIGHT_ASCENSION = -1e+32
DECLINATION = -1e+32
OFFSET_ANGLE = 0.686
SPACECRAFT_SOLAR_DISTANCE = 2.40818e+08
TARGET_NAME = MARS
/* CAMERA DATA ELEMENTS */
DETECTOR_TEMPERATURE = 18.1666
FOCAL_PLANE_TEMPERATURE = 9.3989
INST_CMPRS_NAME = "DISCRETE COSINE TRANSFORMATION (DCT)"
INST_CMPRS_RATIO = 5.95099
INST_CMPRS_QUALITY = 0
INST_CMPRS_QUANTZ_TBL_ID = 0
INSTRUMENT_TEMPERATURE = 12.2535
LENS_TEMPERATURE = 9.8067
MACROPIXEL_SIZE = 4
MISSING_FRAMES = 0
PIXEL_SUBSAMPLING_FLAG = N
SIGNAL_CHAIN_ID = 2
/* RADIOMETRIC DATA ELEMENTS */
BANDWIDTH = 81.0
CENTER_FILTER_WAVELENGTH = 955.5
RADIANCE_OFFSET = 0.386608
RADIANCE_SCALING_FACTOR = 0.0039197
REFLECTANCE_SCALING_FACTOR = 0.000490406
MEX:REFLECTANCE_OFFSET = 0.0483697
/* IMAGE OBJECT DEFINITIONS */
OBJECT = IMAGE
  INTERCHANGE_FORMAT = BINARY
  LINES = 10029
  LINE_SAMPLES = 2062
  SAMPLE_TYPE = UNSIGNED_INTEGER
  SAMPLE_BITS = 8
  BANDS = 1
  BAND_STORAGE_TYPE = BAND_SEQUENTIAL
  MAXIMUM = 255
  MEAN = 107.157
  MINIMUM = 1
  STANDARD_DEVIATION = 28.7585
END_OBJECT = IMAGE
/* MAP OBJECT DEFINITIONS */
OBJECT = IMAGE_MAP_PROJECTION
  ^DATA_SET_MAP_PROJECTION_CATALOG= "DSMAP.CAT"
  A_AXIS_RADIUS = 3396.0
  B_AXIS_RADIUS = 3396.0
  C_AXIS_RADIUS = 3396.0
  CENTER_LATITUDE = 0.0
  CENTER_LONGITUDE = 100.0
  COORDINATE_SYSTEM_NAME = PLANETOGRAPHIC
  COORDINATE_SYSTEM_TYPE = "BODY-FIXED ROTATING"
  EASTERNMOST_LONGITUDE = 101.213
  FIRST_STANDARD_PARALLEL = "N/A"
  LINE_FIRST_PIXEL = 1
  LINE_LAST_PIXEL = 10029
  LINE_PROJECTION_OFFSET = 15585.875
  MAP_PROJECTION_ROTATION = 0.0
  MAP_PROJECTION_TYPE = SINUSOIDAL
  MAP_RESOLUTION = 1185.42760773333
  MAP_SCALE = 0.05
  MAXIMUM_LATITUDE = 13.1461
  MINIMUM_LATITUDE = 4.63128
  POSITIVE_LONGITUDE_DIRECTION = EAST
  REFERENCE_LATITUDE = "N/A"
  REFERENCE_LONGITUDE = "N/A"
  SAMPLE_FIRST_PIXEL = 1
  SAMPLE_LAST_PIXEL = 2062
  SAMPLE_PROJECTION_OFFSET = 544.875
  SECOND_STANDARD_PARALLEL = "N/A"
  WESTERNMOST_LONGITUDE = 99.5814
END_OBJECT = IMAGE_MAP_PROJECTION
/* The JPEG2000 image data file associated with this label. */
OBJECT = COMPRESSED_FILE
  FILE_NAME = "HH803_0009_IR3.JP2"
  RECORD_TYPE = UNDEFINED
  FILE_RECORDS = UNK
  ENCODING_TYPE = "JP2"
  INTERCHANGE_FORMAT = BINARY
  UNCOMPRESSED_FILE_NAME = "HH803_0009_IR3.IMG"
  REQUIRED_STORAGE_BYTES = "20700418"
  ^DESCRIPTION = "JP2INFO.TXT"
END_OBJECT = COMPRESSED_FILE
END
