PDS_VERSION_ID = PDS3
/* FILE DATA ELEMENTS */
RECORD_TYPE = STREAM
/* POINTERS TO DATA OBJECTS */
^COMPRESSED_FILE = "HH806_0000_S23.JP2"
/* IDENTIFICATION DATA ELEMENTS */
DATA_SET_ID = "MEX-M-HRSC-5-REFDR-MAPPROJECTED-V3.0"
DATA_SET_NAME = "MARS EXPRESS HRSC MAP PROJECTED REFDR V3.0"
DETECTOR_ID = MEX_HRSC_S2
EVENT_TYPE = "MARS-REGIONAL-MAPPING-Vo-Te-Im"
INSTRUMENT_HOST_ID = MEX
INSTRUMENT_HOST_NAME = "MARS EXPRESS"
INSTRUMENT_ID = HRSC
INSTRUMENT_NAME = "HIGH RESOLUTION STEREO CAMERA"
MISSION_NAME = "MARS EXPRESS"
MISSION_PHASE_NAME = ME_Phase_38
PROCESSING_LEVEL_ID = 3
PRODUCT_CREATION_TIME = 2018-09-04T13:05:27.000Z
PRODUCT_ID = "HH806_0000_S23.JP2"
RELEASE_ID = 0140
REVISION_ID = 0000
/* QUALITY DATA ELEMENTS */
DATA_QUALITY_ID = 1
DATA_QUALITY_DESC = "Data calculated based on original SPICE kernels"
/* TIME DATA ELEMENTS */
SPACECRAFT_CLOCK_START_COUNT = "1/0464979232.08266"
SPACECRAFT_CLOCK_STOP_COUNT = "1/0464979482.62872"
START_TIME = 2018-01-25T16:55:08.902Z
STOP_TIME = 2018-01-25T16:58:10.132Z
/* ORBITAL DATA ELEMENTS */
ASCENDING_NODE_LONGITUDE = 239.82
MAXIMUM_RESOLUTION = 31
FOOTPRINT_POINT_LATITUDE = (28.4678,28.4672,28.466,28.4653,28.4995 ,28.2669,28.0342,27.6856,27.337,26.9889 ,26.7574,26.41,26.0631,25.7168,25.3707, 25.025,24.6807,24.4512,24.1069,23.8783, 23.6498,23.4214,23.1932,22.8514,22.6244 ,22.3969,22.1701,21.9439,21.7177, 21.4918,21.2661,21.0404,20.8153,20.5898 ,20.3649,20.1405,19.9161,19.6918, 19.4686,19.2449,19.0218,18.7987,18.5761 ,18.3538,18.1316,17.9099,17.6882, 17.4668,17.2456,17.1057,17.1041,17.1029 ,17.1012,17.099,17.0986,17.3197,17.541, 17.7628,17.9848,18.2073,18.43,18.6528, 18.9879,19.2114,19.4352,19.6593,19.8837 ,20.1084,20.3334,20.6714,20.8968, 21.1226,21.3488,21.5751,21.8014,22.0282 ,22.2553,22.483,22.8246,23.0523,23.2805 ,23.509,23.7397,24.0817,24.3109,24.5404 ,24.8854,25.2309,25.5768,25.9233, 26.1546,26.5017,26.8492,27.0809,27.4295 ,27.6618,28.0106,28.2431,28.476, 28.4678)
FOOTPRINT_POINT_LONGITUDE = (153.69,153.468,153.08,152.859,152.564, 152.567,152.569,152.573,152.577,152.58, 152.582,152.585,152.587,152.589,152.591 ,152.593,152.594,152.595,152.596, 152.596,152.596,152.596,152.596,152.596 ,152.595,152.595,152.594,152.593, 152.593,152.592,152.59,152.589,152.588, 152.587,152.585,152.584,152.582,152.581 ,152.579,152.577,152.575,152.573,152.57 ,152.568,152.566,152.563,152.561, 152.558,152.555,152.739,152.981,153.166 ,153.423,153.837,154.027,154.027, 154.026,154.026,154.026,154.025,154.025 ,154.025,154.024,154.024,154.024, 154.024,154.023,154.023,154.023,154.023 ,154.022,154.022,154.022,154.022, 154.021,154.021,154.021,154.021,154.021 ,154.021,154.021,154.021,154.021, 154.021,154.021,154.021,154.021,154.021 ,154.021,154.021,154.021,154.021, 154.021,154.021,154.021,154.021,154.021 ,154.021,154.021,153.69)
ORBIT_NUMBER = 17806
ORBITAL_ECCENTRICITY = 0.575
ORBITAL_INCLINATION = 86.95
ORBITAL_SEMIMAJOR_AXIS = 8827.23
PERIAPSIS_ALTITUDE = 362.1
PERIAPSIS_ARGUMENT_ANGLE = 151.47
PERIAPSIS_TIME = 2018-01-25T16:54:37.000Z
SPACECRAFT_ORIENTATION = (0.0,-1.0,0.0)
^MEX_ORIENTATION_DESC = "MEX_ORIENTATION_DESC.TXT"
SPACECRAFT_POINTING_MODE = ACROSSTRACK
^MEX_POINTING_DESC = "MEX_POINTING_DESC.TXT"
RIGHT_ASCENSION = -1e+32
DECLINATION = -1e+32
OFFSET_ANGLE = 1.374
SPACECRAFT_SOLAR_DISTANCE = 2.40689e+08
TARGET_NAME = MARS
/* CAMERA DATA ELEMENTS */
DETECTOR_TEMPERATURE = 18.7783
FOCAL_PLANE_TEMPERATURE = 8.5833
INST_CMPRS_NAME = "DISCRETE COSINE TRANSFORMATION (DCT)"
INST_CMPRS_RATIO = 8.66665
INST_CMPRS_QUALITY = 0
INST_CMPRS_QUANTZ_TBL_ID = 0
INSTRUMENT_TEMPERATURE = 11.234
LENS_TEMPERATURE = 8.7872
MACROPIXEL_SIZE = 2
MISSING_FRAMES = 0
PIXEL_SUBSAMPLING_FLAG = N
SIGNAL_CHAIN_ID = 1
/* RADIOMETRIC DATA ELEMENTS */
BANDWIDTH = 178.0
CENTER_FILTER_WAVELENGTH = 679.0
RADIANCE_OFFSET = 2.07476
RADIANCE_SCALING_FACTOR = 0.0212182
REFLECTANCE_SCALING_FACTOR = 0.000650954
MEX:REFLECTANCE_OFFSET = 0.0636516
/* IMAGE OBJECT DEFINITIONS */
OBJECT = IMAGE
  INTERCHANGE_FORMAT = BINARY
  LINES = 27149
  LINE_SAMPLES = 3375
  SAMPLE_TYPE = UNSIGNED_INTEGER
  SAMPLE_BITS = 8
  BANDS = 1
  BAND_STORAGE_TYPE = BAND_SEQUENTIAL
  MAXIMUM = 255
  MEAN = 95.9904
  MINIMUM = 1
  STANDARD_DEVIATION = 15.11
END_OBJECT = IMAGE
/* MAP OBJECT DEFINITIONS */
OBJECT = IMAGE_MAP_PROJECTION
  ^DATA_SET_MAP_PROJECTION_CATALOG= "DSMAP.CAT"
  A_AXIS_RADIUS = 3396.0
  B_AXIS_RADIUS = 3396.0
  C_AXIS_RADIUS = 3396.0
  CENTER_LATITUDE = 0.0
  CENTER_LONGITUDE = 153.0
  COORDINATE_SYSTEM_NAME = PLANETOGRAPHIC
  COORDINATE_SYSTEM_TYPE = "BODY-FIXED ROTATING"
  EASTERNMOST_LONGITUDE = 154.027
  FIRST_STANDARD_PARALLEL = "N/A"
  LINE_FIRST_PIXEL = 1
  LINE_LAST_PIXEL = 27149
  LINE_PROJECTION_OFFSET = 67735.75
  MAP_PROJECTION_ROTATION = 0.0
  MAP_PROJECTION_TYPE = SINUSOIDAL
  MAP_RESOLUTION = 2370.85521546667
  MAP_SCALE = 0.025
  MAXIMUM_LATITUDE = 28.4995
  MINIMUM_LATITUDE = 17.0986
  POSITIVE_LONGITUDE_DIRECTION = EAST
  REFERENCE_LATITUDE = "N/A"
  REFERENCE_LONGITUDE = "N/A"
  SAMPLE_FIRST_PIXEL = 1
  SAMPLE_LAST_PIXEL = 3375
  SAMPLE_PROJECTION_OFFSET = 1027.25
  SECOND_STANDARD_PARALLEL = "N/A"
  WESTERNMOST_LONGITUDE = 152.555
END_OBJECT = IMAGE_MAP_PROJECTION
/* The JPEG2000 image data file associated with this label. */
OBJECT = COMPRESSED_FILE
  FILE_NAME = "HH806_0000_S23.JP2"
  RECORD_TYPE = UNDEFINED
  FILE_RECORDS = UNK
  ENCODING_TYPE = "JP2"
  INTERCHANGE_FORMAT = BINARY
  UNCOMPRESSED_FILE_NAME = "HH806_0000_S23.IMG"
  REQUIRED_STORAGE_BYTES = "91651500"
  ^DESCRIPTION = "JP2INFO.TXT"
END_OBJECT = COMPRESSED_FILE
END
