PDS_VERSION_ID = PDS3
/* FILE DATA ELEMENTS */
RECORD_TYPE = STREAM
/* POINTERS TO DATA OBJECTS */
^COMPRESSED_FILE = "HH807_0000_GR3.JP2"
/* IDENTIFICATION DATA ELEMENTS */
DATA_SET_ID = "MEX-M-HRSC-5-REFDR-MAPPROJECTED-V3.0"
DATA_SET_NAME = "MARS EXPRESS HRSC MAP PROJECTED REFDR V3.0"
DETECTOR_ID = MEX_HRSC_GREEN
EVENT_TYPE = "MARS-REGIONAL-MAPPING-Te-Im-Gl"
INSTRUMENT_HOST_ID = MEX
INSTRUMENT_HOST_NAME = "MARS EXPRESS"
INSTRUMENT_ID = HRSC
INSTRUMENT_NAME = "HIGH RESOLUTION STEREO CAMERA"
MISSION_NAME = "MARS EXPRESS"
MISSION_PHASE_NAME = ME_Phase_38
PROCESSING_LEVEL_ID = 3
PRODUCT_CREATION_TIME = 2018-09-04T13:05:27.000Z
PRODUCT_ID = "HH807_0000_GR3.JP2"
RELEASE_ID = 0140
REVISION_ID = 0000
/* QUALITY DATA ELEMENTS */
DATA_QUALITY_ID = 1
DATA_QUALITY_DESC = "Data calculated based on original SPICE kernels"
/* TIME DATA ELEMENTS */
SPACECRAFT_CLOCK_START_COUNT = "1/0465004262.09060"
SPACECRAFT_CLOCK_STOP_COUNT = "1/0465004523.39184"
START_TIME = 2018-01-25T23:51:41.623Z
STOP_TIME = 2018-01-25T23:54:50.724Z
/* ORBITAL DATA ELEMENTS */
ASCENDING_NODE_LONGITUDE = 239.81
MAXIMUM_RESOLUTION = 58.3
FOOTPRINT_POINT_LATITUDE = (35.9438,35.9282,35.91,35.8998,35.8774, 35.4972,35.2436,34.9898,34.7359,34.3547 ,34.1005,33.8461,33.5904,33.3357, 33.0819,32.6992,32.4441,32.0612,31.8059 ,31.5507,31.2954,30.9122,30.6568, 30.4011,30.0174,29.7616,29.5056,29.2498 ,28.9856,28.7336,28.5189,28.3044, 27.9828,27.768,27.5534,27.3394,27.125, 26.8033,26.5888,26.3736,26.1578,25.9429 ,25.7281,25.5133,25.2986,25.0699, 24.8141,24.5578,24.3018,24.0458,23.7908 ,23.7446,23.7548,23.7608,23.7671, 24.0267,24.2833,24.6683,24.925,25.2912, 25.5064,25.7214,25.9367,26.1518,26.474, 26.689,26.9044,27.1193,27.4415,27.6565, 27.8715,28.1937,28.4092,28.6243,28.8474 ,29.104,29.3686,29.6247,29.8816,30.1381 ,30.3944,30.6507,30.9069,31.163,31.5469 ,31.9312,32.1872,32.4429,32.6987, 33.0823,33.4657,33.721,33.9762,34.2313, 34.4863,34.7412,34.9958,35.2506,35.505, 35.9438)
FOOTPRINT_POINT_LONGITUDE = (50.0702,49.5848,49.0843,48.828,48.4714 ,48.4921,48.5062,48.5194,48.5323, 48.5514,48.5642,48.576,48.5817,48.5931, 48.6094,48.624,48.6345,48.6491,48.659, 48.6696,48.68,48.695,48.7053,48.7141, 48.7271,48.7361,48.7441,48.7531,48.761, 48.7682,48.7742,48.781,48.7917,48.797, 48.8027,48.8125,48.8195,48.8296,48.8356 ,48.8387,48.8376,48.8419,48.8463, 48.8507,48.8553,48.8596,48.8675,48.872, 48.8776,48.8836,48.8938,49.1975,49.6524 ,49.9237,50.2663,50.3593,50.3565, 50.3521,50.349,50.3447,50.3424,50.3396, 50.3372,50.3346,50.3295,50.3264,50.3243 ,50.3211,50.3158,50.3126,50.3095, 50.3042,50.3023,50.2993,50.2965,50.2928 ,50.2889,50.2843,50.2814,50.2778, 50.2738,50.2697,50.2658,50.2614,50.2547 ,50.2492,50.2451,50.2408,50.2365, 50.2303,50.224,50.2192,50.2144,50.2098, 50.2048,50.2,50.1947,50.19,50.1848, 50.0702)
ORBIT_NUMBER = 17807
ORBITAL_ECCENTRICITY = 0.575
ORBITAL_INCLINATION = 86.96
ORBITAL_SEMIMAJOR_AXIS = 8832.79
PERIAPSIS_ALTITUDE = 361.47
PERIAPSIS_ARGUMENT_ANGLE = 151.3
PERIAPSIS_TIME = 2018-01-25T23:53:41.000Z
SPACECRAFT_ORIENTATION = (0.0,-1.0,0.0)
^MEX_ORIENTATION_DESC = "MEX_ORIENTATION_DESC.TXT"
SPACECRAFT_POINTING_MODE = ACROSSTRACK
^MEX_POINTING_DESC = "MEX_POINTING_DESC.TXT"
RIGHT_ASCENSION = -1e+32
DECLINATION = -1e+32
OFFSET_ANGLE = -1.374
SPACECRAFT_SOLAR_DISTANCE = 2.40646e+08
TARGET_NAME = MARS
/* CAMERA DATA ELEMENTS */
DETECTOR_TEMPERATURE = 17.9627
FOCAL_PLANE_TEMPERATURE = 7.9716
INST_CMPRS_NAME = "DISCRETE COSINE TRANSFORMATION (DCT)"
INST_CMPRS_RATIO = 6.50067
INST_CMPRS_QUALITY = 0
INST_CMPRS_QUANTZ_TBL_ID = 0
INSTRUMENT_TEMPERATURE = 9.195
LENS_TEMPERATURE = 8.5833
MACROPIXEL_SIZE = 4
MISSING_FRAMES = 1
PIXEL_SUBSAMPLING_FLAG = N
SIGNAL_CHAIN_ID = 2
/* RADIOMETRIC DATA ELEMENTS */
BANDWIDTH = 88.0
CENTER_FILTER_WAVELENGTH = 538.0
RADIANCE_OFFSET = 0.62375
RADIANCE_SCALING_FACTOR = 0.00642696
REFLECTANCE_SCALING_FACTOR = 0.000320445
MEX:REFLECTANCE_OFFSET = 0.0310999
/* IMAGE OBJECT DEFINITIONS */
OBJECT = IMAGE
  INTERCHANGE_FORMAT = BINARY
  LINES = 14453
  LINE_SAMPLES = 1974
  SAMPLE_TYPE = UNSIGNED_INTEGER
  SAMPLE_BITS = 8
  BANDS = 1
  BAND_STORAGE_TYPE = BAND_SEQUENTIAL
  MAXIMUM = 255
  MEAN = 126.116
  MINIMUM = 1
  STANDARD_DEVIATION = 21.2045
END_OBJECT = IMAGE
/* MAP OBJECT DEFINITIONS */
OBJECT = IMAGE_MAP_PROJECTION
  ^DATA_SET_MAP_PROJECTION_CATALOG= "DSMAP.CAT"
  A_AXIS_RADIUS = 3396.0
  B_AXIS_RADIUS = 3396.0
  C_AXIS_RADIUS = 3396.0
  CENTER_LATITUDE = 0.0
  CENTER_LONGITUDE = 50.0
  COORDINATE_SYSTEM_NAME = PLANETOGRAPHIC
  COORDINATE_SYSTEM_TYPE = "BODY-FIXED ROTATING"
  EASTERNMOST_LONGITUDE = 50.3593
  FIRST_STANDARD_PARALLEL = "N/A"
  LINE_FIRST_PIXEL = 1
  LINE_LAST_PIXEL = 14453
  LINE_PROJECTION_OFFSET = 42605.625
  MAP_PROJECTION_ROTATION = 0.0
  MAP_PROJECTION_TYPE = SINUSOIDAL
  MAP_RESOLUTION = 1185.42760773333
  MAP_SCALE = 0.05
  MAXIMUM_LATITUDE = 35.9438
  MINIMUM_LATITUDE = 23.7446
  POSITIVE_LONGITUDE_DIRECTION = EAST
  REFERENCE_LATITUDE = "N/A"
  REFERENCE_LONGITUDE = "N/A"
  SAMPLE_FIRST_PIXEL = 1
  SAMPLE_LAST_PIXEL = 1974
  SAMPLE_PROJECTION_OFFSET = 1574.125
  SECOND_STANDARD_PARALLEL = "N/A"
  WESTERNMOST_LONGITUDE = 48.4714
END_OBJECT = IMAGE_MAP_PROJECTION
/* The JPEG2000 image data file associated with this label. */
OBJECT = COMPRESSED_FILE
  FILE_NAME = "HH807_0000_GR3.JP2"
  RECORD_TYPE = UNDEFINED
  FILE_RECORDS = UNK
  ENCODING_TYPE = "JP2"
  INTERCHANGE_FORMAT = BINARY
  UNCOMPRESSED_FILE_NAME = "HH807_0000_GR3.IMG"
  REQUIRED_STORAGE_BYTES = "28549962"
  ^DESCRIPTION = "JP2INFO.TXT"
END_OBJECT = COMPRESSED_FILE
END
