PDS_VERSION_ID = PDS3
/* FILE DATA ELEMENTS */
RECORD_TYPE = STREAM
/* POINTERS TO DATA OBJECTS */
^COMPRESSED_FILE = "HH810_0000_P13.JP2"
/* IDENTIFICATION DATA ELEMENTS */
DATA_SET_ID = "MEX-M-HRSC-5-REFDR-MAPPROJECTED-V3.0"
DATA_SET_NAME = "MARS EXPRESS HRSC MAP PROJECTED REFDR V3.0"
DETECTOR_ID = MEX_HRSC_P1
EVENT_TYPE = "MARS-REGIONAL-STEREO-Vo-Mw"
INSTRUMENT_HOST_ID = MEX
INSTRUMENT_HOST_NAME = "MARS EXPRESS"
INSTRUMENT_ID = HRSC
INSTRUMENT_NAME = "HIGH RESOLUTION STEREO CAMERA"
MISSION_NAME = "MARS EXPRESS"
MISSION_PHASE_NAME = ME_Phase_38
PROCESSING_LEVEL_ID = 3
PRODUCT_CREATION_TIME = 2018-09-04T13:05:27.000Z
PRODUCT_ID = "HH810_0000_P13.JP2"
RELEASE_ID = 0140
REVISION_ID = 0000
/* QUALITY DATA ELEMENTS */
DATA_QUALITY_ID = 1
DATA_QUALITY_DESC = "Data calculated based on original SPICE kernels"
/* TIME DATA ELEMENTS */
SPACECRAFT_CLOCK_START_COUNT = "1/0465079964.57144"
SPACECRAFT_CLOCK_STOP_COUNT = "1/0465080120.11268"
START_TIME = 2018-01-26T20:53:05.322Z
STOP_TIME = 2018-01-26T20:54:26.642Z
/* ORBITAL DATA ELEMENTS */
ASCENDING_NODE_LONGITUDE = 239.75
MAXIMUM_RESOLUTION = 30.9
FOOTPRINT_POINT_LATITUDE = (19.6142,19.6152,19.6158,19.6165, 19.6169,19.617,19.617,19.6169,19.6166, 19.5414,19.4369,19.2802,19.1236,19.0192 ,18.9147,18.7581,18.6014,18.497,18.3403 ,18.1837,18.0274,17.9231,17.7664, 17.6099,17.5054,17.4012,17.2451,17.1407 ,17.0363,16.9319,16.8278,16.6716, 16.5156,16.4116,16.2555,16.1514,16.0472 ,15.9389,15.8347,15.7306,15.5743, 15.4701,15.3138,15.1577,15.0018,14.8968 ,14.7939,14.6897,14.5333,14.3292, 14.3291,14.3289,14.3283,14.3275,14.3259 ,14.3259,14.3248,14.3238,14.3223, 14.3733,14.5295,14.6338,14.79,14.8941, 14.9983,15.1547,15.3111,15.4154,15.5716 ,15.6759,15.8322,15.9406,16.0448, 16.1491,16.2536,16.4099,16.5663,16.6706 ,16.8271,16.9314,17.0877,17.2441, 17.4006,17.5052,17.6097,17.7663,17.9228 ,18.0795,18.2362,18.3407,18.4452, 18.6018,18.7063,18.8631,19.0199,19.1245 ,19.2809,19.3858,19.4903,19.6142)
FOOTPRINT_POINT_LONGITUDE = (105.256,105.083,104.976,104.776,104.63 ,104.523,104.417,104.31,104.177,104.001 ,104.001,104.0,103.999,103.998,103.998, 103.997,103.996,103.995,103.994,103.993 ,103.992,103.991,103.99,103.988,103.987 ,103.986,103.985,103.984,103.983, 103.982,103.981,103.98,103.978,103.977, 103.976,103.975,103.974,103.972,103.971 ,103.97,103.968,103.967,103.965,103.963 ,103.961,103.959,103.959,103.957, 103.955,103.952,104.091,104.23,104.453, 104.592,104.745,104.856,104.967,105.079 ,105.259,105.39,105.39,105.39,105.39, 105.391,105.391,105.391,105.391,105.391 ,105.392,105.392,105.392,105.392, 105.393,105.393,105.393,105.393,105.394 ,105.394,105.394,105.395,105.395, 105.395,105.396,105.396,105.396,105.397 ,105.397,105.397,105.398,105.398, 105.398,105.398,105.399,105.399,105.399 ,105.4,105.4,105.4,105.4,105.256)
ORBIT_NUMBER = 17810
ORBITAL_ECCENTRICITY = 0.575
ORBITAL_INCLINATION = 86.96
ORBITAL_SEMIMAJOR_AXIS = 8832.74
PERIAPSIS_ALTITUDE = 361.33
PERIAPSIS_ARGUMENT_ANGLE = 150.74
PERIAPSIS_TIME = 2018-01-26T20:50:58.000Z
SPACECRAFT_ORIENTATION = (0.0,-1.0,0.0)
^MEX_ORIENTATION_DESC = "MEX_ORIENTATION_DESC.TXT"
SPACECRAFT_POINTING_MODE = ACROSSTRACK
^MEX_POINTING_DESC = "MEX_POINTING_DESC.TXT"
RIGHT_ASCENSION = -1e+32
DECLINATION = -1e+32
OFFSET_ANGLE = -0.15
SPACECRAFT_SOLAR_DISTANCE = 2.40516e+08
TARGET_NAME = MARS
/* CAMERA DATA ELEMENTS */
DETECTOR_TEMPERATURE = 0.0
FOCAL_PLANE_TEMPERATURE = 0.0
INST_CMPRS_NAME = "DISCRETE COSINE TRANSFORMATION (DCT)"
INST_CMPRS_RATIO = 6.08023
INST_CMPRS_QUALITY = 0
INST_CMPRS_QUANTZ_TBL_ID = 0
INSTRUMENT_TEMPERATURE = 0.0
LENS_TEMPERATURE = 0.0
MACROPIXEL_SIZE = 2
MISSING_FRAMES = 1
PIXEL_SUBSAMPLING_FLAG = N
SIGNAL_CHAIN_ID = 3
/* RADIOMETRIC DATA ELEMENTS */
BANDWIDTH = 174.0
CENTER_FILTER_WAVELENGTH = 675.0
RADIANCE_OFFSET = 2.47503
RADIANCE_SCALING_FACTOR = 0.012533
REFLECTANCE_SCALING_FACTOR = 0.000389969
MEX:REFLECTANCE_OFFSET = 0.0770115
/* IMAGE OBJECT DEFINITIONS */
OBJECT = IMAGE
  INTERCHANGE_FORMAT = BINARY
  LINES = 11421
  LINE_SAMPLES = 3505
  SAMPLE_TYPE = UNSIGNED_INTEGER
  SAMPLE_BITS = 8
  BANDS = 1
  BAND_STORAGE_TYPE = BAND_SEQUENTIAL
  MAXIMUM = 248
  MEAN = 110.577
  MINIMUM = 1
  STANDARD_DEVIATION = 12.8619
END_OBJECT = IMAGE
/* MAP OBJECT DEFINITIONS */
OBJECT = IMAGE_MAP_PROJECTION
  ^DATA_SET_MAP_PROJECTION_CATALOG= "DSMAP.CAT"
  A_AXIS_RADIUS = 3396.0
  B_AXIS_RADIUS = 3396.0
  C_AXIS_RADIUS = 3396.0
  CENTER_LATITUDE = 0.0
  CENTER_LONGITUDE = 105.0
  COORDINATE_SYSTEM_NAME = PLANETOGRAPHIC
  COORDINATE_SYSTEM_TYPE = "BODY-FIXED ROTATING"
  EASTERNMOST_LONGITUDE = 105.4
  FIRST_STANDARD_PARALLEL = "N/A"
  LINE_FIRST_PIXEL = 1
  LINE_LAST_PIXEL = 11421
  LINE_PROJECTION_OFFSET = 46499.75
  MAP_PROJECTION_ROTATION = 0.0
  MAP_PROJECTION_TYPE = SINUSOIDAL
  MAP_RESOLUTION = 2370.85521546667
  MAP_SCALE = 0.025
  MAXIMUM_LATITUDE = 19.617
  MINIMUM_LATITUDE = 14.3223
  POSITIVE_LONGITUDE_DIRECTION = EAST
  REFERENCE_LATITUDE = "N/A"
  REFERENCE_LONGITUDE = "N/A"
  SAMPLE_FIRST_PIXEL = 1
  SAMPLE_LAST_PIXEL = 3505
  SAMPLE_PROJECTION_OFFSET = 2499.75
  SECOND_STANDARD_PARALLEL = "N/A"
  WESTERNMOST_LONGITUDE = 103.952
END_OBJECT = IMAGE_MAP_PROJECTION
/* The JPEG2000 image data file associated with this label. */
OBJECT = COMPRESSED_FILE
  FILE_NAME = "HH810_0000_P13.JP2"
  RECORD_TYPE = UNDEFINED
  FILE_RECORDS = UNK
  ENCODING_TYPE = "JP2"
  INTERCHANGE_FORMAT = BINARY
  UNCOMPRESSED_FILE_NAME = "HH810_0000_P13.IMG"
  REQUIRED_STORAGE_BYTES = "40051635"
  ^DESCRIPTION = "JP2INFO.TXT"
END_OBJECT = COMPRESSED_FILE
END
