PDS_VERSION_ID = PDS3
/* FILE DATA ELEMENTS */
RECORD_TYPE = STREAM
/* POINTERS TO DATA OBJECTS */
^COMPRESSED_FILE = "HH812_0000_P13.JP2"
/* IDENTIFICATION DATA ELEMENTS */
DATA_SET_ID = "MEX-M-HRSC-5-REFDR-MAPPROJECTED-V3.0"
DATA_SET_NAME = "MARS EXPRESS HRSC MAP PROJECTED REFDR V3.0"
DETECTOR_ID = MEX_HRSC_P1
EVENT_TYPE = "MARS-REGIONAL-STEREO-Vo-Te"
INSTRUMENT_HOST_ID = MEX
INSTRUMENT_HOST_NAME = "MARS EXPRESS"
INSTRUMENT_ID = HRSC
INSTRUMENT_NAME = "HIGH RESOLUTION STEREO CAMERA"
MISSION_NAME = "MARS EXPRESS"
MISSION_PHASE_NAME = ME_Phase_38
PROCESSING_LEVEL_ID = 3
PRODUCT_CREATION_TIME = 2018-09-04T13:05:27.000Z
PRODUCT_ID = "HH812_0000_P13.JP2"
RELEASE_ID = 0140
REVISION_ID = 0000
/* QUALITY DATA ELEMENTS */
DATA_QUALITY_ID = 1
DATA_QUALITY_DESC = "Data calculated based on original SPICE kernels"
/* TIME DATA ELEMENTS */
SPACECRAFT_CLOCK_START_COUNT = "1/0465130036.08291"
SPACECRAFT_CLOCK_STOP_COUNT = "1/0465130252.00364"
START_TIME = 2018-01-27T10:47:36.898Z
STOP_TIME = 2018-01-27T10:50:03.668Z
/* ORBITAL DATA ELEMENTS */
ASCENDING_NODE_LONGITUDE = 239.72
MAXIMUM_RESOLUTION = 29.5
FOOTPRINT_POINT_LATITUDE = (34.4447,34.4348,34.4241,34.4128, 34.4007,34.3877,34.3609,34.1448,33.8203 ,33.6039,33.2786,33.0619,32.8586, 32.5855,32.4033,32.1301,31.9477,31.7652 ,31.5827,31.3086,31.0349,30.852,30.6692 ,30.4862,30.2116,30.0284,29.8451, 29.6618,29.3865,29.203,29.0195,28.8357, 28.652,28.4685,28.1923,28.0082,27.8244, 27.6403,27.4564,27.1802,26.996,26.7194, 26.535,26.3503,26.0743,25.8899,25.7052, 25.5208,25.2438,25.0589,24.9549,24.9665 ,24.9744,24.9843,24.9961,25.0967, 25.2812,25.5584,25.7431,25.9282,26.1134 ,26.3909,26.5757,26.8529,27.0375, 27.2224,27.4984,27.6834,27.8674,28.0519 ,28.3281,28.5123,28.7885,28.9727, 29.1568,29.4328,29.6167,29.8003,29.984, 30.1677,30.3513,30.6266,30.8102,30.9936 ,31.1767,31.4512,31.7257,31.9087, 32.0917,32.2745,32.5484,32.7308,32.9133 ,33.114,33.3313,33.6574,33.8746,34.0914 ,34.3082,34.4447)
FOOTPRINT_POINT_LONGITUDE = (259.917,259.678,259.435,259.191, 258.944,258.695,258.497,258.506,258.521 ,258.53,258.543,258.552,258.56,258.57, 258.577,258.587,258.594,258.6,258.606, 258.616,258.625,258.631,258.637,258.642 ,258.651,258.656,258.661,258.667, 258.674,258.679,258.684,258.688,258.693 ,258.698,258.704,258.708,258.712, 258.716,258.72,258.726,258.73,258.735, 258.738,258.741,258.747,258.75,258.753, 258.756,258.761,258.763,258.863,259.143 ,259.336,259.583,259.921,260.179, 260.178,260.176,260.175,260.173,260.172 ,260.17,260.169,260.167,260.166,260.164 ,260.162,260.161,260.159,260.158, 260.156,260.154,260.152,260.15,260.149, 260.146,260.145,260.143,260.141,260.14, 260.138,260.135,260.134,260.132,260.13, 260.127,260.125,260.123,260.121,260.119 ,260.116,260.114,260.112,260.109, 260.107,260.103,260.101,260.098,260.095 ,259.917)
ORBIT_NUMBER = 17812
ORBITAL_ECCENTRICITY = 0.575
ORBITAL_INCLINATION = 86.95
ORBITAL_SEMIMAJOR_AXIS = 8837.11
PERIAPSIS_ALTITUDE = 361.73
PERIAPSIS_ARGUMENT_ANGLE = 150.4
PERIAPSIS_TIME = 2018-01-27T10:49:14.000Z
SPACECRAFT_ORIENTATION = (0.0,-1.0,0.0)
^MEX_ORIENTATION_DESC = "MEX_ORIENTATION_DESC.TXT"
SPACECRAFT_POINTING_MODE = ACROSSTRACK
^MEX_POINTING_DESC = "MEX_POINTING_DESC.TXT"
RIGHT_ASCENSION = -1e+32
DECLINATION = -1e+32
OFFSET_ANGLE = -0.808
SPACECRAFT_SOLAR_DISTANCE = 2.4043e+08
TARGET_NAME = MARS
/* CAMERA DATA ELEMENTS */
DETECTOR_TEMPERATURE = 18.3705
FOCAL_PLANE_TEMPERATURE = 9.3989
INST_CMPRS_NAME = "DISCRETE COSINE TRANSFORMATION (DCT)"
INST_CMPRS_RATIO = 9.49476
INST_CMPRS_QUALITY = 0
INST_CMPRS_QUANTZ_TBL_ID = 0
INSTRUMENT_TEMPERATURE = 12.8652
LENS_TEMPERATURE = 9.8067
MACROPIXEL_SIZE = 2
MISSING_FRAMES = 0
PIXEL_SUBSAMPLING_FLAG = N
SIGNAL_CHAIN_ID = 3
/* RADIOMETRIC DATA ELEMENTS */
BANDWIDTH = 174.0
CENTER_FILTER_WAVELENGTH = 675.0
RADIANCE_OFFSET = 1.44898
RADIANCE_SCALING_FACTOR = 0.0311173
REFLECTANCE_SCALING_FACTOR = 0.000967529
MEX:REFLECTANCE_OFFSET = 0.0450532
/* IMAGE OBJECT DEFINITIONS */
OBJECT = IMAGE
  INTERCHANGE_FORMAT = BINARY
  LINES = 22358
  LINE_SAMPLES = 3681
  SAMPLE_TYPE = UNSIGNED_INTEGER
  SAMPLE_BITS = 8
  BANDS = 1
  BAND_STORAGE_TYPE = BAND_SEQUENTIAL
  MAXIMUM = 255
  MEAN = 115.074
  MINIMUM = 1
  STANDARD_DEVIATION = 22.3434
END_OBJECT = IMAGE
/* MAP OBJECT DEFINITIONS */
OBJECT = IMAGE_MAP_PROJECTION
  ^DATA_SET_MAP_PROJECTION_CATALOG= "DSMAP.CAT"
  A_AXIS_RADIUS = 3396.0
  B_AXIS_RADIUS = 3396.0
  C_AXIS_RADIUS = 3396.0
  CENTER_LATITUDE = 0.0
  CENTER_LONGITUDE = 259.0
  COORDINATE_SYSTEM_NAME = PLANETOGRAPHIC
  COORDINATE_SYSTEM_TYPE = "BODY-FIXED ROTATING"
  EASTERNMOST_LONGITUDE = 260.179
  FIRST_STANDARD_PARALLEL = "N/A"
  LINE_FIRST_PIXEL = 1
  LINE_LAST_PIXEL = 22358
  LINE_PROJECTION_OFFSET = 81538.25
  MAP_PROJECTION_ROTATION = 0.0
  MAP_PROJECTION_TYPE = SINUSOIDAL
  MAP_RESOLUTION = 2370.85521546667
  MAP_SCALE = 0.025
  MAXIMUM_LATITUDE = 34.4447
  MINIMUM_LATITUDE = 24.9549
  POSITIVE_LONGITUDE_DIRECTION = EAST
  REFERENCE_LATITUDE = "N/A"
  REFERENCE_LONGITUDE = "N/A"
  SAMPLE_FIRST_PIXEL = 1
  SAMPLE_LAST_PIXEL = 3681
  SAMPLE_PROJECTION_OFFSET = 1137.75
  SECOND_STANDARD_PARALLEL = "N/A"
  WESTERNMOST_LONGITUDE = 258.497
END_OBJECT = IMAGE_MAP_PROJECTION
/* The JPEG2000 image data file associated with this label. */
OBJECT = COMPRESSED_FILE
  FILE_NAME = "HH812_0000_P13.JP2"
  RECORD_TYPE = UNDEFINED
  FILE_RECORDS = UNK
  ENCODING_TYPE = "JP2"
  INTERCHANGE_FORMAT = BINARY
  UNCOMPRESSED_FILE_NAME = "HH812_0000_P13.IMG"
  REQUIRED_STORAGE_BYTES = "82321884"
  ^DESCRIPTION = "JP2INFO.TXT"
END_OBJECT = COMPRESSED_FILE
END
