PDS_VERSION_ID = PDS3
/* FILE DATA ELEMENTS */
RECORD_TYPE = STREAM
/* POINTERS TO DATA OBJECTS */
^COMPRESSED_FILE = "HH813_0000_GR3.JP2"
/* IDENTIFICATION DATA ELEMENTS */
DATA_SET_ID = "MEX-M-HRSC-5-REFDR-MAPPROJECTED-V3.0"
DATA_SET_NAME = "MARS EXPRESS HRSC MAP PROJECTED REFDR V3.0"
DETECTOR_ID = MEX_HRSC_GREEN
EVENT_TYPE = "MARS-LOCAL-STEREO-Vo-Te-Eo"
INSTRUMENT_HOST_ID = MEX
INSTRUMENT_HOST_NAME = "MARS EXPRESS"
INSTRUMENT_ID = HRSC
INSTRUMENT_NAME = "HIGH RESOLUTION STEREO CAMERA"
MISSION_NAME = "MARS EXPRESS"
MISSION_PHASE_NAME = ME_Phase_38
PROCESSING_LEVEL_ID = 3
PRODUCT_CREATION_TIME = 2018-09-04T13:05:27.000Z
PRODUCT_ID = "HH813_0000_GR3.JP2"
RELEASE_ID = 0140
REVISION_ID = 0000
/* QUALITY DATA ELEMENTS */
DATA_QUALITY_ID = 1
DATA_QUALITY_DESC = "Data calculated based on original SPICE kernels"
/* TIME DATA ELEMENTS */
SPACECRAFT_CLOCK_START_COUNT = "1/0465155482.09042"
SPACECRAFT_CLOCK_STOP_COUNT = "1/0465155700.56117"
START_TIME = 2018-01-27T17:52:01.251Z
STOP_TIME = 2018-01-27T17:54:12.079Z
/* ORBITAL DATA ELEMENTS */
ASCENDING_NODE_LONGITUDE = 239.69
MAXIMUM_RESOLUTION = 64.7
FOOTPRINT_POINT_LATITUDE = (15.1868,15.1915,15.196,15.2001,15.204, 15.2076,14.9729,14.6644,14.3561,14.0481 ,13.812,13.6541,13.4963,13.3385,13.1808 ,13.0232,12.8657,12.7083,12.5509, 12.3911,12.2298,12.0685,11.9074,11.7463 ,11.5853,11.4244,11.2637,11.103,10.9383 ,10.6914,10.527,10.3626,10.1898,10.0257 ,9.86164,9.69468,9.52676,9.35895, 9.19126,9.02367,8.8562,8.68886,8.51899, 8.34771,8.09094,7.92001,7.74928,7.57869 ,7.31797,7.00782,7.00292,6.99777, 6.99241,6.9868,6.98063,7.06043,7.23489, 7.40947,7.66759,7.83848,8.00948,8.18062 ,8.43762,8.60908,8.77621,8.94429, 9.19554,9.36352,9.53149,9.69979,9.86602 ,10.1124,10.3678,10.5323,10.6969, 10.8616,11.0266,11.1886,11.3494,11.5101 ,11.6713,11.913,12.155,12.3165,12.4775, 12.635,12.7925,12.9502,13.1079,13.2657, 13.4236,13.5816,13.7396,13.8977,14.054, 14.3622,14.6708,14.9796,15.1341, 15.1868)
FOOTPRINT_POINT_LONGITUDE = (159.613,159.389,159.168,158.95,158.733 ,158.519,158.42,158.414,158.408,158.401 ,158.397,158.393,158.39,158.386,158.383 ,158.38,158.376,158.373,158.369,158.366 ,158.362,158.358,158.354,158.351, 158.347,158.343,158.339,158.335,158.331 ,158.325,158.321,158.317,158.312, 158.308,158.304,158.3,158.295,158.291, 158.286,158.282,158.277,158.273,158.268 ,158.263,158.256,158.251,158.247, 158.242,158.234,158.284,158.527,158.772 ,159.018,159.267,159.534,159.889, 159.889,159.89,159.89,159.89,159.89, 159.89,159.89,159.89,159.891,159.89, 159.892,159.892,159.892,159.892,159.892 ,159.893,159.892,159.893,159.894, 159.894,159.894,159.894,159.895,159.897 ,159.897,159.898,159.899,159.9,159.9, 159.901,159.902,159.902,159.903,159.904 ,159.904,159.905,159.906,159.906, 159.907,159.909,159.91,159.912,159.913, 159.613)
ORBIT_NUMBER = 17813
ORBITAL_ECCENTRICITY = 0.575
ORBITAL_INCLINATION = 86.96
ORBITAL_SEMIMAJOR_AXIS = 8824.09
PERIAPSIS_ALTITUDE = 362.77
PERIAPSIS_ARGUMENT_ANGLE = 150.25
PERIAPSIS_TIME = 2018-01-27T17:48:21.000Z
SPACECRAFT_ORIENTATION = (0.0,-1.0,0.0)
^MEX_ORIENTATION_DESC = "MEX_ORIENTATION_DESC.TXT"
SPACECRAFT_POINTING_MODE = ACROSSTRACK
^MEX_POINTING_DESC = "MEX_POINTING_DESC.TXT"
RIGHT_ASCENSION = -1e+32
DECLINATION = -1e+32
OFFSET_ANGLE = 0.916
SPACECRAFT_SOLAR_DISTANCE = 2.40386e+08
TARGET_NAME = MARS
/* CAMERA DATA ELEMENTS */
DETECTOR_TEMPERATURE = 18.3705
FOCAL_PLANE_TEMPERATURE = 8.5833
INST_CMPRS_NAME = "DISCRETE COSINE TRANSFORMATION (DCT)"
INST_CMPRS_RATIO = 9.40875
INST_CMPRS_QUALITY = 0
INST_CMPRS_QUANTZ_TBL_ID = 0
INSTRUMENT_TEMPERATURE = 11.6418
LENS_TEMPERATURE = 9.3989
MACROPIXEL_SIZE = 4
MISSING_FRAMES = 1
PIXEL_SUBSAMPLING_FLAG = N
SIGNAL_CHAIN_ID = 2
/* RADIOMETRIC DATA ELEMENTS */
BANDWIDTH = 88.0
CENTER_FILTER_WAVELENGTH = 538.0
RADIANCE_OFFSET = 0.610392
RADIANCE_SCALING_FACTOR = 0.00408579
REFLECTANCE_SCALING_FACTOR = 0.000203274
MEX:REFLECTANCE_OFFSET = 0.0303679
/* IMAGE OBJECT DEFINITIONS */
OBJECT = IMAGE
  INTERCHANGE_FORMAT = BINARY
  LINES = 9739
  LINE_SAMPLES = 2079
  SAMPLE_TYPE = UNSIGNED_INTEGER
  SAMPLE_BITS = 8
  BANDS = 1
  BAND_STORAGE_TYPE = BAND_SEQUENTIAL
  MAXIMUM = 255
  MEAN = 123.623
  MINIMUM = 1
  STANDARD_DEVIATION = 22.5073
END_OBJECT = IMAGE
/* MAP OBJECT DEFINITIONS */
OBJECT = IMAGE_MAP_PROJECTION
  ^DATA_SET_MAP_PROJECTION_CATALOG= "DSMAP.CAT"
  A_AXIS_RADIUS = 3396.0
  B_AXIS_RADIUS = 3396.0
  C_AXIS_RADIUS = 3396.0
  CENTER_LATITUDE = 0.0
  CENTER_LONGITUDE = 159.0
  COORDINATE_SYSTEM_NAME = PLANETOGRAPHIC
  COORDINATE_SYSTEM_TYPE = "BODY-FIXED ROTATING"
  EASTERNMOST_LONGITUDE = 159.913
  FIRST_STANDARD_PARALLEL = "N/A"
  LINE_FIRST_PIXEL = 1
  LINE_LAST_PIXEL = 9739
  LINE_PROJECTION_OFFSET = 18022.625
  MAP_PROJECTION_ROTATION = 0.0
  MAP_PROJECTION_TYPE = SINUSOIDAL
  MAP_RESOLUTION = 1185.42760773333
  MAP_SCALE = 0.05
  MAXIMUM_LATITUDE = 15.2076
  MINIMUM_LATITUDE = 6.98063
  POSITIVE_LONGITUDE_DIRECTION = EAST
  REFERENCE_LATITUDE = "N/A"
  REFERENCE_LONGITUDE = "N/A"
  SAMPLE_FIRST_PIXEL = 1
  SAMPLE_LAST_PIXEL = 2079
  SAMPLE_PROJECTION_OFFSET = 931.125
  SECOND_STANDARD_PARALLEL = "N/A"
  WESTERNMOST_LONGITUDE = 158.234
END_OBJECT = IMAGE_MAP_PROJECTION
/* The JPEG2000 image data file associated with this label. */
OBJECT = COMPRESSED_FILE
  FILE_NAME = "HH813_0000_GR3.JP2"
  RECORD_TYPE = UNDEFINED
  FILE_RECORDS = UNK
  ENCODING_TYPE = "JP2"
  INTERCHANGE_FORMAT = BINARY
  UNCOMPRESSED_FILE_NAME = "HH813_0000_GR3.IMG"
  REQUIRED_STORAGE_BYTES = "20268171"
  ^DESCRIPTION = "JP2INFO.TXT"
END_OBJECT = COMPRESSED_FILE
END
