PDS_VERSION_ID = PDS3
/* FILE DATA ELEMENTS */
RECORD_TYPE = STREAM
/* POINTERS TO DATA OBJECTS */
^COMPRESSED_FILE = "HH817_0009_P23.JP2"
/* IDENTIFICATION DATA ELEMENTS */
DATA_SET_ID = "MEX-M-HRSC-5-REFDR-MAPPROJECTED-V3.0"
DATA_SET_NAME = "MARS EXPRESS HRSC MAP PROJECTED REFDR V3.0"
DETECTOR_ID = MEX_HRSC_P2
EVENT_TYPE = "MARS-REGIONAL-STEREO-Vo-Mw"
INSTRUMENT_HOST_ID = MEX
INSTRUMENT_HOST_NAME = "MARS EXPRESS"
INSTRUMENT_ID = HRSC
INSTRUMENT_NAME = "HIGH RESOLUTION STEREO CAMERA"
MISSION_NAME = "MARS EXPRESS"
MISSION_PHASE_NAME = ME_Phase_38
PROCESSING_LEVEL_ID = 3
PRODUCT_CREATION_TIME = 2018-09-04T13:05:27.000Z
PRODUCT_ID = "HH817_0009_P23.JP2"
RELEASE_ID = 0140
REVISION_ID = 0000
/* QUALITY DATA ELEMENTS */
DATA_QUALITY_ID = 1
DATA_QUALITY_DESC = "Data calculated based on original SPICE kernels"
/* TIME DATA ELEMENTS */
SPACECRAFT_CLOCK_START_COUNT = "1/0465255999.08462"
SPACECRAFT_CLOCK_STOP_COUNT = "1/0465256156.65198"
START_TIME = 2018-01-28T21:47:45.553Z
STOP_TIME = 2018-01-28T21:49:09.943Z
/* ORBITAL DATA ELEMENTS */
ASCENDING_NODE_LONGITUDE = 239.62
MAXIMUM_RESOLUTION = 32.4
FOOTPRINT_POINT_LATITUDE = (19.8977,19.8984,19.8989,19.8996, 19.9004,19.9009,19.9013,19.902,19.9024, 19.9028,19.9034,19.7706,19.6664,19.5622 ,19.4059,19.2498,19.1459,19.0419, 18.8859,18.7299,18.5747,18.4711,18.3156 ,18.2121,18.0569,17.9535,17.85,17.6947, 17.5398,17.3853,17.2823,17.1792,17.076, 16.9724,16.8694,16.7665,16.6122,16.4582 ,16.2533,16.0996,15.8931,15.7878, 15.6829,15.578,15.4207,15.2635,15.1587, 15.0015,14.8448,14.7294,14.7274,14.7262 ,14.7252,14.7238,14.7229,14.7213, 14.7201,14.7187,14.7178,14.8747,14.9792 ,15.0838,15.1885,15.3454,15.4504, 15.5555,15.6605,15.7656,15.8707,16.0269 ,16.1808,16.3349,16.5916,16.7976, 16.9533,17.0563,17.1594,17.2626,17.3657 ,17.5206,17.6239,17.7272,17.8825, 18.0381,18.1418,18.2455,18.3494,18.4531 ,18.5568,18.7127,18.8166,18.9726, 19.1287,19.2328,19.337,19.4412,19.5456, 19.6498,19.7543,19.8977)
FOOTPRINT_POINT_LONGITUDE = (110.326,110.2,110.088,109.934,109.738, 109.626,109.514,109.332,109.221,109.108 ,108.912,108.895,108.894,108.893, 108.892,108.891,108.89,108.889,108.887, 108.886,108.884,108.883,108.881,108.88, 108.878,108.877,108.876,108.874,108.872 ,108.87,108.869,108.868,108.866,108.865 ,108.864,108.863,108.861,108.859, 108.855,108.853,108.85,108.848,108.847, 108.845,108.843,108.84,108.838,108.836, 108.833,108.861,109.085,109.204,109.323 ,109.502,109.621,109.845,110.009, 110.187,110.322,110.372,110.371,110.371 ,110.371,110.371,110.37,110.37,110.37, 110.37,110.37,110.37,110.369,110.369, 110.369,110.369,110.369,110.369,110.369 ,110.369,110.368,110.368,110.368, 110.368,110.368,110.368,110.368,110.368 ,110.367,110.367,110.367,110.367, 110.367,110.367,110.367,110.366,110.366 ,110.366,110.366,110.366,110.366, 110.326)
ORBIT_NUMBER = 17817
ORBITAL_ECCENTRICITY = 0.575
ORBITAL_INCLINATION = 86.96
ORBITAL_SEMIMAJOR_AXIS = 8830.8
PERIAPSIS_ALTITUDE = 362.14
PERIAPSIS_ARGUMENT_ANGLE = 149.53
PERIAPSIS_TIME = 2018-01-28T21:44:38.000Z
SPACECRAFT_ORIENTATION = (0.0,-1.0,0.0)
^MEX_ORIENTATION_DESC = "MEX_ORIENTATION_DESC.TXT"
SPACECRAFT_POINTING_MODE = NADIR
^MEX_POINTING_DESC = "MEX_POINTING_DESC.TXT"
RIGHT_ASCENSION = -1e+32
DECLINATION = -1e+32
OFFSET_ANGLE = -1e+32
SPACECRAFT_SOLAR_DISTANCE = 2.40211e+08
TARGET_NAME = MARS
/* CAMERA DATA ELEMENTS */
DETECTOR_TEMPERATURE = 18.5744
FOCAL_PLANE_TEMPERATURE = 8.5833
INST_CMPRS_NAME = "DISCRETE COSINE TRANSFORMATION (DCT)"
INST_CMPRS_RATIO = 7.40629
INST_CMPRS_QUALITY = 0
INST_CMPRS_QUANTZ_TBL_ID = 0
INSTRUMENT_TEMPERATURE = 11.8457
LENS_TEMPERATURE = 9.8067
MACROPIXEL_SIZE = 2
MISSING_FRAMES = 0
PIXEL_SUBSAMPLING_FLAG = N
SIGNAL_CHAIN_ID = 3
/* RADIOMETRIC DATA ELEMENTS */
BANDWIDTH = 177.0
CENTER_FILTER_WAVELENGTH = 676.5
RADIANCE_OFFSET = 2.35163
RADIANCE_SCALING_FACTOR = 0.0140893
REFLECTANCE_SCALING_FACTOR = 0.000431054
MEX:REFLECTANCE_OFFSET = 0.0719469
/* IMAGE OBJECT DEFINITIONS */
OBJECT = IMAGE
  INTERCHANGE_FORMAT = BINARY
  LINES = 12332
  LINE_SAMPLES = 3572
  SAMPLE_TYPE = UNSIGNED_INTEGER
  SAMPLE_BITS = 8
  BANDS = 1
  BAND_STORAGE_TYPE = BAND_SEQUENTIAL
  MAXIMUM = 255
  MEAN = 95.767
  MINIMUM = 1
  STANDARD_DEVIATION = 11.5112
END_OBJECT = IMAGE
/* MAP OBJECT DEFINITIONS */
OBJECT = IMAGE_MAP_PROJECTION
  ^DATA_SET_MAP_PROJECTION_CATALOG= "DSMAP.CAT"
  A_AXIS_RADIUS = 3396.0
  B_AXIS_RADIUS = 3396.0
  C_AXIS_RADIUS = 3396.0
  CENTER_LATITUDE = 0.0
  CENTER_LONGITUDE = 110.0
  COORDINATE_SYSTEM_NAME = PLANETOGRAPHIC
  COORDINATE_SYSTEM_TYPE = "BODY-FIXED ROTATING"
  EASTERNMOST_LONGITUDE = 110.372
  FIRST_STANDARD_PARALLEL = "N/A"
  LINE_FIRST_PIXEL = 1
  LINE_LAST_PIXEL = 12332
  LINE_PROJECTION_OFFSET = 47192.75
  MAP_PROJECTION_ROTATION = 0.0
  MAP_PROJECTION_TYPE = SINUSOIDAL
  MAP_RESOLUTION = 2370.85521546667
  MAP_SCALE = 0.025
  MAXIMUM_LATITUDE = 19.9034
  MINIMUM_LATITUDE = 14.7178
  POSITIVE_LONGITUDE_DIRECTION = EAST
  REFERENCE_LATITUDE = "N/A"
  REFERENCE_LONGITUDE = "N/A"
  SAMPLE_FIRST_PIXEL = 1
  SAMPLE_LAST_PIXEL = 3572
  SAMPLE_PROJECTION_OFFSET = 2695.75
  SECOND_STANDARD_PARALLEL = "N/A"
  WESTERNMOST_LONGITUDE = 108.833
END_OBJECT = IMAGE_MAP_PROJECTION
/* The JPEG2000 image data file associated with this label. */
OBJECT = COMPRESSED_FILE
  FILE_NAME = "HH817_0009_P23.JP2"
  RECORD_TYPE = UNDEFINED
  FILE_RECORDS = UNK
  ENCODING_TYPE = "JP2"
  INTERCHANGE_FORMAT = BINARY
  UNCOMPRESSED_FILE_NAME = "HH817_0009_P23.IMG"
  REQUIRED_STORAGE_BYTES = "44071336"
  ^DESCRIPTION = "JP2INFO.TXT"
END_OBJECT = COMPRESSED_FILE
END
