PDS_VERSION_ID = PDS3
/* FILE DATA ELEMENTS */
RECORD_TYPE = STREAM
/* POINTERS TO DATA OBJECTS */
^COMPRESSED_FILE = "HH819_0000_ND3.JP2"
/* IDENTIFICATION DATA ELEMENTS */
DATA_SET_ID = "MEX-M-HRSC-5-REFDR-MAPPROJECTED-V3.0"
DATA_SET_NAME = "MARS EXPRESS HRSC MAP PROJECTED REFDR V3.0"
DETECTOR_ID = MEX_HRSC_NADIR
EVENT_TYPE = "MARS-LOCAL-STEREO-Vo"
INSTRUMENT_HOST_ID = MEX
INSTRUMENT_HOST_NAME = "MARS EXPRESS"
INSTRUMENT_ID = HRSC
INSTRUMENT_NAME = "HIGH RESOLUTION STEREO CAMERA"
MISSION_NAME = "MARS EXPRESS"
MISSION_PHASE_NAME = ME_Phase_38
PROCESSING_LEVEL_ID = 3
PRODUCT_CREATION_TIME = 2018-09-04T13:05:27.000Z
PRODUCT_ID = "HH819_0000_ND3.JP2"
RELEASE_ID = 0140
REVISION_ID = 0000
/* QUALITY DATA ELEMENTS */
DATA_QUALITY_ID = 1
DATA_QUALITY_DESC = "Data calculated based on original SPICE kernels"
/* TIME DATA ELEMENTS */
SPACECRAFT_CLOCK_START_COUNT = "1/0465306146.09075"
SPACECRAFT_CLOCK_STOP_COUNT = "1/0465306321.43857"
START_TIME = 2018-01-29T11:43:08.040Z
STOP_TIME = 2018-01-29T11:44:54.043Z
/* ORBITAL DATA ELEMENTS */
ASCENDING_NODE_LONGITUDE = 239.59
MAXIMUM_RESOLUTION = 14.4
FOOTPRINT_POINT_LATITUDE = (29.9202,29.92,29.9194,29.9176,29.9159, 29.7127,29.5777,29.4428,29.3079,29.173, 29.038,28.8357,28.7008,28.5659,28.431, 28.2962,28.1613,28.0264,27.8916,27.7568 ,27.622,27.4871,27.3524,27.2176,27.0828 ,26.9481,26.8133,26.6786,26.5439, 26.4092,26.2745,26.1399,26.0053,25.8707 ,25.7361,25.6015,25.4669,25.3324, 25.1979,25.0634,24.9289,24.7945,24.5257 ,24.257,23.9884,23.7199,23.5666,23.4064 ,23.2463,23.087,23.0871,23.087,23.0865, 23.0859,23.0851,23.0838,23.244,23.4043, 23.5646,23.718,23.9868,24.2557,24.3902, 24.5247,24.6592,24.861,24.9956,25.1302, 25.2648,25.3994,25.6015,25.7364,25.8711 ,26.0059,26.1407,26.2755,26.4103, 26.6125,26.7473,26.8822,27.0172,27.1521 ,27.2871,27.4895,27.692,27.827,28.0295, 28.2321,28.3671,28.5021,28.7047,28.8398 ,29.0424,29.1775,29.3126,29.4477, 29.5828,29.7179,29.853,29.9202)
FOOTPRINT_POINT_LONGITUDE = (266.132,265.902,265.674,265.319, 265.079,264.973,264.975,264.976,264.977 ,264.978,264.98,264.981,264.982,264.983 ,264.985,264.986,264.987,264.987, 264.988,264.989,264.99,264.991,264.991, 264.992,264.993,264.993,264.994,264.994 ,264.995,264.995,264.995,264.996, 264.996,264.996,264.996,264.997,264.997 ,264.997,264.997,264.997,264.997, 264.997,264.997,264.997,264.996,264.995 ,264.995,264.994,264.994,265.103, 265.282,265.517,265.766,265.947,266.129 ,266.403,266.404,266.404,266.405, 266.405,266.406,266.407,266.407,266.408 ,266.408,266.408,266.406,266.405, 266.404,266.403,266.405,266.41,266.411, 266.411,266.411,266.412,266.413,266.409 ,266.41,266.411,266.412,266.413,266.415 ,266.417,266.418,266.419,266.421, 266.422,266.423,266.423,266.424,266.425 ,266.426,266.426,266.427,266.427, 266.428,266.428,266.429,266.132)
ORBIT_NUMBER = 17819
ORBITAL_ECCENTRICITY = 0.575
ORBITAL_INCLINATION = 86.95
ORBITAL_SEMIMAJOR_AXIS = 8834.26
PERIAPSIS_ALTITUDE = 362.51
PERIAPSIS_ARGUMENT_ANGLE = 149.19
PERIAPSIS_TIME = 2018-01-29T11:42:55.000Z
SPACECRAFT_ORIENTATION = (0.0,-1.0,0.0)
^MEX_ORIENTATION_DESC = "MEX_ORIENTATION_DESC.TXT"
SPACECRAFT_POINTING_MODE = ACROSSTRACK
^MEX_POINTING_DESC = "MEX_POINTING_DESC.TXT"
RIGHT_ASCENSION = -1e+32
DECLINATION = -1e+32
OFFSET_ANGLE = 0.35
SPACECRAFT_SOLAR_DISTANCE = 2.40123e+08
TARGET_NAME = MARS
/* CAMERA DATA ELEMENTS */
DETECTOR_TEMPERATURE = 19.1861
FOCAL_PLANE_TEMPERATURE = 8.9911
INST_CMPRS_NAME = "DISCRETE COSINE TRANSFORMATION (DCT)"
INST_CMPRS_RATIO = 6.16743
INST_CMPRS_QUALITY = 0
INST_CMPRS_QUANTZ_TBL_ID = 0
INSTRUMENT_TEMPERATURE = 12.2535
LENS_TEMPERATURE = 9.6028
MACROPIXEL_SIZE = 1
MISSING_FRAMES = 0
PIXEL_SUBSAMPLING_FLAG = N
SIGNAL_CHAIN_ID = 0
/* RADIOMETRIC DATA ELEMENTS */
BANDWIDTH = 177.0
CENTER_FILTER_WAVELENGTH = 677.5
RADIANCE_OFFSET = 0.997344
RADIANCE_SCALING_FACTOR = 0.0317494
REFLECTANCE_SCALING_FACTOR = 0.000972494
MEX:REFLECTANCE_OFFSET = 0.030549
/* IMAGE OBJECT DEFINITIONS */
OBJECT = IMAGE
  INTERCHANGE_FORMAT = BINARY
  LINES = 32417
  LINE_SAMPLES = 6540
  SAMPLE_TYPE = UNSIGNED_INTEGER
  SAMPLE_BITS = 8
  BANDS = 1
  BAND_STORAGE_TYPE = BAND_SEQUENTIAL
  MAXIMUM = 255
  MEAN = 117.585
  MINIMUM = 1
  STANDARD_DEVIATION = 12.5803
END_OBJECT = IMAGE
/* MAP OBJECT DEFINITIONS */
OBJECT = IMAGE_MAP_PROJECTION
  ^DATA_SET_MAP_PROJECTION_CATALOG= "DSMAP.CAT"
  A_AXIS_RADIUS = 3396.0
  B_AXIS_RADIUS = 3396.0
  C_AXIS_RADIUS = 3396.0
  CENTER_LATITUDE = 0.0
  CENTER_LONGITUDE = 266.0
  COORDINATE_SYSTEM_NAME = PLANETOGRAPHIC
  COORDINATE_SYSTEM_TYPE = "BODY-FIXED ROTATING"
  EASTERNMOST_LONGITUDE = 266.429
  FIRST_STANDARD_PARALLEL = "N/A"
  LINE_FIRST_PIXEL = 1
  LINE_LAST_PIXEL = 32417
  LINE_PROJECTION_OFFSET = 141872.0
  MAP_PROJECTION_ROTATION = 0.0
  MAP_PROJECTION_TYPE = SINUSOIDAL
  MAP_RESOLUTION = 4741.71043093333
  MAP_SCALE = 0.0125
  MAXIMUM_LATITUDE = 29.9202
  MINIMUM_LATITUDE = 23.0838
  POSITIVE_LONGITUDE_DIRECTION = EAST
  REFERENCE_LATITUDE = "N/A"
  REFERENCE_LONGITUDE = "N/A"
  SAMPLE_FIRST_PIXEL = 1
  SAMPLE_LAST_PIXEL = 6540
  SAMPLE_PROJECTION_OFFSET = 4465.0
  SECOND_STANDARD_PARALLEL = "N/A"
  WESTERNMOST_LONGITUDE = 264.973
END_OBJECT = IMAGE_MAP_PROJECTION
/* The JPEG2000 image data file associated with this label. */
OBJECT = COMPRESSED_FILE
  FILE_NAME = "HH819_0000_ND3.JP2"
  RECORD_TYPE = UNDEFINED
  FILE_RECORDS = UNK
  ENCODING_TYPE = "JP2"
  INTERCHANGE_FORMAT = BINARY
  UNCOMPRESSED_FILE_NAME = "HH819_0000_ND3.IMG"
  REQUIRED_STORAGE_BYTES = "212039880"
  ^DESCRIPTION = "JP2INFO.TXT"
END_OBJECT = COMPRESSED_FILE
END
