PDS_VERSION_ID = PDS3
/* FILE DATA ELEMENTS */
RECORD_TYPE = STREAM
/* POINTERS TO DATA OBJECTS */
^COMPRESSED_FILE = "HH830_0009_S13.JP2"
/* IDENTIFICATION DATA ELEMENTS */
DATA_SET_ID = "MEX-M-HRSC-5-REFDR-MAPPROJECTED-V3.0"
DATA_SET_NAME = "MARS EXPRESS HRSC MAP PROJECTED REFDR V3.0"
DETECTOR_ID = MEX_HRSC_S1
EVENT_TYPE = "MARS-REGIONAL-STEREO-Vo-Mw"
INSTRUMENT_HOST_ID = MEX
INSTRUMENT_HOST_NAME = "MARS EXPRESS"
INSTRUMENT_ID = HRSC
INSTRUMENT_NAME = "HIGH RESOLUTION STEREO CAMERA"
MISSION_NAME = "MARS EXPRESS"
MISSION_PHASE_NAME = ME_Phase_38
PROCESSING_LEVEL_ID = 3
PRODUCT_CREATION_TIME = 2018-09-04T13:05:27.000Z
PRODUCT_ID = "HH830_0009_S13.JP2"
RELEASE_ID = 0140
REVISION_ID = 0000
/* QUALITY DATA ELEMENTS */
DATA_QUALITY_ID = 1
DATA_QUALITY_DESC = "Data calculated based on original SPICE kernels"
/* TIME DATA ELEMENTS */
SPACECRAFT_CLOCK_START_COUNT = "1/0465582750.09036"
SPACECRAFT_CLOCK_STOP_COUNT = "1/0465582948.58502"
START_TIME = 2018-02-01T16:32:39.307Z
STOP_TIME = 2018-02-01T16:34:46.332Z
/* ORBITAL DATA ELEMENTS */
ASCENDING_NODE_LONGITUDE = 239.39
MAXIMUM_RESOLUTION = 15.5
FOOTPRINT_POINT_LATITUDE = (31.1642,31.1637,31.1627,31.1606, 31.1581,31.1547,31.1069,30.9457,30.7846 ,30.6227,30.4622,30.3009,30.1396, 29.8973,29.6558,29.4125,29.0933,28.9292 ,28.7681,28.6047,28.4448,28.2827, 28.1196,27.9584,27.7937,27.5503,27.3877 ,27.2249,27.063,26.9007,26.7379,26.576, 26.4136,26.2503,26.0061,25.8415,25.5947 ,25.3494,25.1047,24.9416,24.6967, 24.5334,24.3701,24.2069,24.0436,23.8803 ,23.7169,23.5535,23.3635,23.1686, 22.9741,22.8748,22.8753,22.8755,22.8754 ,22.9724,23.1668,23.459,23.6341,23.7977 ,24.0429,24.2064,24.3699,24.5333, 24.6968,24.942,25.187,25.3506,25.5135, 25.6766,25.8403,26.0848,26.2484,26.4111 ,26.6591,26.8242,27.1466,27.3116,27.474 ,27.6354,27.7987,27.9622,28.1247, 28.3679,28.5299,28.6896,28.8531,29.0146 ,29.1775,29.3391,29.5009,29.7435, 29.9057,30.0671,30.2293,30.3903,30.5526 ,30.7138,30.8745,31.1642)
FOOTPRINT_POINT_LONGITUDE = (222.329,222.083,221.866,221.591,221.36 ,221.113,220.903,220.906,220.909, 220.912,220.915,220.917,220.92,220.924, 220.928,220.931,220.937,220.938,220.94, 220.942,220.944,220.946,220.948,220.95, 220.951,220.953,220.954,220.956,220.957 ,220.958,220.96,220.961,220.962,220.963 ,220.964,220.965,220.965,220.966, 220.967,220.967,220.968,220.968,220.968 ,220.969,220.969,220.969,220.969, 220.969,220.969,220.969,220.969,221.279 ,221.589,221.857,222.209,222.399,222.4, 222.4,222.401,222.401,222.401,222.401, 222.401,222.401,222.401,222.401,222.402 ,222.402,222.402,222.402,222.402, 222.402,222.402,222.402,222.401,222.4, 222.402,222.401,222.401,222.402,222.402 ,222.401,222.401,222.402,222.402, 222.403,222.402,222.403,222.402,222.403 ,222.403,222.403,222.403,222.403, 222.403,222.403,222.403,222.403,222.403 ,222.329)
ORBIT_NUMBER = 17830
ORBITAL_ECCENTRICITY = 0.575
ORBITAL_INCLINATION = 86.97
ORBITAL_SEMIMAJOR_AXIS = 8825.12
PERIAPSIS_ALTITUDE = 363.61
PERIAPSIS_ARGUMENT_ANGLE = 147.25
PERIAPSIS_TIME = 2018-02-01T16:32:47.000Z
SPACECRAFT_ORIENTATION = (0.0,-1.0,0.0)
^MEX_ORIENTATION_DESC = "MEX_ORIENTATION_DESC.TXT"
SPACECRAFT_POINTING_MODE = NADIR
^MEX_POINTING_DESC = "MEX_POINTING_DESC.TXT"
RIGHT_ASCENSION = -1e+32
DECLINATION = -1e+32
OFFSET_ANGLE = -1e+32
SPACECRAFT_SOLAR_DISTANCE = 2.39632e+08
TARGET_NAME = MARS
/* CAMERA DATA ELEMENTS */
DETECTOR_TEMPERATURE = 17.9627
FOCAL_PLANE_TEMPERATURE = 8.1755
INST_CMPRS_NAME = "DISCRETE COSINE TRANSFORMATION (DCT)"
INST_CMPRS_RATIO = 7.63372
INST_CMPRS_QUALITY = 0
INST_CMPRS_QUANTZ_TBL_ID = 0
INSTRUMENT_TEMPERATURE = 11.234
LENS_TEMPERATURE = 8.7872
MACROPIXEL_SIZE = 1
MISSING_FRAMES = 0
PIXEL_SUBSAMPLING_FLAG = N
SIGNAL_CHAIN_ID = 2
/* RADIOMETRIC DATA ELEMENTS */
BANDWIDTH = 180.0
CENTER_FILTER_WAVELENGTH = 677.0
RADIANCE_OFFSET = 3.90385
RADIANCE_SCALING_FACTOR = 0.0148718
REFLECTANCE_SCALING_FACTOR = 0.000445548
MEX:REFLECTANCE_OFFSET = 0.116956
/* IMAGE OBJECT DEFINITIONS */
OBJECT = IMAGE
  INTERCHANGE_FORMAT = BINARY
  LINES = 39045
  LINE_SAMPLES = 6653
  SAMPLE_TYPE = UNSIGNED_INTEGER
  SAMPLE_BITS = 8
  BANDS = 1
  BAND_STORAGE_TYPE = BAND_SEQUENTIAL
  MAXIMUM = 255
  MEAN = 155.333
  MINIMUM = 1
  STANDARD_DEVIATION = 25.2276
END_OBJECT = IMAGE
/* MAP OBJECT DEFINITIONS */
OBJECT = IMAGE_MAP_PROJECTION
  ^DATA_SET_MAP_PROJECTION_CATALOG= "DSMAP.CAT"
  A_AXIS_RADIUS = 3396.0
  B_AXIS_RADIUS = 3396.0
  C_AXIS_RADIUS = 3396.0
  CENTER_LATITUDE = 0.0
  CENTER_LONGITUDE = 222.0
  COORDINATE_SYSTEM_NAME = PLANETOGRAPHIC
  COORDINATE_SYSTEM_TYPE = "BODY-FIXED ROTATING"
  EASTERNMOST_LONGITUDE = 222.403
  FIRST_STANDARD_PARALLEL = "N/A"
  LINE_FIRST_PIXEL = 1
  LINE_LAST_PIXEL = 39045
  LINE_PROJECTION_OFFSET = 147575.0
  MAP_PROJECTION_ROTATION = 0.0
  MAP_PROJECTION_TYPE = SINUSOIDAL
  MAP_RESOLUTION = 4741.71043093333
  MAP_SCALE = 0.0125
  MAXIMUM_LATITUDE = 31.1642
  MINIMUM_LATITUDE = 22.8748
  POSITIVE_LONGITUDE_DIRECTION = EAST
  REFERENCE_LATITUDE = "N/A"
  REFERENCE_LONGITUDE = "N/A"
  SAMPLE_FIRST_PIXEL = 1
  SAMPLE_LAST_PIXEL = 6653
  SAMPLE_PROJECTION_OFFSET = 4714.0
  SECOND_STANDARD_PARALLEL = "N/A"
  WESTERNMOST_LONGITUDE = 220.903
END_OBJECT = IMAGE_MAP_PROJECTION
/* The JPEG2000 image data file associated with this label. */
OBJECT = COMPRESSED_FILE
  FILE_NAME = "HH830_0009_S13.JP2"
  RECORD_TYPE = UNDEFINED
  FILE_RECORDS = UNK
  ENCODING_TYPE = "JP2"
  INTERCHANGE_FORMAT = BINARY
  UNCOMPRESSED_FILE_NAME = "HH830_0009_S13.IMG"
  REQUIRED_STORAGE_BYTES = "259799650"
  ^DESCRIPTION = "JP2INFO.TXT"
END_OBJECT = COMPRESSED_FILE
END
