PDS_VERSION_ID = PDS3
/* FILE DATA ELEMENTS */
RECORD_TYPE = STREAM
/* POINTERS TO DATA OBJECTS */
^COMPRESSED_FILE = "HH848_0009_S13.JP2"
/* IDENTIFICATION DATA ELEMENTS */
DATA_SET_ID = "MEX-M-HRSC-5-REFDR-MAPPROJECTED-V3.0"
DATA_SET_NAME = "MARS EXPRESS HRSC MAP PROJECTED REFDR V3.0"
DETECTOR_ID = MEX_HRSC_S1
EVENT_TYPE = "MARS-REGIONAL-MAPPING-Te-Gl-Pf"
INSTRUMENT_HOST_ID = MEX
INSTRUMENT_HOST_NAME = "MARS EXPRESS"
INSTRUMENT_ID = HRSC
INSTRUMENT_NAME = "HIGH RESOLUTION STEREO CAMERA"
MISSION_NAME = "MARS EXPRESS"
MISSION_PHASE_NAME = ME_Phase_38
PROCESSING_LEVEL_ID = 3
PRODUCT_CREATION_TIME = 2018-09-04T13:05:27.000Z
PRODUCT_ID = "HH848_0009_S13.JP2"
RELEASE_ID = 0140
REVISION_ID = 0000
/* QUALITY DATA ELEMENTS */
DATA_QUALITY_ID = 1
DATA_QUALITY_DESC = "Data calculated based on original SPICE kernels"
/* TIME DATA ELEMENTS */
SPACECRAFT_CLOCK_START_COUNT = "1/0466035210.09049"
SPACECRAFT_CLOCK_STOP_COUNT = "1/0466035413.17637"
START_TIME = 2018-02-06T22:13:39.381Z
STOP_TIME = 2018-02-06T22:15:53.839Z
/* ORBITAL DATA ELEMENTS */
ASCENDING_NODE_LONGITUDE = 239.04
MAXIMUM_RESOLUTION = 31.4
FOOTPRINT_POINT_LATITUDE = (40.9483,40.9446,40.9383,40.9326, 40.9259,40.8383,40.6491,40.4598,40.2704 ,40.0809,39.8911,39.701,39.5109,39.3208 ,39.1303,38.9398,38.7491,38.5584, 38.3674,38.0806,37.8894,37.7085,37.3875 ,37.2267,37.066,36.9051,36.7442,36.5832 ,36.4222,36.261,36.0997,35.9383,35.7769 ,35.5346,35.373,35.2122,34.9687,34.7256 ,34.5633,34.4012,34.2393,34.0772, 33.9152,33.7544,33.5916,33.4294,33.2652 ,33.1025,32.9398,32.7768,32.5327, 32.3703,32.2822,32.2868,32.2934,32.293, 32.3747,32.5386,32.7835,32.9468,33.1084 ,33.2711,33.4342,33.6773,33.9196, 34.0816,34.2442,34.407,34.5705,34.8938, 35.0572,35.3798,35.6227,35.7847,35.9465 ,36.1082,36.2699,36.4315,36.6737,36.835 ,36.9962,37.1574,37.3184,37.4794, 37.7209,37.8995,38.0913,38.283,38.4744, 38.6655,38.9523,39.1432,39.334,39.6201, 39.8106,40.096,40.3812,40.6661,40.8556, 40.9483)
FOOTPRINT_POINT_LONGITUDE = (183.48,183.214,182.864,182.597,182.331 ,182.064,182.073,182.083,182.092, 182.101,182.11,182.119,182.127,182.136, 182.144,182.152,182.16,182.168,182.176, 182.187,182.195,182.201,182.213,182.219 ,182.225,182.23,182.236,182.241,182.247 ,182.252,182.257,182.262,182.267, 182.274,182.279,182.284,182.29,182.297, 182.301,182.305,182.309,182.314,182.318 ,182.322,182.326,182.329,182.333, 182.336,182.34,182.343,182.348,182.351, 182.74,183.008,183.438,183.721,183.89, 183.889,183.888,183.888,183.888,183.887 ,183.887,183.886,183.886,183.885, 183.885,183.884,183.883,183.882,183.881 ,183.88,183.879,183.878,183.878,183.877 ,183.876,183.875,183.874,183.873, 183.872,183.872,183.871,183.87,183.868, 183.868,183.866,183.865,183.864,183.863 ,183.861,183.86,183.859,183.857,183.856 ,183.854,183.851,183.849,183.848, 183.48)
ORBIT_NUMBER = 17848
ORBITAL_ECCENTRICITY = 0.574
ORBITAL_INCLINATION = 86.97
ORBITAL_SEMIMAJOR_AXIS = 8810.1
PERIAPSIS_ALTITUDE = 365.87
PERIAPSIS_ARGUMENT_ANGLE = 144.17
PERIAPSIS_TIME = 2018-02-06T22:15:41.000Z
SPACECRAFT_ORIENTATION = (0.0,-1.0,0.0)
^MEX_ORIENTATION_DESC = "MEX_ORIENTATION_DESC.TXT"
SPACECRAFT_POINTING_MODE = NADIR
^MEX_POINTING_DESC = "MEX_POINTING_DESC.TXT"
RIGHT_ASCENSION = -1e+32
DECLINATION = -1e+32
OFFSET_ANGLE = -1e+32
SPACECRAFT_SOLAR_DISTANCE = 2.38808e+08
TARGET_NAME = MARS
/* CAMERA DATA ELEMENTS */
DETECTOR_TEMPERATURE = 18.9822
FOCAL_PLANE_TEMPERATURE = 9.195
INST_CMPRS_NAME = "DISCRETE COSINE TRANSFORMATION (DCT)"
INST_CMPRS_RATIO = 9.21244
INST_CMPRS_QUALITY = 0
INST_CMPRS_QUANTZ_TBL_ID = 0
INSTRUMENT_TEMPERATURE = 11.8457
LENS_TEMPERATURE = 9.3989
MACROPIXEL_SIZE = 2
MISSING_FRAMES = 0
PIXEL_SUBSAMPLING_FLAG = N
SIGNAL_CHAIN_ID = 1
/* RADIOMETRIC DATA ELEMENTS */
BANDWIDTH = 180.0
CENTER_FILTER_WAVELENGTH = 677.0
RADIANCE_OFFSET = 3.13011
RADIANCE_SCALING_FACTOR = 0.0234539
REFLECTANCE_SCALING_FACTOR = 0.000697837
MEX:REFLECTANCE_OFFSET = 0.0931319
/* IMAGE OBJECT DEFINITIONS */
OBJECT = IMAGE
  INTERCHANGE_FORMAT = BINARY
  LINES = 20367
  LINE_SAMPLES = 3508
  SAMPLE_TYPE = UNSIGNED_INTEGER
  SAMPLE_BITS = 8
  BANDS = 1
  BAND_STORAGE_TYPE = BAND_SEQUENTIAL
  MAXIMUM = 255
  MEAN = 98.5411
  MINIMUM = 1
  STANDARD_DEVIATION = 21.129
END_OBJECT = IMAGE
/* MAP OBJECT DEFINITIONS */
OBJECT = IMAGE_MAP_PROJECTION
  ^DATA_SET_MAP_PROJECTION_CATALOG= "DSMAP.CAT"
  A_AXIS_RADIUS = 3396.0
  B_AXIS_RADIUS = 3396.0
  C_AXIS_RADIUS = 3396.0
  CENTER_LATITUDE = 0.0
  CENTER_LONGITUDE = 183.0
  COORDINATE_SYSTEM_NAME = PLANETOGRAPHIC
  COORDINATE_SYSTEM_TYPE = "BODY-FIXED ROTATING"
  EASTERNMOST_LONGITUDE = 183.89
  FIRST_STANDARD_PARALLEL = "N/A"
  LINE_FIRST_PIXEL = 1
  LINE_LAST_PIXEL = 20367
  LINE_PROJECTION_OFFSET = 96957.25
  MAP_PROJECTION_ROTATION = 0.0
  MAP_PROJECTION_TYPE = SINUSOIDAL
  MAP_RESOLUTION = 2370.85521546667
  MAP_SCALE = 0.025
  MAXIMUM_LATITUDE = 40.9483
  MINIMUM_LATITUDE = 32.2822
  POSITIVE_LONGITUDE_DIRECTION = EAST
  REFERENCE_LATITUDE = "N/A"
  REFERENCE_LONGITUDE = "N/A"
  SAMPLE_FIRST_PIXEL = 1
  SAMPLE_LAST_PIXEL = 3508
  SAMPLE_PROJECTION_OFFSET = 1678.75
  SECOND_STANDARD_PARALLEL = "N/A"
  WESTERNMOST_LONGITUDE = 182.064
END_OBJECT = IMAGE_MAP_PROJECTION
/* The JPEG2000 image data file associated with this label. */
OBJECT = COMPRESSED_FILE
  FILE_NAME = "HH848_0009_S13.JP2"
  RECORD_TYPE = UNDEFINED
  FILE_RECORDS = UNK
  ENCODING_TYPE = "JP2"
  INTERCHANGE_FORMAT = BINARY
  UNCOMPRESSED_FILE_NAME = "HH848_0009_S13.IMG"
  REQUIRED_STORAGE_BYTES = "71468484"
  ^DESCRIPTION = "JP2INFO.TXT"
END_OBJECT = COMPRESSED_FILE
END
