PDS_VERSION_ID = PDS3
/* FILE DATA ELEMENTS */
RECORD_TYPE = STREAM
/* POINTERS TO DATA OBJECTS */
^COMPRESSED_FILE = "HH852_0005_SR3.JP2"
/* IDENTIFICATION DATA ELEMENTS */
DATA_SET_ID = "MEX-M-HRSC-5-REFDR-MAPPROJECTED-V3.0"
DATA_SET_NAME = "MARS EXPRESS HRSC MAP PROJECTED REFDR V3.0"
DETECTOR_ID = MEX_HRSC_SRC
EVENT_TYPE = "MARS-LOCAL-STEREO-Tc-Ts"
INSTRUMENT_HOST_ID = MEX
INSTRUMENT_HOST_NAME = "MARS EXPRESS"
INSTRUMENT_ID = HRSC
INSTRUMENT_NAME = "HIGH RESOLUTION STEREO CAMERA"
MISSION_NAME = "MARS EXPRESS"
MISSION_PHASE_NAME = ME_Phase_38
PROCESSING_LEVEL_ID = 3
PRODUCT_CREATION_TIME = 2018-09-04T13:05:27.000Z
PRODUCT_ID = "HH852_0005_SR3.JP2"
RELEASE_ID = 0140
REVISION_ID = 0000
/* QUALITY DATA ELEMENTS */
DATA_QUALITY_ID = 1
DATA_QUALITY_DESC = "Data calculated based on original SPICE kernels"
/* TIME DATA ELEMENTS */
SPACECRAFT_CLOCK_START_COUNT = "1/0466135641.07331"
SPACECRAFT_CLOCK_STOP_COUNT = "1/0466135764.57012"
IMAGE_TIME = 2018-02-08T02:08:33.844Z
START_TIME = 2018-02-08T02:08:33.841Z
STOP_TIME = 2018-02-08T02:08:33.846Z
/* ORBITAL DATA ELEMENTS */
ASCENDING_NODE_LONGITUDE = 238.96
MAXIMUM_RESOLUTION = 3.71
FOOTPRINT_POINT_LATITUDE = (47.3646,47.367,47.369,47.3708,47.3739, 47.3757,47.3793,47.3826,47.3855,47.3874 ,47.3897,47.3915,47.3939,47.396,47.3978 ,47.4,47.4026,47.4045,47.4069,47.4097, 47.412,47.4141,47.4158,47.4186,47.4206, 47.4224,47.4249,47.4249,47.425,47.425, 47.425,47.4251,47.4251,47.4251,47.4252, 47.4252,47.4252,47.4253,47.4253,47.4254 ,47.4254,47.4254,47.4255,47.4255, 47.4255,47.4256,47.4256,47.4256,47.4257 ,47.4257,47.4257,47.4245,47.4222, 47.4193,47.4171,47.4143,47.4125,47.4086 ,47.4062,47.4044,47.4021,47.3988, 47.3953,47.3923,47.3903,47.3873,47.3841 ,47.3814,47.3791,47.3763,47.3732, 47.3712,47.3685,47.3649,47.3624,47.3623 ,47.3623,47.3623,47.3623,47.3622, 47.3622,47.3622,47.3621,47.3621,47.3621 ,47.362,47.362,47.362,47.362,47.3619, 47.3619,47.3619,47.3618,47.3618,47.3618 ,47.3617,47.3617,47.3617,47.3616, 47.3646)
FOOTPRINT_POINT_LONGITUDE = (136.002,136.002,136.002,136.002, 136.002,136.002,136.002,136.001,136.001 ,136.001,136.001,136.001,136.001, 136.001,136.001,136.001,136.001,136.001 ,136.001,136.001,136.001,136.001, 136.001,136.001,136.001,136.001,136.003 ,136.006,136.01,136.014,136.018,136.022 ,136.025,136.029,136.033,136.037, 136.041,136.044,136.048,136.052,136.056 ,136.06,136.063,136.067,136.071,136.075 ,136.079,136.082,136.086,136.09,136.094 ,136.097,136.097,136.097,136.097, 136.097,136.097,136.098,136.098,136.098 ,136.098,136.098,136.098,136.098, 136.098,136.098,136.098,136.098,136.098 ,136.098,136.098,136.098,136.098, 136.098,136.094,136.09,136.086,136.082, 136.078,136.075,136.071,136.067,136.063 ,136.059,136.056,136.052,136.048, 136.044,136.04,136.037,136.033,136.029, 136.025,136.021,136.018,136.014,136.01, 136.006,136.003,136.002)
ORBIT_NUMBER = 17852
ORBITAL_ECCENTRICITY = 0.574
ORBITAL_INCLINATION = 86.96
ORBITAL_SEMIMAJOR_AXIS = 8816.54
PERIAPSIS_ALTITUDE = 366.26
PERIAPSIS_ARGUMENT_ANGLE = 143.48
PERIAPSIS_TIME = 2018-02-08T02:11:31.000Z
SPACECRAFT_ORIENTATION = (0.0,-1.0,0.0)
^MEX_ORIENTATION_DESC = "MEX_ORIENTATION_DESC.TXT"
SPACECRAFT_POINTING_MODE = ACROSSTRACK
^MEX_POINTING_DESC = "MEX_POINTING_DESC.TXT"
RIGHT_ASCENSION = -1e+32
DECLINATION = -1e+32
OFFSET_ANGLE = 1.2
SPACECRAFT_SOLAR_DISTANCE = 2.38621e+08
TARGET_NAME = MARS
/* CAMERA DATA ELEMENTS */
BUFFER_MODE_ID = BUFFER_8
EXPOSURE_DURATION = 5.04
INST_CMPRS_NAME = NONE
INST_CMPRS_RATIO = 1.0
INST_CMPRS_QUALITY = -2147483648
INST_CMPRS_QUANTZ_TBL_ID = -2147483648
INSTRUMENT_TEMPERATURE = 6.12784
MISSING_FRAMES = 0
START_BIT = 0
/* RADIOMETRIC DATA ELEMENTS */
BANDWIDTH = 250.0
CENTER_FILTER_WAVELENGTH = 600.0
RADIANCE_OFFSET = -9.99e+31
RADIANCE_SCALING_FACTOR = -9.99e+31
REFLECTANCE_SCALING_FACTOR = -9.99e+31
MEX:REFLECTANCE_OFFSET = -9.99e+31
/* IMAGE OBJECT DEFINITIONS */
OBJECT = IMAGE
  INTERCHANGE_FORMAT = BINARY
  LINES = 1601
  LINE_SAMPLES = 1652
  SAMPLE_TYPE = UNSIGNED_INTEGER
  SAMPLE_BITS = 8
  BANDS = 1
  BAND_STORAGE_TYPE = BAND_SEQUENTIAL
  MAXIMUM = 241
  MEAN = 134.877
  MINIMUM = 10
  STANDARD_DEVIATION = 18.651
END_OBJECT = IMAGE
/* MAP OBJECT DEFINITIONS */
OBJECT = IMAGE_MAP_PROJECTION
  ^DATA_SET_MAP_PROJECTION_CATALOG= "DSMAP.CAT"
  A_AXIS_RADIUS = 3396.19
  B_AXIS_RADIUS = 3396.19
  C_AXIS_RADIUS = 3396.19
  CENTER_LATITUDE = 0.0
  CENTER_LONGITUDE = 136.0
  COORDINATE_SYSTEM_NAME = PLANETOGRAPHIC
  COORDINATE_SYSTEM_TYPE = "BODY-FIXED ROTATING"
  EASTERNMOST_LONGITUDE = 136.098
  FIRST_STANDARD_PARALLEL = "N/A"
  LINE_FIRST_PIXEL = 1
  LINE_LAST_PIXEL = 1601
  LINE_PROJECTION_OFFSET = 1123175.0
  MAP_PROJECTION_ROTATION = 0.0
  MAP_PROJECTION_TYPE = SINUSOIDAL
  MAP_RESOLUTION = 23709.8786048756
  MAP_SCALE = 0.0025
  MAXIMUM_LATITUDE = 47.4257
  MINIMUM_LATITUDE = 47.3616
  POSITIVE_LONGITUDE_DIRECTION = EAST
  REFERENCE_LATITUDE = "N/A"
  REFERENCE_LONGITUDE = "N/A"
  SAMPLE_FIRST_PIXEL = 1
  SAMPLE_LAST_PIXEL = 1652
  SAMPLE_PROJECTION_OFFSET = -863.0
  SECOND_STANDARD_PARALLEL = "N/A"
  WESTERNMOST_LONGITUDE = 136.001
END_OBJECT = IMAGE_MAP_PROJECTION
/* The JPEG2000 image data file associated with this label. */
OBJECT = COMPRESSED_FILE
  FILE_NAME = "HH852_0005_SR3.JP2"
  RECORD_TYPE = UNDEFINED
  FILE_RECORDS = UNK
  ENCODING_TYPE = "JP2"
  INTERCHANGE_FORMAT = BINARY
  UNCOMPRESSED_FILE_NAME = "HH852_0005_SR3.IMG"
  REQUIRED_STORAGE_BYTES = "2664676"
  ^DESCRIPTION = "JP2INFO.TXT"
END_OBJECT = COMPRESSED_FILE
END
