PDS_VERSION_ID = PDS3
/* FILE DATA ELEMENTS */
RECORD_TYPE = STREAM
/* POINTERS TO DATA OBJECTS */
^COMPRESSED_FILE = "HH864_0000_S23.JP2"
/* IDENTIFICATION DATA ELEMENTS */
DATA_SET_ID = "MEX-M-HRSC-5-REFDR-MAPPROJECTED-V3.0"
DATA_SET_NAME = "MARS EXPRESS HRSC MAP PROJECTED REFDR V3.0"
DETECTOR_ID = MEX_HRSC_S2
EVENT_TYPE = "MARS-LOCAL-CARTOGRAPHY-Fl-La-Tc"
INSTRUMENT_HOST_ID = MEX
INSTRUMENT_HOST_NAME = "MARS EXPRESS"
INSTRUMENT_ID = HRSC
INSTRUMENT_NAME = "HIGH RESOLUTION STEREO CAMERA"
MISSION_NAME = "MARS EXPRESS"
MISSION_PHASE_NAME = ME_Phase_38
PROCESSING_LEVEL_ID = 3
PRODUCT_CREATION_TIME = 2018-09-04T13:05:27.000Z
PRODUCT_ID = "HH864_0000_S23.JP2"
RELEASE_ID = 0140
REVISION_ID = 0000
/* QUALITY DATA ELEMENTS */
DATA_QUALITY_ID = 1
DATA_QUALITY_DESC = "Data calculated based on original SPICE kernels"
/* TIME DATA ELEMENTS */
SPACECRAFT_CLOCK_START_COUNT = "1/0466437905.07341"
SPACECRAFT_CLOCK_STOP_COUNT = "1/0466438127.56519"
START_TIME = 2018-02-11T14:06:54.869Z
STOP_TIME = 2018-02-11T14:08:55.126Z
/* ORBITAL DATA ELEMENTS */
ASCENDING_NODE_LONGITUDE = 238.75
MAXIMUM_RESOLUTION = 23.6
FOOTPRINT_POINT_LATITUDE = (12.2732,12.2756,12.2773,12.2791,12.282 ,12.2842,12.2866,12.289,12.2916,12.2942 ,12.2969,12.206,11.9088,11.6143,11.4346 ,11.1927,10.9534,10.7121,10.4697, 10.2251,10.1007,9.97782,9.73404,9.61051 ,9.48605,9.36262,9.17767,9.05325, 8.92776,8.80216,8.67692,8.48863,8.29774 ,8.17025,8.04412,7.91611,7.78786, 7.66044,7.53266,7.33832,7.20855,7.07824 ,6.94873,6.81764,6.68689,6.55649, 6.42575,6.29469,6.06939,6.06612,6.06085 ,6.0569,6.05093,6.0455,6.04161,6.03491, 6.03111,6.02741,6.02375,6.02061,6.21965 ,6.41757,6.54709,6.67962,6.81136,6.9403 ,7.07059,7.20222,7.33269,7.4629,7.59098 ,7.71875,7.84709,8.03996,8.16684, 8.29297,8.4201,8.61094,8.73644,8.92543, 9.11361,9.29988,9.42433,9.54919,9.73565 ,9.85824,9.98144,10.1664,10.2895, 10.5316,10.6546,10.8363,10.9582,11.0834 ,11.3235,11.498,11.736,12.0338,12.2709, 12.2732)
FOOTPRINT_POINT_LONGITUDE = (349.992,349.797,349.66,349.523,349.308 ,349.152,348.996,348.84,348.683,348.527 ,348.371,348.135,348.125,348.114, 348.108,348.1,348.091,348.081,348.072, 348.063,348.059,348.054,348.044,348.039 ,348.034,348.029,348.021,348.016,348.01 ,348.005,348.0,347.992,347.984,347.979, 347.973,347.967,347.962,347.956,347.95, 347.942,347.936,347.93,347.925,347.919, 347.913,347.906,347.9,347.894,347.883, 348.043,348.227,348.388,348.639,348.891 ,349.074,349.349,349.555,349.715, 349.898,350.104,350.205,350.202,350.199 ,350.198,350.197,350.194,350.193, 350.192,350.19,350.189,350.187,350.186, 350.184,350.182,350.18,350.178,350.177, 350.175,350.174,350.171,350.169,350.167 ,350.166,350.164,350.163,350.161,350.16 ,350.158,350.157,350.154,350.153, 350.151,350.15,350.15,350.148,350.144, 350.142,350.139,350.137,349.992)
ORBIT_NUMBER = 17864
ORBITAL_ECCENTRICITY = 0.574
ORBITAL_INCLINATION = 86.97
ORBITAL_SEMIMAJOR_AXIS = 8808.24
PERIAPSIS_ALTITUDE = 367.45
PERIAPSIS_ARGUMENT_ANGLE = 141.37
PERIAPSIS_TIME = 2018-02-11T13:59:08.000Z
SPACECRAFT_ORIENTATION = (0.0,-1.0,0.0)
^MEX_ORIENTATION_DESC = "MEX_ORIENTATION_DESC.TXT"
SPACECRAFT_POINTING_MODE = NADIR
^MEX_POINTING_DESC = "MEX_POINTING_DESC.TXT"
RIGHT_ASCENSION = -1e+32
DECLINATION = -1e+32
OFFSET_ANGLE = -1e+32
SPACECRAFT_SOLAR_DISTANCE = 2.38054e+08
TARGET_NAME = MARS
/* CAMERA DATA ELEMENTS */
DETECTOR_TEMPERATURE = 18.3705
FOCAL_PLANE_TEMPERATURE = 8.5833
INST_CMPRS_NAME = "DISCRETE COSINE TRANSFORMATION (DCT)"
INST_CMPRS_RATIO = 7.50486
INST_CMPRS_QUALITY = 0
INST_CMPRS_QUANTZ_TBL_ID = 0
INSTRUMENT_TEMPERATURE = 11.8457
LENS_TEMPERATURE = 8.7872
MACROPIXEL_SIZE = 1
MISSING_FRAMES = 0
PIXEL_SUBSAMPLING_FLAG = N
SIGNAL_CHAIN_ID = 1
/* RADIOMETRIC DATA ELEMENTS */
BANDWIDTH = 178.0
CENTER_FILTER_WAVELENGTH = 679.0
RADIANCE_OFFSET = 2.71735
RADIANCE_SCALING_FACTOR = 0.0159844
REFLECTANCE_SCALING_FACTOR = 0.000479704
MEX:REFLECTANCE_OFFSET = 0.0815497
/* IMAGE OBJECT DEFINITIONS */
OBJECT = IMAGE
  INTERCHANGE_FORMAT = BINARY
  LINES = 14901
  LINE_SAMPLES = 5039
  SAMPLE_TYPE = UNSIGNED_INTEGER
  SAMPLE_BITS = 8
  BANDS = 1
  BAND_STORAGE_TYPE = BAND_SEQUENTIAL
  MAXIMUM = 255
  MEAN = 101.27
  MINIMUM = 1
  STANDARD_DEVIATION = 22.0522
END_OBJECT = IMAGE
/* MAP OBJECT DEFINITIONS */
OBJECT = IMAGE_MAP_PROJECTION
  ^DATA_SET_MAP_PROJECTION_CATALOG= "DSMAP.CAT"
  A_AXIS_RADIUS = 3396.0
  B_AXIS_RADIUS = 3396.0
  C_AXIS_RADIUS = 3396.0
  CENTER_LATITUDE = 0.0
  CENTER_LONGITUDE = 349.0
  COORDINATE_SYSTEM_NAME = PLANETOGRAPHIC
  COORDINATE_SYSTEM_TYPE = "BODY-FIXED ROTATING"
  EASTERNMOST_LONGITUDE = 350.205
  FIRST_STANDARD_PARALLEL = "N/A"
  LINE_FIRST_PIXEL = 1
  LINE_LAST_PIXEL = 14901
  LINE_PROJECTION_OFFSET = 29140.0
  MAP_PROJECTION_ROTATION = 0.0
  MAP_PROJECTION_TYPE = SINUSOIDAL
  MAP_RESOLUTION = 2370.85521546667
  MAP_SCALE = 0.025
  MAXIMUM_LATITUDE = 12.2969
  MINIMUM_LATITUDE = 6.02061
  POSITIVE_LONGITUDE_DIRECTION = EAST
  REFERENCE_LATITUDE = "N/A"
  REFERENCE_LONGITUDE = "N/A"
  SAMPLE_FIRST_PIXEL = 1
  SAMPLE_LAST_PIXEL = 5039
  SAMPLE_PROJECTION_OFFSET = 2397.0
  SECOND_STANDARD_PARALLEL = "N/A"
  WESTERNMOST_LONGITUDE = 347.883
END_OBJECT = IMAGE_MAP_PROJECTION
/* The JPEG2000 image data file associated with this label. */
OBJECT = COMPRESSED_FILE
  FILE_NAME = "HH864_0000_S23.JP2"
  RECORD_TYPE = UNDEFINED
  FILE_RECORDS = UNK
  ENCODING_TYPE = "JP2"
  INTERCHANGE_FORMAT = BINARY
  UNCOMPRESSED_FILE_NAME = "HH864_0000_S23.IMG"
  REQUIRED_STORAGE_BYTES = "75111334"
  ^DESCRIPTION = "JP2INFO.TXT"
END_OBJECT = COMPRESSED_FILE
END
