PDS_VERSION_ID = PDS3
/* FILE DATA ELEMENTS */
RECORD_TYPE = STREAM
/* POINTERS TO DATA OBJECTS */
^COMPRESSED_FILE = "HH867_0000_S23.JP2"
/* IDENTIFICATION DATA ELEMENTS */
DATA_SET_ID = "MEX-M-HRSC-5-REFDR-MAPPROJECTED-V3.0"
DATA_SET_NAME = "MARS EXPRESS HRSC MAP PROJECTED REFDR V3.0"
DETECTOR_ID = MEX_HRSC_S2
EVENT_TYPE = "MARS-REGIONAL-MAPPING-Im-Fl-Gl"
INSTRUMENT_HOST_ID = MEX
INSTRUMENT_HOST_NAME = "MARS EXPRESS"
INSTRUMENT_ID = HRSC
INSTRUMENT_NAME = "HIGH RESOLUTION STEREO CAMERA"
MISSION_NAME = "MARS EXPRESS"
MISSION_PHASE_NAME = ME_Phase_38
PROCESSING_LEVEL_ID = 3
PRODUCT_CREATION_TIME = 2018-09-04T13:05:27.000Z
PRODUCT_ID = "HH867_0000_S23.JP2"
RELEASE_ID = 0140
REVISION_ID = 0000
/* QUALITY DATA ELEMENTS */
DATA_QUALITY_ID = 1
DATA_QUALITY_DESC = "Data calculated based on original SPICE kernels"
/* TIME DATA ELEMENTS */
SPACECRAFT_CLOCK_START_COUNT = "1/0466512918.09047"
SPACECRAFT_CLOCK_STOP_COUNT = "1/0466513133.22701"
START_TIME = 2018-02-12T10:56:34.393Z
STOP_TIME = 2018-02-12T10:59:00.624Z
/* ORBITAL DATA ELEMENTS */
ASCENDING_NODE_LONGITUDE = 238.69
MAXIMUM_RESOLUTION = 31.4
FOOTPRINT_POINT_LATITUDE = (39.0897,39.086,39.0825,39.0788,39.0749 ,39.0686,38.9483,38.781,38.5339,38.3686 ,38.1129,37.941,37.7741,37.6097,37.3609 ,37.1949,37.0298,36.8638,36.6981, 36.5326,36.3666,36.2001,36.0317,35.8337 ,35.5375,35.339,35.0429,34.8462,34.5509 ,34.3535,34.1584,33.8649,33.6695, 33.3765,33.0826,32.8887,32.5974,32.307, 32.1128,31.8251,31.6282,31.4353,31.2457 ,31.0502,30.8549,30.6622,30.4692, 30.2763,30.0845,29.8925,29.8924,29.8961 ,29.9027,29.9023,29.899,30.0921,30.2841 ,30.4794,30.6707,30.8643,31.0617, 31.2559,31.4475,31.641,31.8354,32.0293, 32.3212,32.6133,32.9056,33.1004,33.2959 ,33.5893,33.7858,33.9819,34.2755, 34.4722,34.767,35.062,35.2592,35.5559, 35.7539,35.9514,36.2187,36.3841,36.5503 ,36.7161,36.8816,37.0484,37.2143, 37.3842,37.5514,37.7142,37.8812,38.0476 ,38.2138,38.3806,38.5476,38.7164, 38.8851,39.0897)
FOOTPRINT_POINT_LONGITUDE = (43.4394,43.1379,42.8842,42.6307, 42.3776,42.0135,41.9002,41.906,41.913, 41.9178,41.9278,41.9349,41.94,41.9441, 41.951,41.9555,41.9597,41.9641,41.9683, 41.9725,41.9767,41.981,41.9853,41.99, 41.9967,42.0015,42.0078,42.0117,42.0175 ,42.0215,42.0245,42.0293,42.0323, 42.0367,42.0413,42.0435,42.047,42.05, 42.0521,42.054,42.057,42.0585,42.0589, 42.0612,42.0634,42.0647,42.0661,42.0674 ,42.0683,42.0692,42.3935,42.6094, 42.9187,43.1977,43.584,43.6653,43.6634, 43.6627,43.6604,43.6588,43.6586,43.6572 ,43.6546,43.6527,43.651,43.649,43.6463, 43.6435,43.6406,43.6385,43.6366,43.6336 ,43.6319,43.6299,43.6265,43.6246, 43.6214,43.6181,43.6159,43.6129,43.6109 ,43.6086,43.6057,43.6036,43.6017, 43.5996,43.5974,43.5956,43.5934,43.5926 ,43.5908,43.5872,43.5851,43.5828, 43.5803,43.578,43.5758,43.5742,43.5725, 43.4394)
ORBIT_NUMBER = 17867
ORBITAL_ECCENTRICITY = 0.574
ORBITAL_INCLINATION = 86.96
ORBITAL_SEMIMAJOR_AXIS = 8813.8
PERIAPSIS_ALTITUDE = 367.65
PERIAPSIS_ARGUMENT_ANGLE = 140.89
PERIAPSIS_TIME = 2018-02-12T10:56:07.000Z
SPACECRAFT_ORIENTATION = (0.0,-1.0,0.0)
^MEX_ORIENTATION_DESC = "MEX_ORIENTATION_DESC.TXT"
SPACECRAFT_POINTING_MODE = ACROSSTRACK
^MEX_POINTING_DESC = "MEX_POINTING_DESC.TXT"
RIGHT_ASCENSION = -1e+32
DECLINATION = -1e+32
OFFSET_ANGLE = 0.05
SPACECRAFT_SOLAR_DISTANCE = 2.3791e+08
TARGET_NAME = MARS
/* CAMERA DATA ELEMENTS */
DETECTOR_TEMPERATURE = 18.3705
FOCAL_PLANE_TEMPERATURE = 7.7677
INST_CMPRS_NAME = "DISCRETE COSINE TRANSFORMATION (DCT)"
INST_CMPRS_RATIO = 6.36171
INST_CMPRS_QUALITY = 0
INST_CMPRS_QUANTZ_TBL_ID = 0
INSTRUMENT_TEMPERATURE = 11.4379
LENS_TEMPERATURE = 8.5833
MACROPIXEL_SIZE = 2
MISSING_FRAMES = 0
PIXEL_SUBSAMPLING_FLAG = N
SIGNAL_CHAIN_ID = 1
/* RADIOMETRIC DATA ELEMENTS */
BANDWIDTH = 178.0
CENTER_FILTER_WAVELENGTH = 679.0
RADIANCE_OFFSET = 3.05111
RADIANCE_SCALING_FACTOR = 0.0272805
REFLECTANCE_SCALING_FACTOR = 0.000817729
MEX:REFLECTANCE_OFFSET = 0.0914565
/* IMAGE OBJECT DEFINITIONS */
OBJECT = IMAGE
  INTERCHANGE_FORMAT = BINARY
  LINES = 21982
  LINE_SAMPLES = 3462
  SAMPLE_TYPE = UNSIGNED_INTEGER
  SAMPLE_BITS = 8
  BANDS = 1
  BAND_STORAGE_TYPE = BAND_SEQUENTIAL
  MAXIMUM = 255
  MEAN = 130.451
  MINIMUM = 1
  STANDARD_DEVIATION = 14.5058
END_OBJECT = IMAGE
/* MAP OBJECT DEFINITIONS */
OBJECT = IMAGE_MAP_PROJECTION
  ^DATA_SET_MAP_PROJECTION_CATALOG= "DSMAP.CAT"
  A_AXIS_RADIUS = 3396.0
  B_AXIS_RADIUS = 3396.0
  C_AXIS_RADIUS = 3396.0
  CENTER_LATITUDE = 0.0
  CENTER_LONGITUDE = 43.0
  COORDINATE_SYSTEM_NAME = PLANETOGRAPHIC
  COORDINATE_SYSTEM_TYPE = "BODY-FIXED ROTATING"
  EASTERNMOST_LONGITUDE = 43.6653
  FIRST_STANDARD_PARALLEL = "N/A"
  LINE_FIRST_PIXEL = 1
  LINE_LAST_PIXEL = 21982
  LINE_PROJECTION_OFFSET = 92817.25
  MAP_PROJECTION_ROTATION = 0.0
  MAP_PROJECTION_TYPE = SINUSOIDAL
  MAP_RESOLUTION = 2370.85521546667
  MAP_SCALE = 0.025
  MAXIMUM_LATITUDE = 39.0897
  MINIMUM_LATITUDE = 29.8924
  POSITIVE_LONGITUDE_DIRECTION = EAST
  REFERENCE_LATITUDE = "N/A"
  REFERENCE_LONGITUDE = "N/A"
  SAMPLE_FIRST_PIXEL = 1
  SAMPLE_LAST_PIXEL = 3462
  SAMPLE_PROJECTION_OFFSET = 2074.25
  SECOND_STANDARD_PARALLEL = "N/A"
  WESTERNMOST_LONGITUDE = 41.9002
END_OBJECT = IMAGE_MAP_PROJECTION
/* The JPEG2000 image data file associated with this label. */
OBJECT = COMPRESSED_FILE
  FILE_NAME = "HH867_0000_S23.JP2"
  RECORD_TYPE = UNDEFINED
  FILE_RECORDS = UNK
  ENCODING_TYPE = "JP2"
  INTERCHANGE_FORMAT = BINARY
  UNCOMPRESSED_FILE_NAME = "HH867_0000_S23.IMG"
  REQUIRED_STORAGE_BYTES = "76125918"
  ^DESCRIPTION = "JP2INFO.TXT"
END_OBJECT = COMPRESSED_FILE
END
