PDS_VERSION_ID = PDS3
/* FILE DATA ELEMENTS */
RECORD_TYPE = STREAM
/* POINTERS TO DATA OBJECTS */
^COMPRESSED_FILE = "HH870_0000_BL3.JP2"
/* IDENTIFICATION DATA ELEMENTS */
DATA_SET_ID = "MEX-M-HRSC-5-REFDR-MAPPROJECTED-V3.0"
DATA_SET_NAME = "MARS EXPRESS HRSC MAP PROJECTED REFDR V3.0"
DETECTOR_ID = MEX_HRSC_BLUE
EVENT_TYPE = "MARS-REGIONAL-MAPPING-Vo-Im-Pf"
INSTRUMENT_HOST_ID = MEX
INSTRUMENT_HOST_NAME = "MARS EXPRESS"
INSTRUMENT_ID = HRSC
INSTRUMENT_NAME = "HIGH RESOLUTION STEREO CAMERA"
MISSION_NAME = "MARS EXPRESS"
MISSION_PHASE_NAME = ME_Phase_38
PROCESSING_LEVEL_ID = 3
PRODUCT_CREATION_TIME = 2018-09-04T13:05:27.000Z
PRODUCT_ID = "HH870_0000_BL3.JP2"
RELEASE_ID = 0140
REVISION_ID = 0000
/* QUALITY DATA ELEMENTS */
DATA_QUALITY_ID = 1
DATA_QUALITY_DESC = "Data calculated based on original SPICE kernels"
/* TIME DATA ELEMENTS */
SPACECRAFT_CLOCK_START_COUNT = "1/0466588352.08303"
SPACECRAFT_CLOCK_STOP_COUNT = "1/0466588541.63332"
START_TIME = 2018-02-13T07:53:20.241Z
STOP_TIME = 2018-02-13T07:55:19.557Z
/* ORBITAL DATA ELEMENTS */
ASCENDING_NODE_LONGITUDE = 238.63
MAXIMUM_RESOLUTION = 59.4
FOOTPRINT_POINT_LATITUDE = (38.5521,38.5478,38.5438,38.5405, 38.5363,38.4026,38.2612,38.0492,37.9079 ,37.7666,37.6253,37.484,37.3427,37.1309 ,36.9897,36.8484,36.7073,36.4955, 36.2838,36.0722,35.9312,35.7902,35.6492 ,35.4377,35.2968,35.1559,34.8742, 34.5926,34.3562,34.1883,34.0204,33.8525 ,33.6847,33.517,33.3494,33.1817,33.0142 ,32.8466,32.6792,32.5117,32.3444,32.177 ,32.0098,31.8426,31.6755,31.5084, 31.3415,31.1746,30.8987,30.9012,30.9038 ,30.9053,30.9063,30.9068,30.9917, 31.1588,31.3261,31.4933,31.6606,31.828, 31.9955,32.163,32.3306,32.4982,32.6659, 32.8337,33.0015,33.1694,33.3373,33.5052 ,33.6732,33.8413,34.0095,34.1777, 34.3459,34.5867,34.7983,34.9394,35.0806 ,35.2218,35.4336,35.6454,35.7866, 35.9279,36.0692,36.2812,36.4226,36.564, 36.7054,36.9176,37.1298,37.3421,37.4836 ,37.6252,37.7668,37.9792,38.1208, 38.2625,38.4749,38.5521)
FOOTPRINT_POINT_LONGITUDE = (96.844,96.4566,96.1737,95.9654,95.727, 95.4925,95.4972,95.5043,95.5089,95.5134 ,95.5178,95.5222,95.5265,95.5328, 95.5369,95.541,95.545,95.5508,95.5565, 95.5619,95.5656,95.5691,95.5724,95.5775 ,95.5807,95.5839,95.5901,95.5961, 95.6009,95.6042,95.6075,95.6107,95.6137 ,95.6166,95.6194,95.6222,95.6249, 95.6274,95.63,95.6325,95.6348,95.6371, 95.6393,95.6415,95.6436,95.6454,95.6473 ,95.649,95.709,95.9423,96.2773,96.5249, 96.7436,96.9477,97.2143,97.2131,97.2118 ,97.2105,97.2092,97.2079,97.2066, 97.2052,97.2038,97.2024,97.201,97.1996, 97.1982,97.1967,97.1952,97.1937,97.1922 ,97.1907,97.1891,97.1876,97.186,97.1836 ,97.1816,97.1803,97.1789,97.1776, 97.1754,97.1732,97.1717,97.1702,97.1687 ,97.1663,97.1648,97.1632,97.1616, 97.1592,97.1568,97.1543,97.1525,97.1509 ,97.1493,97.1467,97.1449,97.1431, 97.1404,96.844)
ORBIT_NUMBER = 17870
ORBITAL_ECCENTRICITY = 0.574
ORBITAL_INCLINATION = 86.97
ORBITAL_SEMIMAJOR_AXIS = 8815.15
PERIAPSIS_ALTITUDE = 367.19
PERIAPSIS_ARGUMENT_ANGLE = 140.34
PERIAPSIS_TIME = 2018-02-13T07:53:03.000Z
SPACECRAFT_ORIENTATION = (0.0,-1.0,0.0)
^MEX_ORIENTATION_DESC = "MEX_ORIENTATION_DESC.TXT"
SPACECRAFT_POINTING_MODE = NADIR
^MEX_POINTING_DESC = "MEX_POINTING_DESC.TXT"
RIGHT_ASCENSION = -1e+32
DECLINATION = -1e+32
OFFSET_ANGLE = -1e+32
SPACECRAFT_SOLAR_DISTANCE = 2.37766e+08
TARGET_NAME = MARS
/* CAMERA DATA ELEMENTS */
DETECTOR_TEMPERATURE = 18.5744
FOCAL_PLANE_TEMPERATURE = 8.7872
INST_CMPRS_NAME = "DISCRETE COSINE TRANSFORMATION (DCT)"
INST_CMPRS_RATIO = 5.39817
INST_CMPRS_QUALITY = 0
INST_CMPRS_QUANTZ_TBL_ID = 0
INSTRUMENT_TEMPERATURE = 11.4379
LENS_TEMPERATURE = 9.195
MACROPIXEL_SIZE = 4
MISSING_FRAMES = 0
PIXEL_SUBSAMPLING_FLAG = N
SIGNAL_CHAIN_ID = 2
/* RADIOMETRIC DATA ELEMENTS */
BANDWIDTH = 76.0
CENTER_FILTER_WAVELENGTH = 444.0
RADIANCE_OFFSET = 0.311376
RADIANCE_SCALING_FACTOR = 0.00185343
REFLECTANCE_SCALING_FACTOR = 0.000107654
MEX:REFLECTANCE_OFFSET = 0.0180859
/* IMAGE OBJECT DEFINITIONS */
OBJECT = IMAGE
  INTERCHANGE_FORMAT = BINARY
  LINES = 9089
  LINE_SAMPLES = 1765
  SAMPLE_TYPE = UNSIGNED_INTEGER
  SAMPLE_BITS = 8
  BANDS = 1
  BAND_STORAGE_TYPE = BAND_SEQUENTIAL
  MAXIMUM = 255
  MEAN = 138.866
  MINIMUM = 1
  STANDARD_DEVIATION = 9.5013
END_OBJECT = IMAGE
/* MAP OBJECT DEFINITIONS */
OBJECT = IMAGE_MAP_PROJECTION
  ^DATA_SET_MAP_PROJECTION_CATALOG= "DSMAP.CAT"
  A_AXIS_RADIUS = 3396.0
  B_AXIS_RADIUS = 3396.0
  C_AXIS_RADIUS = 3396.0
  CENTER_LATITUDE = 0.0
  CENTER_LONGITUDE = 96.0
  COORDINATE_SYSTEM_NAME = PLANETOGRAPHIC
  COORDINATE_SYSTEM_TYPE = "BODY-FIXED ROTATING"
  EASTERNMOST_LONGITUDE = 97.21429999999999
  FIRST_STANDARD_PARALLEL = "N/A"
  LINE_FIRST_PIXEL = 1
  LINE_LAST_PIXEL = 9089
  LINE_PROJECTION_OFFSET = 45711.375
  MAP_PROJECTION_ROTATION = 0.0
  MAP_PROJECTION_TYPE = SINUSOIDAL
  MAP_RESOLUTION = 1185.42760773333
  MAP_SCALE = 0.05
  MAXIMUM_LATITUDE = 38.5521
  MINIMUM_LATITUDE = 30.8987
  POSITIVE_LONGITUDE_DIRECTION = EAST
  REFERENCE_LATITUDE = "N/A"
  REFERENCE_LONGITUDE = "N/A"
  SAMPLE_FIRST_PIXEL = 1
  SAMPLE_LAST_PIXEL = 1765
  SAMPLE_PROJECTION_OFFSET = 505.375
  SECOND_STANDARD_PARALLEL = "N/A"
  WESTERNMOST_LONGITUDE = 95.49250000000001
END_OBJECT = IMAGE_MAP_PROJECTION
/* The JPEG2000 image data file associated with this label. */
OBJECT = COMPRESSED_FILE
  FILE_NAME = "HH870_0000_BL3.JP2"
  RECORD_TYPE = UNDEFINED
  FILE_RECORDS = UNK
  ENCODING_TYPE = "JP2"
  INTERCHANGE_FORMAT = BINARY
  UNCOMPRESSED_FILE_NAME = "HH870_0000_BL3.IMG"
  REQUIRED_STORAGE_BYTES = "16061500"
  ^DESCRIPTION = "JP2INFO.TXT"
END_OBJECT = COMPRESSED_FILE
END
