PDS_VERSION_ID = PDS3
/* FILE DATA ELEMENTS */
RECORD_TYPE = STREAM
/* POINTERS TO DATA OBJECTS */
^COMPRESSED_FILE = "HH876_0000_ND3.JP2"
/* IDENTIFICATION DATA ELEMENTS */
DATA_SET_ID = "MEX-M-HRSC-5-REFDR-MAPPROJECTED-V3.0"
DATA_SET_NAME = "MARS EXPRESS HRSC MAP PROJECTED REFDR V3.0"
DETECTOR_ID = MEX_HRSC_NADIR
EVENT_TYPE = "MARS-LOCAL-VARIABLE-Eo-At-Sh"
INSTRUMENT_HOST_ID = MEX
INSTRUMENT_HOST_NAME = "MARS EXPRESS"
INSTRUMENT_ID = HRSC
INSTRUMENT_NAME = "HIGH RESOLUTION STEREO CAMERA"
MISSION_NAME = "MARS EXPRESS"
MISSION_PHASE_NAME = ME_Phase_38
PROCESSING_LEVEL_ID = 3
PRODUCT_CREATION_TIME = 2018-09-04T13:05:27.000Z
PRODUCT_ID = "HH876_0000_ND3.JP2"
RELEASE_ID = 0140
REVISION_ID = 0000
/* QUALITY DATA ELEMENTS */
DATA_QUALITY_ID = 1
DATA_QUALITY_DESC = "Data calculated based on original SPICE kernels"
/* TIME DATA ELEMENTS */
SPACECRAFT_CLOCK_START_COUNT = "1/0466739184.08269"
SPACECRAFT_CLOCK_STOP_COUNT = "1/0466739374.16643"
START_TIME = 2018-02-15T01:47:06.648Z
STOP_TIME = 2018-02-15T01:49:05.621Z
/* ORBITAL DATA ELEMENTS */
ASCENDING_NODE_LONGITUDE = 238.52
MAXIMUM_RESOLUTION = 14.9
FOOTPRINT_POINT_LATITUDE = (39.5642,39.56,39.5537,39.5489,39.5427, 39.3309,39.1908,39.0508,38.9107,38.7707 ,38.6307,38.4906,38.2106,37.9306, 37.6507,37.3708,37.0909,36.8111,36.5314 ,36.2517,35.9721,35.7316,35.5648, 35.3981,35.2314,35.0647,34.898,34.7314, 34.5648,34.3983,34.2318,34.0653,33.8989 ,33.7325,33.5661,33.3998,33.2336, 33.0674,32.9012,32.7351,32.569,32.4029, 32.237,32.071,31.9051,31.9083,31.9111, 31.9128,31.9145,31.9159,32.0825,32.2487 ,32.415,32.5813,32.7477,32.9141,33.0806 ,33.2471,33.4137,33.5803,33.7469, 33.9136,34.0804,34.2471,34.4139,34.5808 ,34.7477,34.9146,35.0816,35.2486, 35.4156,35.5827,35.7498,35.9908,36.1309 ,36.2709,36.411,36.5512,36.6913,36.8314 ,36.9716,37.1118,37.252,37.3922,37.5324 ,37.6727,37.8129,37.9532,38.0935, 38.2338,38.3741,38.5144,38.6547,38.795, 38.9354,39.0757,39.216,39.3564,39.567, 39.5642)
FOOTPRINT_POINT_LONGITUDE = (204.202,203.832,203.413,203.14,202.834 ,202.708,202.713,202.719,202.723, 202.728,202.733,202.738,202.747,202.756 ,202.765,202.773,202.781,202.789, 202.797,202.804,202.811,202.817,202.821 ,202.825,202.828,202.832,202.836, 202.839,202.842,202.846,202.849,202.852 ,202.855,202.858,202.86,202.863,202.866 ,202.868,202.871,202.873,202.876, 202.878,202.88,202.882,202.884,203.182, 203.464,203.668,203.951,204.327,204.475 ,204.473,204.472,204.471,204.469, 204.468,204.466,204.465,204.463,204.462 ,204.46,204.458,204.457,204.455,204.454 ,204.452,204.45,204.449,204.447,204.445 ,204.443,204.442,204.44,204.437,204.436 ,204.434,204.432,204.431,204.429, 204.428,204.426,204.424,204.423,204.421 ,204.419,204.418,204.416,204.414, 204.412,204.41,204.409,204.407,204.405, 204.403,204.401,204.399,204.397,204.395 ,204.392,204.202)
ORBIT_NUMBER = 17876
ORBITAL_ECCENTRICITY = 0.573
ORBITAL_INCLINATION = 86.97
ORBITAL_SEMIMAJOR_AXIS = 8804.47
PERIAPSIS_ALTITUDE = 368.45
PERIAPSIS_ARGUMENT_ANGLE = 139.31
PERIAPSIS_TIME = 2018-02-15T01:46:53.000Z
SPACECRAFT_ORIENTATION = (0.0,-1.0,0.0)
^MEX_ORIENTATION_DESC = "MEX_ORIENTATION_DESC.TXT"
SPACECRAFT_POINTING_MODE = NADIR
^MEX_POINTING_DESC = "MEX_POINTING_DESC.TXT"
RIGHT_ASCENSION = -1e+32
DECLINATION = -1e+32
OFFSET_ANGLE = -1e+32
SPACECRAFT_SOLAR_DISTANCE = 2.37475e+08
TARGET_NAME = MARS
/* CAMERA DATA ELEMENTS */
DETECTOR_TEMPERATURE = 18.5744
FOCAL_PLANE_TEMPERATURE = 8.7872
INST_CMPRS_NAME = "DISCRETE COSINE TRANSFORMATION (DCT)"
INST_CMPRS_RATIO = 5.44773
INST_CMPRS_QUALITY = 0
INST_CMPRS_QUANTZ_TBL_ID = 0
INSTRUMENT_TEMPERATURE = 11.6418
LENS_TEMPERATURE = 9.3989
MACROPIXEL_SIZE = 1
MISSING_FRAMES = 0
PIXEL_SUBSAMPLING_FLAG = N
SIGNAL_CHAIN_ID = 0
/* RADIOMETRIC DATA ELEMENTS */
BANDWIDTH = 177.0
CENTER_FILTER_WAVELENGTH = 677.5
RADIANCE_OFFSET = 3.0507
RADIANCE_SCALING_FACTOR = 0.0163348
REFLECTANCE_SCALING_FACTOR = 0.000489368
MEX:REFLECTANCE_OFFSET = 0.0913947
/* IMAGE OBJECT DEFINITIONS */
OBJECT = IMAGE
  INTERCHANGE_FORMAT = BINARY
  LINES = 36330
  LINE_SAMPLES = 6863
  SAMPLE_TYPE = UNSIGNED_INTEGER
  SAMPLE_BITS = 8
  BANDS = 1
  BAND_STORAGE_TYPE = BAND_SEQUENTIAL
  MAXIMUM = 255
  MEAN = 125.393
  MINIMUM = 1
  STANDARD_DEVIATION = 35.0378
END_OBJECT = IMAGE
/* MAP OBJECT DEFINITIONS */
OBJECT = IMAGE_MAP_PROJECTION
  ^DATA_SET_MAP_PROJECTION_CATALOG= "DSMAP.CAT"
  A_AXIS_RADIUS = 3396.0
  B_AXIS_RADIUS = 3396.0
  C_AXIS_RADIUS = 3396.0
  CENTER_LATITUDE = 0.0
  CENTER_LONGITUDE = 204.0
  COORDINATE_SYSTEM_NAME = PLANETOGRAPHIC
  COORDINATE_SYSTEM_TYPE = "BODY-FIXED ROTATING"
  EASTERNMOST_LONGITUDE = 204.475
  FIRST_STANDARD_PARALLEL = "N/A"
  LINE_FIRST_PIXEL = 1
  LINE_LAST_PIXEL = 36330
  LINE_PROJECTION_OFFSET = 187608.0
  MAP_PROJECTION_ROTATION = 0.0
  MAP_PROJECTION_TYPE = SINUSOIDAL
  MAP_RESOLUTION = 4741.71043093333
  MAP_SCALE = 0.0125
  MAXIMUM_LATITUDE = 39.567
  MINIMUM_LATITUDE = 31.9051
  POSITIVE_LONGITUDE_DIRECTION = EAST
  REFERENCE_LATITUDE = "N/A"
  REFERENCE_LONGITUDE = "N/A"
  SAMPLE_FIRST_PIXEL = 1
  SAMPLE_LAST_PIXEL = 6863
  SAMPLE_PROJECTION_OFFSET = 4843.0
  SECOND_STANDARD_PARALLEL = "N/A"
  WESTERNMOST_LONGITUDE = 202.708
END_OBJECT = IMAGE_MAP_PROJECTION
/* The JPEG2000 image data file associated with this label. */
OBJECT = COMPRESSED_FILE
  FILE_NAME = "HH876_0000_ND3.JP2"
  RECORD_TYPE = UNDEFINED
  FILE_RECORDS = UNK
  ENCODING_TYPE = "JP2"
  INTERCHANGE_FORMAT = BINARY
  UNCOMPRESSED_FILE_NAME = "HH876_0000_ND3.IMG"
  REQUIRED_STORAGE_BYTES = "249367105"
  ^DESCRIPTION = "JP2INFO.TXT"
END_OBJECT = COMPRESSED_FILE
END
