PDS_VERSION_ID = PDS3
/* FILE DATA ELEMENTS */
RECORD_TYPE = STREAM
/* POINTERS TO DATA OBJECTS */
^COMPRESSED_FILE = "HH878_0009_P23.JP2"
/* IDENTIFICATION DATA ELEMENTS */
DATA_SET_ID = "MEX-M-HRSC-5-REFDR-MAPPROJECTED-V3.0"
DATA_SET_NAME = "MARS EXPRESS HRSC MAP PROJECTED REFDR V3.0"
DETECTOR_ID = MEX_HRSC_P2
EVENT_TYPE = "MARS-LOCAL-STEREO-Im-Tc-Ts"
INSTRUMENT_HOST_ID = MEX
INSTRUMENT_HOST_NAME = "MARS EXPRESS"
INSTRUMENT_ID = HRSC
INSTRUMENT_NAME = "HIGH RESOLUTION STEREO CAMERA"
MISSION_NAME = "MARS EXPRESS"
MISSION_PHASE_NAME = ME_Phase_38
PROCESSING_LEVEL_ID = 3
PRODUCT_CREATION_TIME = 2018-09-04T13:05:27.000Z
PRODUCT_ID = "HH878_0009_P23.JP2"
RELEASE_ID = 0140
REVISION_ID = 0000
/* QUALITY DATA ELEMENTS */
DATA_QUALITY_ID = 1
DATA_QUALITY_DESC = "Data calculated based on original SPICE kernels"
/* TIME DATA ELEMENTS */
SPACECRAFT_CLOCK_START_COUNT = "1/0466790157.07349"
SPACECRAFT_CLOCK_STOP_COUNT = "1/0466790393.15737"
START_TIME = 2018-02-15T15:58:37.322Z
STOP_TIME = 2018-02-15T15:59:12.709Z
/* ORBITAL DATA ELEMENTS */
ASCENDING_NODE_LONGITUDE = 238.49
MAXIMUM_RESOLUTION = 72.6
FOOTPRINT_POINT_LATITUDE = (-4.29085,-4.29137,-4.29177,-4.29207, -4.29228,-4.2924,-4.29241,-4.2923, -4.2921,-4.2918,-4.2914,-4.2909,-4.2903 ,-4.28957,-4.28875,-4.28783,-4.2868, -4.28569,-4.28449,-4.28318,-4.28178, -4.2803,-4.27874,-4.27707,-4.2753, -4.27343,-4.35302,-4.4873,-4.57664, -4.69692,-4.7717,-4.89074,-4.99604, -5.11669,-5.22201,-5.32839,-5.4498, -5.61692,-5.72385,-5.82863,-5.83102, -5.83313,-5.83504,-5.83814,-5.83903, -5.83991,-5.84041,-5.84103,-5.84224, -5.84317,-5.8437,-5.84434,-5.84442, -5.84561,-5.84667,-5.8475,-5.8481, -5.84863,-5.84971,-5.8975,-5.85019, -5.85179,-5.85191,-5.85199,-5.85178, -5.85199,-5.85214,-5.85273,-5.8528, -5.85307,-5.85374,-5.85382,-5.85088, -5.85019,-5.85004,-5.85104,-5.85256, -5.85326,-5.85249,-5.85247,-5.85208, -5.85194,-5.85181,-5.85145,-5.77388, -5.63671,-5.56055,-5.42449,-5.33194, -5.20999,-5.13233,-5.05544,-4.93367, -4.82959,-4.74223,-4.67003,-4.58104, -4.49071,-4.35587,-4.29085)
FOOTPRINT_POINT_LONGITUDE = (361.548,361.421,361.296,361.17,361.045 ,360.92,360.796,360.671,360.547,360.423 ,360.299,360.176,360.052,359.929, 359.806,359.683,359.561,359.438,359.316 ,359.194,359.072,358.95,358.828,358.706 ,358.585,358.463,358.445,358.436, 358.429,358.42,358.415,358.406,358.398, 358.389,358.381,358.373,358.364,358.352 ,358.344,358.336,358.462,358.59,358.718 ,358.879,358.943,359.007,359.071, 359.135,359.232,359.296,359.36,359.425, 359.489,359.553,359.65,359.715,359.779, 359.844,359.941,359.991,360.038,360.102 ,360.167,360.232,360.298,360.363, 360.428,360.526,360.591,360.689,360.754 ,360.819,360.886,360.952,361.018, 361.083,361.181,361.246,361.312,361.378 ,361.444,361.543,361.609,361.676, 361.686,361.682,361.68,361.676,361.675, 361.672,361.672,361.671,361.668,361.665 ,361.661,361.657,361.654,361.652,361.65 ,361.548)
ORBIT_NUMBER = 17878
ORBITAL_ECCENTRICITY = 0.573
ORBITAL_INCLINATION = 86.96
ORBITAL_SEMIMAJOR_AXIS = 8805.4
PERIAPSIS_ALTITUDE = 369.02
PERIAPSIS_ARGUMENT_ANGLE = 138.95
PERIAPSIS_TIME = 2018-02-15T15:44:51.000Z
SPACECRAFT_ORIENTATION = (0.0,-1.0,0.0)
^MEX_ORIENTATION_DESC = "MEX_ORIENTATION_DESC.TXT"
SPACECRAFT_POINTING_MODE = ACROSSTRACK
^MEX_POINTING_DESC = "MEX_POINTING_DESC.TXT"
RIGHT_ASCENSION = -1e+32
DECLINATION = -1e+32
OFFSET_ANGLE = 0.98
SPACECRAFT_SOLAR_DISTANCE = 2.37378e+08
TARGET_NAME = MARS
/* CAMERA DATA ELEMENTS */
DETECTOR_TEMPERATURE = 19.1861
FOCAL_PLANE_TEMPERATURE = 10.0106
INST_CMPRS_NAME = "DISCRETE COSINE TRANSFORMATION (DCT)"
INST_CMPRS_RATIO = 7.4691
INST_CMPRS_QUALITY = 0
INST_CMPRS_QUANTZ_TBL_ID = 0
INSTRUMENT_TEMPERATURE = 11.8457
LENS_TEMPERATURE = 8.9911
MACROPIXEL_SIZE = 2
MISSING_FRAMES = 0
PIXEL_SUBSAMPLING_FLAG = N
SIGNAL_CHAIN_ID = 3
/* RADIOMETRIC DATA ELEMENTS */
BANDWIDTH = 177.0
CENTER_FILTER_WAVELENGTH = 676.5
RADIANCE_OFFSET = 1.29416
RADIANCE_SCALING_FACTOR = 0.0142104
REFLECTANCE_SCALING_FACTOR = 0.000424559
MEX:REFLECTANCE_OFFSET = 0.0386652
/* IMAGE OBJECT DEFINITIONS */
OBJECT = IMAGE
  INTERCHANGE_FORMAT = BINARY
  LINES = 1950
  LINE_SAMPLES = 3645
  SAMPLE_TYPE = UNSIGNED_INTEGER
  SAMPLE_BITS = 8
  BANDS = 1
  BAND_STORAGE_TYPE = BAND_SEQUENTIAL
  MAXIMUM = 255
  MEAN = 76.6793
  MINIMUM = 1
  STANDARD_DEVIATION = 20.6665
END_OBJECT = IMAGE
/* MAP OBJECT DEFINITIONS */
OBJECT = IMAGE_MAP_PROJECTION
  ^DATA_SET_MAP_PROJECTION_CATALOG= "DSMAP.CAT"
  A_AXIS_RADIUS = 3396.0
  B_AXIS_RADIUS = 3396.0
  C_AXIS_RADIUS = 3396.0
  CENTER_LATITUDE = 0.0
  CENTER_LONGITUDE = 360.0
  COORDINATE_SYSTEM_NAME = PLANETOGRAPHIC
  COORDINATE_SYSTEM_TYPE = "BODY-FIXED ROTATING"
  EASTERNMOST_LONGITUDE = 1.686
  FIRST_STANDARD_PARALLEL = "N/A"
  LINE_FIRST_PIXEL = 1
  LINE_LAST_PIXEL = 1950
  LINE_PROJECTION_OFFSET = -5038.25
  MAP_PROJECTION_ROTATION = 0.0
  MAP_PROJECTION_TYPE = SINUSOIDAL
  MAP_RESOLUTION = 1185.42760773333
  MAP_SCALE = 0.05
  MAXIMUM_LATITUDE = -4.27343
  MINIMUM_LATITUDE = -5.8975
  POSITIVE_LONGITUDE_DIRECTION = EAST
  REFERENCE_LATITUDE = "N/A"
  REFERENCE_LONGITUDE = "N/A"
  SAMPLE_FIRST_PIXEL = 1
  SAMPLE_LAST_PIXEL = 3645
  SAMPLE_PROJECTION_OFFSET = 1777.75
  SECOND_STANDARD_PARALLEL = "N/A"
  WESTERNMOST_LONGITUDE = -1.664
END_OBJECT = IMAGE_MAP_PROJECTION
/* The JPEG2000 image data file associated with this label. */
OBJECT = COMPRESSED_FILE
  FILE_NAME = "HH878_0009_P23.JP2"
  RECORD_TYPE = UNDEFINED
  FILE_RECORDS = UNK
  ENCODING_TYPE = "JP2"
  INTERCHANGE_FORMAT = BINARY
  UNCOMPRESSED_FILE_NAME = "HH878_0009_P23.IMG"
  REQUIRED_STORAGE_BYTES = "7129620"
  ^DESCRIPTION = "JP2INFO.TXT"
END_OBJECT = COMPRESSED_FILE
END
