PDS_VERSION_ID = PDS3
/* FILE DATA ELEMENTS */
RECORD_TYPE = STREAM
/* POINTERS TO DATA OBJECTS */
^COMPRESSED_FILE = "HH878_0013_SR3.JP2"
/* IDENTIFICATION DATA ELEMENTS */
DATA_SET_ID = "MEX-M-HRSC-5-REFDR-MAPPROJECTED-V3.0"
DATA_SET_NAME = "MARS EXPRESS HRSC MAP PROJECTED REFDR V3.0"
DETECTOR_ID = MEX_HRSC_SRC
EVENT_TYPE = "MARS-LOCAL-STEREO-Im-Tc-Ts"
INSTRUMENT_HOST_ID = MEX
INSTRUMENT_HOST_NAME = "MARS EXPRESS"
INSTRUMENT_ID = HRSC
INSTRUMENT_NAME = "HIGH RESOLUTION STEREO CAMERA"
MISSION_NAME = "MARS EXPRESS"
MISSION_PHASE_NAME = ME_Phase_38
PROCESSING_LEVEL_ID = 3
PRODUCT_CREATION_TIME = 2018-09-04T13:05:27.000Z
PRODUCT_ID = "HH878_0013_SR3.JP2"
RELEASE_ID = 0140
REVISION_ID = 0000
/* QUALITY DATA ELEMENTS */
DATA_QUALITY_ID = 1
DATA_QUALITY_DESC = "Data calculated based on original SPICE kernels"
/* TIME DATA ELEMENTS */
SPACECRAFT_CLOCK_START_COUNT = "1/0466790157.07349"
SPACECRAFT_CLOCK_STOP_COUNT = "1/0466790393.15737"
IMAGE_TIME = 2018-02-15T15:57:46.407Z
START_TIME = 2018-02-15T15:57:46.404Z
STOP_TIME = 2018-02-15T15:57:46.409Z
/* ORBITAL DATA ELEMENTS */
ASCENDING_NODE_LONGITUDE = 238.49
MAXIMUM_RESOLUTION = 7.7
FOOTPRINT_POINT_LATITUDE = (-5.20301,-5.19833,-5.19845,-5.19855, -5.1988,-5.19902,-5.19882,-5.19901, -5.19897,-5.19917,-5.19913,-5.19925, -5.19937,-5.19949,-5.19962,-5.19974, -5.1998,-5.19986,-5.19992,-5.19998, -5.20004,-5.2001,-5.20016,-5.20022, -5.20029,-5.20035,-5.20041,-5.20047, -5.20053,-5.20059,-5.20065,-5.20071, -5.20077,-5.20083,-5.20089,-5.20315, -5.2077,-5.21134,-5.21446,-5.22083, -5.22539,-5.22877,-5.23436,-5.23774, -5.24307,-5.24801,-5.2523,-5.25582, -5.26024,-5.26388,-5.26739,-5.2735, -5.2774,-5.28247,-5.28573,-5.28963, -5.29249,-5.296,-5.29938,-5.30458, -5.30783,-5.31212,-5.31537,-5.3185, -5.32305,-5.32604,-5.32968,-5.33169, -5.33163,-5.33157,-5.3315,-5.33144, -5.33138,-5.33132,-5.33125,-5.33119, -5.33113,-5.33106,-5.331,-5.33094, -5.33087,-5.33081,-5.33075,-5.33069, -5.33056,-5.33043,-5.33031,-5.33018, -5.33005,-5.32993,-5.3298,-5.32968, -5.32945,-5.32916,-5.32936,-5.32913, -5.32914,-5.27881,-5.22472,-5.20301)
FOOTPRINT_POINT_LONGITUDE = (359.969,359.969,359.974,359.978, 359.983,359.987,359.99,359.992,359.996, 359.999,360.003,360.008,360.013,360.019 ,360.024,360.029,360.032,360.034, 360.037,360.04,360.042,360.045,360.048, 360.05,360.053,360.055,360.058,360.061, 360.063,360.066,360.069,360.071,360.074 ,360.076,360.079,360.081,360.081, 360.081,360.081,360.08,360.08,360.08, 360.08,360.08,360.08,360.08,360.08, 360.079,360.079,360.079,360.079,360.079 ,360.079,360.079,360.079,360.079, 360.079,360.079,360.078,360.078,360.078 ,360.078,360.078,360.078,360.078, 360.078,360.078,360.075,360.072,360.07, 360.067,360.064,360.062,360.059,360.057 ,360.054,360.051,360.049,360.046, 360.043,360.041,360.038,360.036,360.033 ,360.028,360.022,360.017,360.012, 360.007,360.002,359.996,359.991,359.987 ,359.981,359.978,359.974,359.969, 359.969,359.969,359.969)
ORBIT_NUMBER = 17878
ORBITAL_ECCENTRICITY = 0.573
ORBITAL_INCLINATION = 86.96
ORBITAL_SEMIMAJOR_AXIS = 8805.4
PERIAPSIS_ALTITUDE = 369.02
PERIAPSIS_ARGUMENT_ANGLE = 138.95
PERIAPSIS_TIME = 2018-02-15T15:44:51.000Z
SPACECRAFT_ORIENTATION = (0.0,-1.0,0.0)
^MEX_ORIENTATION_DESC = "MEX_ORIENTATION_DESC.TXT"
SPACECRAFT_POINTING_MODE = ACROSSTRACK
^MEX_POINTING_DESC = "MEX_POINTING_DESC.TXT"
RIGHT_ASCENSION = -1e+32
DECLINATION = -1e+32
OFFSET_ANGLE = 0.98
SPACECRAFT_SOLAR_DISTANCE = 2.37378e+08
TARGET_NAME = MARS
/* CAMERA DATA ELEMENTS */
BUFFER_MODE_ID = BUFFER_8
EXPOSURE_DURATION = 5.04
INST_CMPRS_NAME = NONE
INST_CMPRS_RATIO = 1.0
INST_CMPRS_QUALITY = -2147483648
INST_CMPRS_QUANTZ_TBL_ID = -2147483648
INSTRUMENT_TEMPERATURE = 9.25014
MISSING_FRAMES = 0
START_BIT = 0
/* RADIOMETRIC DATA ELEMENTS */
BANDWIDTH = 250.0
CENTER_FILTER_WAVELENGTH = 600.0
RADIANCE_OFFSET = -9.99e+31
RADIANCE_SCALING_FACTOR = -9.99e+31
REFLECTANCE_SCALING_FACTOR = -9.99e+31
MEX:REFLECTANCE_OFFSET = -9.99e+31
/* IMAGE OBJECT DEFINITIONS */
OBJECT = IMAGE
  INTERCHANGE_FORMAT = BINARY
  LINES = 835
  LINE_SAMPLES = 846
  SAMPLE_TYPE = UNSIGNED_INTEGER
  SAMPLE_BITS = 8
  BANDS = 1
  BAND_STORAGE_TYPE = BAND_SEQUENTIAL
  MAXIMUM = 252
  MEAN = 213.34
  MINIMUM = 1
  STANDARD_DEVIATION = 11.6029
END_OBJECT = IMAGE
/* MAP OBJECT DEFINITIONS */
OBJECT = IMAGE_MAP_PROJECTION
  ^DATA_SET_MAP_PROJECTION_CATALOG= "DSMAP.CAT"
  A_AXIS_RADIUS = 3396.19
  B_AXIS_RADIUS = 3396.19
  C_AXIS_RADIUS = 3396.19
  CENTER_LATITUDE = 0.0
  CENTER_LONGITUDE = 0.0
  COORDINATE_SYSTEM_NAME = PLANETOGRAPHIC
  COORDINATE_SYSTEM_TYPE = "BODY-FIXED ROTATING"
  EASTERNMOST_LONGITUDE = 0.081
  FIRST_STANDARD_PARALLEL = "N/A"
  LINE_FIRST_PIXEL = 1
  LINE_LAST_PIXEL = 835
  LINE_PROJECTION_OFFSET = -30790.0
  MAP_PROJECTION_ROTATION = 0.0
  MAP_PROJECTION_TYPE = SINUSOIDAL
  MAP_RESOLUTION = 5927.46965121889
  MAP_SCALE = 0.01
  MAXIMUM_LATITUDE = -5.19833
  MINIMUM_LATITUDE = -5.33169
  POSITIVE_LONGITUDE_DIRECTION = EAST
  REFERENCE_LATITUDE = "N/A"
  REFERENCE_LONGITUDE = "N/A"
  SAMPLE_FIRST_PIXEL = 1
  SAMPLE_LAST_PIXEL = 846
  SAMPLE_PROJECTION_OFFSET = 348.0
  SECOND_STANDARD_PARALLEL = "N/A"
  WESTERNMOST_LONGITUDE = -0.031
END_OBJECT = IMAGE_MAP_PROJECTION
/* The JPEG2000 image data file associated with this label. */
OBJECT = COMPRESSED_FILE
  FILE_NAME = "HH878_0013_SR3.JP2"
  RECORD_TYPE = UNDEFINED
  FILE_RECORDS = UNK
  ENCODING_TYPE = "JP2"
  INTERCHANGE_FORMAT = BINARY
  UNCOMPRESSED_FILE_NAME = "HH878_0013_SR3.IMG"
  REQUIRED_STORAGE_BYTES = "725022"
  ^DESCRIPTION = "JP2INFO.TXT"
END_OBJECT = COMPRESSED_FILE
END
