PDS_VERSION_ID = PDS3
/* FILE DATA ELEMENTS */
RECORD_TYPE = STREAM
/* POINTERS TO DATA OBJECTS */
^COMPRESSED_FILE = "HH879_0000_P23.JP2"
/* IDENTIFICATION DATA ELEMENTS */
DATA_SET_ID = "MEX-M-HRSC-5-REFDR-MAPPROJECTED-V3.0"
DATA_SET_NAME = "MARS EXPRESS HRSC MAP PROJECTED REFDR V3.0"
DETECTOR_ID = MEX_HRSC_P2
EVENT_TYPE = "MARS-REGIONAL-STEREO-Vo-Te"
INSTRUMENT_HOST_ID = MEX
INSTRUMENT_HOST_NAME = "MARS EXPRESS"
INSTRUMENT_ID = HRSC
INSTRUMENT_NAME = "HIGH RESOLUTION STEREO CAMERA"
MISSION_NAME = "MARS EXPRESS"
MISSION_PHASE_NAME = ME_Phase_38
PROCESSING_LEVEL_ID = 3
PRODUCT_CREATION_TIME = 2018-09-04T13:05:27.000Z
PRODUCT_ID = "HH879_0000_P23.JP2"
RELEASE_ID = 0140
REVISION_ID = 0000
/* QUALITY DATA ELEMENTS */
DATA_QUALITY_ID = 1
DATA_QUALITY_DESC = "Data calculated based on original SPICE kernels"
/* TIME DATA ELEMENTS */
SPACECRAFT_CLOCK_START_COUNT = "1/0466814564.08285"
SPACECRAFT_CLOCK_STOP_COUNT = "1/0466814773.42126"
START_TIME = 2018-02-15T22:43:49.377Z
STOP_TIME = 2018-02-15T22:46:08.500Z
/* ORBITAL DATA ELEMENTS */
ASCENDING_NODE_LONGITUDE = 238.47
MAXIMUM_RESOLUTION = 30.1
FOOTPRINT_POINT_LATITUDE = (42.6884,42.6799,42.671,42.6618,42.6522 ,42.6423,42.3883,42.2067,42.0394, 41.8871,41.6587,41.3378,41.1565,40.9741 ,40.7013,40.5198,40.3388,40.1575, 39.9766,39.7974,39.6161,39.3451,39.165, 38.8952,38.7151,38.535,38.3556,38.1764, 37.9978,37.818,37.6382,37.4594,37.2804, 37.0123,36.8336,36.6549,36.3874,36.2089 ,35.9414,35.7633,35.5853,35.4076, 35.2301,35.0522,34.8742,34.6966,34.4302 ,34.2527,34.0752,33.772,33.7801,33.7863 ,33.7935,33.8004,33.8078,33.8144, 34.0834,34.2613,34.5284,34.7067,34.8847 ,35.063,35.3303,35.5087,35.6869,35.9548 ,36.1337,36.3123,36.4909,36.6698,36.849 ,37.0284,37.2085,37.3865,37.5656, 37.8347,38.0143,38.1942,38.3742,38.5538 ,38.7339,39.0042,39.2742,39.545,39.8162 ,39.9977,40.2688,40.4507,40.7228, 40.9042,41.1774,41.3594,41.612,41.7646, 41.9169,42.07,42.3235,42.5058,42.6876, 42.6884)
FOOTPRINT_POINT_LONGITUDE = (258.753,258.477,258.203,257.933, 257.665,257.4,257.307,257.312,257.317, 257.322,257.328,257.336,257.341,257.345 ,257.352,257.356,257.36,257.364,257.368 ,257.372,257.376,257.381,257.384, 257.389,257.392,257.396,257.399,257.402 ,257.404,257.407,257.41,257.412,257.415 ,257.418,257.42,257.422,257.425,257.427 ,257.43,257.431,257.433,257.435,257.436 ,257.437,257.438,257.439,257.441, 257.442,257.443,257.505,257.753,257.956 ,258.207,258.462,258.751,259.011, 259.083,259.083,259.084,259.084,259.085 ,259.085,259.085,259.085,259.084, 259.084,259.084,259.084,259.084,259.083 ,259.083,259.083,259.084,259.082, 259.082,259.081,259.081,259.081,259.081 ,259.08,259.08,259.08,259.079,259.079, 259.079,259.08,259.08,259.081,259.082, 259.082,259.084,259.085,259.087,259.088 ,259.088,259.089,259.091,259.092, 259.091,258.753)
ORBIT_NUMBER = 17879
ORBITAL_ECCENTRICITY = 0.574
ORBITAL_INCLINATION = 86.96
ORBITAL_SEMIMAJOR_AXIS = 8814.18
PERIAPSIS_ALTITUDE = 368.46
PERIAPSIS_ARGUMENT_ANGLE = 138.78
PERIAPSIS_TIME = 2018-02-15T22:43:53.000Z
SPACECRAFT_ORIENTATION = (0.0,-1.0,0.0)
^MEX_ORIENTATION_DESC = "MEX_ORIENTATION_DESC.TXT"
SPACECRAFT_POINTING_MODE = ACROSSTRACK
^MEX_POINTING_DESC = "MEX_POINTING_DESC.TXT"
RIGHT_ASCENSION = -1e+32
DECLINATION = -1e+32
OFFSET_ANGLE = 0.808
SPACECRAFT_SOLAR_DISTANCE = 2.37329e+08
TARGET_NAME = MARS
/* CAMERA DATA ELEMENTS */
DETECTOR_TEMPERATURE = 18.5744
FOCAL_PLANE_TEMPERATURE = 8.5833
INST_CMPRS_NAME = "DISCRETE COSINE TRANSFORMATION (DCT)"
INST_CMPRS_RATIO = 6.31321
INST_CMPRS_QUALITY = 0
INST_CMPRS_QUANTZ_TBL_ID = 0
INSTRUMENT_TEMPERATURE = 11.6418
LENS_TEMPERATURE = 8.7872
MACROPIXEL_SIZE = 2
MISSING_FRAMES = 0
PIXEL_SUBSAMPLING_FLAG = N
SIGNAL_CHAIN_ID = 3
/* RADIOMETRIC DATA ELEMENTS */
BANDWIDTH = 177.0
CENTER_FILTER_WAVELENGTH = 676.5
RADIANCE_OFFSET = 2.30153
RADIANCE_SCALING_FACTOR = 0.0347752
REFLECTANCE_SCALING_FACTOR = 0.00103855
MEX:REFLECTANCE_OFFSET = 0.0687347
/* IMAGE OBJECT DEFINITIONS */
OBJECT = IMAGE
  INTERCHANGE_FORMAT = BINARY
  LINES = 21103
  LINE_SAMPLES = 3512
  SAMPLE_TYPE = UNSIGNED_INTEGER
  SAMPLE_BITS = 8
  BANDS = 1
  BAND_STORAGE_TYPE = BAND_SEQUENTIAL
  MAXIMUM = 255
  MEAN = 122.561
  MINIMUM = 1
  STANDARD_DEVIATION = 16.2332
END_OBJECT = IMAGE
/* MAP OBJECT DEFINITIONS */
OBJECT = IMAGE_MAP_PROJECTION
  ^DATA_SET_MAP_PROJECTION_CATALOG= "DSMAP.CAT"
  A_AXIS_RADIUS = 3396.0
  B_AXIS_RADIUS = 3396.0
  C_AXIS_RADIUS = 3396.0
  CENTER_LATITUDE = 0.0
  CENTER_LONGITUDE = 258.0
  COORDINATE_SYSTEM_NAME = PLANETOGRAPHIC
  COORDINATE_SYSTEM_TYPE = "BODY-FIXED ROTATING"
  EASTERNMOST_LONGITUDE = 259.092
  FIRST_STANDARD_PARALLEL = "N/A"
  LINE_FIRST_PIXEL = 1
  LINE_LAST_PIXEL = 21103
  LINE_PROJECTION_OFFSET = 101231.75
  MAP_PROJECTION_ROTATION = 0.0
  MAP_PROJECTION_TYPE = SINUSOIDAL
  MAP_RESOLUTION = 2370.85521546667
  MAP_SCALE = 0.025
  MAXIMUM_LATITUDE = 42.6884
  MINIMUM_LATITUDE = 33.772
  POSITIVE_LONGITUDE_DIRECTION = EAST
  REFERENCE_LATITUDE = "N/A"
  REFERENCE_LONGITUDE = "N/A"
  SAMPLE_FIRST_PIXEL = 1
  SAMPLE_LAST_PIXEL = 3512
  SAMPLE_PROJECTION_OFFSET = 1232.75
  SECOND_STANDARD_PARALLEL = "N/A"
  WESTERNMOST_LONGITUDE = 257.307
END_OBJECT = IMAGE_MAP_PROJECTION
/* The JPEG2000 image data file associated with this label. */
OBJECT = COMPRESSED_FILE
  FILE_NAME = "HH879_0000_P23.JP2"
  RECORD_TYPE = UNDEFINED
  FILE_RECORDS = UNK
  ENCODING_TYPE = "JP2"
  INTERCHANGE_FORMAT = BINARY
  UNCOMPRESSED_FILE_NAME = "HH879_0000_P23.IMG"
  REQUIRED_STORAGE_BYTES = "74134808"
  ^DESCRIPTION = "JP2INFO.TXT"
END_OBJECT = COMPRESSED_FILE
END
