PDS_VERSION_ID = PDS3
/* FILE DATA ELEMENTS */
RECORD_TYPE = STREAM
/* POINTERS TO DATA OBJECTS */
^COMPRESSED_FILE = "HH886_0000_S23.JP2"
/* IDENTIFICATION DATA ELEMENTS */
DATA_SET_ID = "MEX-M-HRSC-5-REFDR-MAPPROJECTED-V3.0"
DATA_SET_NAME = "MARS EXPRESS HRSC MAP PROJECTED REFDR V3.0"
DETECTOR_ID = MEX_HRSC_S2
EVENT_TYPE = "MARS-REGIONAL-STEREO-Vo-Te"
INSTRUMENT_HOST_ID = MEX
INSTRUMENT_HOST_NAME = "MARS EXPRESS"
INSTRUMENT_ID = HRSC
INSTRUMENT_NAME = "HIGH RESOLUTION STEREO CAMERA"
MISSION_NAME = "MARS EXPRESS"
MISSION_PHASE_NAME = ME_Phase_38
PROCESSING_LEVEL_ID = 3
PRODUCT_CREATION_TIME = 2018-09-04T13:05:27.000Z
PRODUCT_ID = "HH886_0000_S23.JP2"
RELEASE_ID = 0140
REVISION_ID = 0000
/* QUALITY DATA ELEMENTS */
DATA_QUALITY_ID = 1
DATA_QUALITY_DESC = "Data calculated based on original SPICE kernels"
/* TIME DATA ELEMENTS */
SPACECRAFT_CLOCK_START_COUNT = "1/0466990558.48609"
SPACECRAFT_CLOCK_STOP_COUNT = "1/0466990747.48608"
START_TIME = 2018-02-17T23:37:15.078Z
STOP_TIME = 2018-02-17T23:37:28.539Z
/* ORBITAL DATA ELEMENTS */
ASCENDING_NODE_LONGITUDE = 238.34
MAXIMUM_RESOLUTION = 15.7
FOOTPRINT_POINT_LATITUDE = (42.2942,42.2934,42.2923,42.2915, 42.2901,42.2889,42.2877,42.2865,42.2852 ,42.284,42.2827,42.2814,42.28,42.2787, 42.2773,42.2759,42.2746,42.2724,42.271, 42.2695,42.2676,42.2657,42.2641,42.2625 ,42.2613,42.2601,42.3074,42.2733, 42.2394,42.2056,42.1544,42.1206,42.069, 42.0352,41.9839,41.9501,41.8991,41.8653 ,41.8141,41.7803,41.729,41.6952,41.6443 ,41.6105,41.5597,41.526,41.4749,41.4433 ,41.445,41.446,41.4481,41.4505,41.4516, 41.4536,41.4554,41.4565,41.4578,41.4593 ,41.4607,41.4622,41.4635,41.465,41.4668 ,41.4687,41.4693,41.47,41.4705,41.4715, 41.4721,41.4726,41.4732,41.4741,41.4746 ,41.4755,41.476,41.4768,41.4774,41.4779 ,41.4874,41.5386,41.5725,41.6237, 41.6575,41.7087,41.7425,41.7936,41.8275 ,41.8786,41.9125,41.9638,41.9977,42.049 ,42.0829,42.1341,42.168,42.2191,42.253, 42.3044,42.3383,42.2942)
FOOTPRINT_POINT_LONGITUDE = (263.201,263.15,263.082,263.031,262.945 ,262.877,262.809,262.741,262.673, 262.605,262.537,262.469,262.401,262.333 ,262.266,262.198,262.13,262.028,261.961 ,261.893,261.808,261.723,261.656, 261.588,261.537,261.486,261.46,261.462, 261.463,261.465,261.467,261.468,261.471 ,261.472,261.475,261.476,261.478,261.48 ,261.482,261.483,261.486,261.487, 261.489,261.491,261.493,261.494,261.496 ,261.498,261.566,261.617,261.703, 261.788,261.839,261.908,261.976,262.028 ,262.096,262.165,262.233,262.302,262.37 ,262.439,262.525,262.611,262.645,262.68 ,262.714,262.783,262.817,262.852, 262.886,262.938,262.972,263.024,263.058 ,263.11,263.144,263.179,263.239,263.238 ,263.238,263.237,263.236,263.235, 263.235,263.234,263.233,263.232,263.231 ,263.231,263.23,263.229,263.229,263.228 ,263.227,263.226,263.225,263.225, 263.224,263.201)
ORBIT_NUMBER = 17886
ORBITAL_ECCENTRICITY = 0.574
ORBITAL_INCLINATION = 86.96
ORBITAL_SEMIMAJOR_AXIS = 8811.35
PERIAPSIS_ALTITUDE = 369.22
PERIAPSIS_ARGUMENT_ANGLE = 137.57
PERIAPSIS_TIME = 2018-02-17T23:36:40.000Z
SPACECRAFT_ORIENTATION = (0.0,-1.0,0.0)
^MEX_ORIENTATION_DESC = "MEX_ORIENTATION_DESC.TXT"
SPACECRAFT_POINTING_MODE = ACROSSTRACK
^MEX_POINTING_DESC = "MEX_POINTING_DESC.TXT"
RIGHT_ASCENSION = -1e+32
DECLINATION = -1e+32
OFFSET_ANGLE = 0.1
SPACECRAFT_SOLAR_DISTANCE = 2.36985e+08
TARGET_NAME = MARS
/* CAMERA DATA ELEMENTS */
DETECTOR_TEMPERATURE = 0.0
FOCAL_PLANE_TEMPERATURE = 0.0
INST_CMPRS_NAME = "DISCRETE COSINE TRANSFORMATION (DCT)"
INST_CMPRS_RATIO = 6.51719
INST_CMPRS_QUALITY = 0
INST_CMPRS_QUANTZ_TBL_ID = 0
INSTRUMENT_TEMPERATURE = 0.0
LENS_TEMPERATURE = 0.0
MACROPIXEL_SIZE = 1
MISSING_FRAMES = 0
PIXEL_SUBSAMPLING_FLAG = N
SIGNAL_CHAIN_ID = 1
/* RADIOMETRIC DATA ELEMENTS */
BANDWIDTH = 178.0
CENTER_FILTER_WAVELENGTH = 679.0
RADIANCE_OFFSET = 2.80134
RADIANCE_SCALING_FACTOR = 0.0313493
REFLECTANCE_SCALING_FACTOR = 0.000932394
MEX:REFLECTANCE_OFFSET = 0.0833177
/* IMAGE OBJECT DEFINITIONS */
OBJECT = IMAGE
  INTERCHANGE_FORMAT = BINARY
  LINES = 14544
  LINE_SAMPLES = 6688
  SAMPLE_TYPE = UNSIGNED_INTEGER
  SAMPLE_BITS = 8
  BANDS = 1
  BAND_STORAGE_TYPE = BAND_SEQUENTIAL
  MAXIMUM = 255
  MEAN = 129.431
  MINIMUM = 1
  STANDARD_DEVIATION = 14.2337
END_OBJECT = IMAGE
/* MAP OBJECT DEFINITIONS */
OBJECT = IMAGE_MAP_PROJECTION
  ^DATA_SET_MAP_PROJECTION_CATALOG= "DSMAP.CAT"
  A_AXIS_RADIUS = 3396.0
  B_AXIS_RADIUS = 3396.0
  C_AXIS_RADIUS = 3396.0
  CENTER_LATITUDE = 0.0
  CENTER_LONGITUDE = 262.0
  COORDINATE_SYSTEM_NAME = PLANETOGRAPHIC
  COORDINATE_SYSTEM_TYPE = "BODY-FIXED ROTATING"
  EASTERNMOST_LONGITUDE = 263.239
  FIRST_STANDARD_PARALLEL = "N/A"
  LINE_FIRST_PIXEL = 1
  LINE_LAST_PIXEL = 14544
  LINE_PROJECTION_OFFSET = 200808.0
  MAP_PROJECTION_ROTATION = 0.0
  MAP_PROJECTION_TYPE = SINUSOIDAL
  MAP_RESOLUTION = 4741.71043093333
  MAP_SCALE = 0.0125
  MAXIMUM_LATITUDE = 42.3383
  MINIMUM_LATITUDE = 41.4433
  POSITIVE_LONGITUDE_DIRECTION = EAST
  REFERENCE_LATITUDE = "N/A"
  REFERENCE_LONGITUDE = "N/A"
  SAMPLE_FIRST_PIXEL = 1
  SAMPLE_LAST_PIXEL = 6688
  SAMPLE_PROJECTION_OFFSET = 1934.0
  SECOND_STANDARD_PARALLEL = "N/A"
  WESTERNMOST_LONGITUDE = 261.46
END_OBJECT = IMAGE_MAP_PROJECTION
/* The JPEG2000 image data file associated with this label. */
OBJECT = COMPRESSED_FILE
  FILE_NAME = "HH886_0000_S23.JP2"
  RECORD_TYPE = UNDEFINED
  FILE_RECORDS = UNK
  ENCODING_TYPE = "JP2"
  INTERCHANGE_FORMAT = BINARY
  UNCOMPRESSED_FILE_NAME = "HH886_0000_S23.IMG"
  REQUIRED_STORAGE_BYTES = "97303712"
  ^DESCRIPTION = "JP2INFO.TXT"
END_OBJECT = COMPRESSED_FILE
END
