PDS_VERSION_ID = PDS3
/* FILE DATA ELEMENTS */
RECORD_TYPE = STREAM
/* POINTERS TO DATA OBJECTS */
^COMPRESSED_FILE = "HH889_0000_P23.JP2"
/* IDENTIFICATION DATA ELEMENTS */
DATA_SET_ID = "MEX-M-HRSC-5-REFDR-MAPPROJECTED-V3.0"
DATA_SET_NAME = "MARS EXPRESS HRSC MAP PROJECTED REFDR V3.0"
DETECTOR_ID = MEX_HRSC_P2
EVENT_TYPE = "MARS-REGIONAL-MAPPING-Vo-Pf-La"
INSTRUMENT_HOST_ID = MEX
INSTRUMENT_HOST_NAME = "MARS EXPRESS"
INSTRUMENT_ID = HRSC
INSTRUMENT_NAME = "HIGH RESOLUTION STEREO CAMERA"
MISSION_NAME = "MARS EXPRESS"
MISSION_PHASE_NAME = ME_Phase_38
PROCESSING_LEVEL_ID = 3
PRODUCT_CREATION_TIME = 2018-09-04T13:05:27.000Z
PRODUCT_ID = "HH889_0000_P23.JP2"
RELEASE_ID = 0140
REVISION_ID = 0000
/* QUALITY DATA ELEMENTS */
DATA_QUALITY_ID = 1
DATA_QUALITY_DESC = "Data calculated based on original SPICE kernels"
/* TIME DATA ELEMENTS */
SPACECRAFT_CLOCK_START_COUNT = "1/0467065956.08272"
SPACECRAFT_CLOCK_STOP_COUNT = "1/0467066132.33314"
START_TIME = 2018-02-18T20:33:41.170Z
STOP_TIME = 2018-02-18T20:35:27.888Z
/* ORBITAL DATA ELEMENTS */
ASCENDING_NODE_LONGITUDE = 238.28
MAXIMUM_RESOLUTION = 30.9
FOOTPRINT_POINT_LATITUDE = (43.6822,43.6754,43.6675,43.6612, 43.6566,43.6427,43.5175,43.3921,43.267, 43.0795,42.9546,42.7671,42.6421,42.5172 ,42.3921,42.2672,42.1423,42.0175, 41.8304,41.6431,41.5184,41.3316,41.2069 ,41.02,40.8326,40.708,40.5214,40.3733, 40.151,40.0027,39.8546,39.6324,39.4843, 39.3363,39.1883,39.0406,38.8927,38.7449 ,38.5972,38.4497,38.3021,38.1546, 38.0071,37.8598,37.7125,37.5652,37.4179 ,37.2709,37.0503,36.889,36.8928,36.8969 ,36.9007,36.9044,36.9081,36.9115, 37.0586,37.2796,37.4269,37.6481,37.7957 ,38.0175,38.1654,38.3132,38.461,38.6089 ,38.831,38.9791,39.127,39.2752,39.4236, 39.5722,39.7205,39.869,40.0174,40.1661, 40.3146,40.4633,40.7276,40.9146,41.0394 ,41.2267,41.4139,41.539,41.6639,41.789, 41.914,42.039,42.164,42.2892,42.4143, 42.5397,42.7275,42.8527,42.9781,43.1661 ,43.2914,43.4169,43.6051,43.6822)
FOOTPRINT_POINT_LONGITUDE = (316.594,316.237,315.864,315.594, 315.408,315.124,315.13,315.136,315.142, 315.151,315.157,315.165,315.171,315.176 ,315.182,315.187,315.193,315.198, 315.206,315.213,315.218,315.226,315.231 ,315.238,315.245,315.249,315.256, 315.261,315.269,315.274,315.278,315.286 ,315.29,315.295,315.299,315.304,315.308 ,315.312,315.316,315.32,315.324,315.328 ,315.332,315.335,315.339,315.343, 315.346,315.349,315.354,315.504,315.732 ,315.976,316.237,316.498,316.793, 317.046,317.044,317.041,317.04,317.037, 317.035,317.032,317.031,317.029,317.027 ,317.025,317.022,317.02,317.018,317.016 ,317.014,317.012,317.01,317.008,317.005 ,317.003,317.001,316.999,316.995, 316.992,316.99,316.987,316.984,316.982, 316.98,316.978,316.976,316.974,316.972, 316.97,316.968,316.966,316.962,316.96, 316.958,316.955,316.952,316.95,316.947, 316.594)
ORBIT_NUMBER = 17889
ORBITAL_ECCENTRICITY = 0.573
ORBITAL_INCLINATION = 86.98
ORBITAL_SEMIMAJOR_AXIS = 8800.15
PERIAPSIS_ALTITUDE = 369.97
PERIAPSIS_ARGUMENT_ANGLE = 137.08
PERIAPSIS_TIME = 2018-02-18T20:33:30.000Z
SPACECRAFT_ORIENTATION = (0.0,-1.0,0.0)
^MEX_ORIENTATION_DESC = "MEX_ORIENTATION_DESC.TXT"
SPACECRAFT_POINTING_MODE = ACROSSTRACK
^MEX_POINTING_DESC = "MEX_POINTING_DESC.TXT"
RIGHT_ASCENSION = -1e+32
DECLINATION = -1e+32
OFFSET_ANGLE = 0.15
SPACECRAFT_SOLAR_DISTANCE = 2.36837e+08
TARGET_NAME = MARS
/* CAMERA DATA ELEMENTS */
DETECTOR_TEMPERATURE = 18.5744
FOCAL_PLANE_TEMPERATURE = 8.1755
INST_CMPRS_NAME = "DISCRETE COSINE TRANSFORMATION (DCT)"
INST_CMPRS_RATIO = 5.84787
INST_CMPRS_QUALITY = 0
INST_CMPRS_QUANTZ_TBL_ID = 0
INSTRUMENT_TEMPERATURE = 11.234
LENS_TEMPERATURE = 8.7872
MACROPIXEL_SIZE = 2
MISSING_FRAMES = 0
PIXEL_SUBSAMPLING_FLAG = N
SIGNAL_CHAIN_ID = 3
/* RADIOMETRIC DATA ELEMENTS */
BANDWIDTH = 177.0
CENTER_FILTER_WAVELENGTH = 676.5
RADIANCE_OFFSET = 1.71297
RADIANCE_SCALING_FACTOR = 0.0218319
REFLECTANCE_SCALING_FACTOR = 0.000649304
MEX:REFLECTANCE_OFFSET = 0.0509454
/* IMAGE OBJECT DEFINITIONS */
OBJECT = IMAGE
  INTERCHANGE_FORMAT = BINARY
  LINES = 16234
  LINE_SAMPLES = 3534
  SAMPLE_TYPE = UNSIGNED_INTEGER
  SAMPLE_BITS = 8
  BANDS = 1
  BAND_STORAGE_TYPE = BAND_SEQUENTIAL
  MAXIMUM = 255
  MEAN = 101.18
  MINIMUM = 1
  STANDARD_DEVIATION = 22.3139
END_OBJECT = IMAGE
/* MAP OBJECT DEFINITIONS */
OBJECT = IMAGE_MAP_PROJECTION
  ^DATA_SET_MAP_PROJECTION_CATALOG= "DSMAP.CAT"
  A_AXIS_RADIUS = 3396.0
  B_AXIS_RADIUS = 3396.0
  C_AXIS_RADIUS = 3396.0
  CENTER_LATITUDE = 0.0
  CENTER_LONGITUDE = 316.0
  COORDINATE_SYSTEM_NAME = PLANETOGRAPHIC
  COORDINATE_SYSTEM_TYPE = "BODY-FIXED ROTATING"
  EASTERNMOST_LONGITUDE = 317.046
  FIRST_STANDARD_PARALLEL = "N/A"
  LINE_FIRST_PIXEL = 1
  LINE_LAST_PIXEL = 16234
  LINE_PROJECTION_OFFSET = 103667.75
  MAP_PROJECTION_ROTATION = 0.0
  MAP_PROJECTION_TYPE = SINUSOIDAL
  MAP_RESOLUTION = 2370.85521546667
  MAP_SCALE = 0.025
  MAXIMUM_LATITUDE = 43.6822
  MINIMUM_LATITUDE = 36.889
  POSITIVE_LONGITUDE_DIRECTION = EAST
  REFERENCE_LATITUDE = "N/A"
  REFERENCE_LONGITUDE = "N/A"
  SAMPLE_FIRST_PIXEL = 1
  SAMPLE_LAST_PIXEL = 3534
  SAMPLE_PROJECTION_OFFSET = 1522.75
  SECOND_STANDARD_PARALLEL = "N/A"
  WESTERNMOST_LONGITUDE = 315.124
END_OBJECT = IMAGE_MAP_PROJECTION
/* The JPEG2000 image data file associated with this label. */
OBJECT = COMPRESSED_FILE
  FILE_NAME = "HH889_0000_P23.JP2"
  RECORD_TYPE = UNDEFINED
  FILE_RECORDS = UNK
  ENCODING_TYPE = "JP2"
  INTERCHANGE_FORMAT = BINARY
  UNCOMPRESSED_FILE_NAME = "HH889_0000_P23.IMG"
  REQUIRED_STORAGE_BYTES = "57392160"
  ^DESCRIPTION = "JP2INFO.TXT"
END_OBJECT = COMPRESSED_FILE
END
