PDS_VERSION_ID = PDS3
/* FILE DATA ELEMENTS */
RECORD_TYPE = STREAM
/* POINTERS TO DATA OBJECTS */
^COMPRESSED_FILE = "HH891_0000_IR3.JP2"
/* IDENTIFICATION DATA ELEMENTS */
DATA_SET_ID = "MEX-M-HRSC-5-REFDR-MAPPROJECTED-V3.0"
DATA_SET_NAME = "MARS EXPRESS HRSC MAP PROJECTED REFDR V3.0"
DETECTOR_ID = MEX_HRSC_IR
EVENT_TYPE = "MARS-REGIONAL-MAPPING-Im-Pf"
INSTRUMENT_HOST_ID = MEX
INSTRUMENT_HOST_NAME = "MARS EXPRESS"
INSTRUMENT_ID = HRSC
INSTRUMENT_NAME = "HIGH RESOLUTION STEREO CAMERA"
MISSION_NAME = "MARS EXPRESS"
MISSION_PHASE_NAME = ME_Phase_38
PROCESSING_LEVEL_ID = 3
PRODUCT_CREATION_TIME = 2018-09-04T13:05:27.000Z
PRODUCT_ID = "HH891_0000_IR3.JP2"
RELEASE_ID = 0140
REVISION_ID = 0000
/* QUALITY DATA ELEMENTS */
DATA_QUALITY_ID = 1
DATA_QUALITY_DESC = "Data calculated based on original SPICE kernels"
/* TIME DATA ELEMENTS */
SPACECRAFT_CLOCK_START_COUNT = "1/0467116128.08264"
SPACECRAFT_CLOCK_STOP_COUNT = "1/0467116418.08238"
START_TIME = 2018-02-19T10:29:03.678Z
STOP_TIME = 2018-02-19T10:32:42.283Z
/* ORBITAL DATA ELEMENTS */
ASCENDING_NODE_LONGITUDE = 238.24
MAXIMUM_RESOLUTION = 62.3
FOOTPRINT_POINT_LATITUDE = (50.5969,50.5859,50.5644,50.4595,50.164 ,49.8682,49.5721,49.2756,48.9786, 48.6814,48.3838,48.0858,47.7873,47.4887 ,47.1897,46.8903,46.5907,46.2905, 45.9903,45.6897,45.3888,45.0879,44.7862 ,44.4844,44.1826,43.7299,43.2224, 42.7145,42.4602,42.2058,41.9516,41.6966 ,41.4418,41.1867,40.9315,40.6761, 40.4207,40.1651,39.7814,39.5256,39.2696 ,39.0138,38.7576,38.5013,38.2449, 37.9884,37.7318,37.4752,37.2171,36.9107 ,36.5211,36.529,36.5368,36.6937,37.0008 ,37.4273,37.6844,37.9416,38.3269, 38.5837,38.8405,39.2256,39.6106,39.867, 40.1232,40.5074,40.7634,41.0192,41.275, 41.6585,41.914,42.1692,42.552,42.807, 43.1887,43.4432,43.6975,43.9859,44.289, 44.5918,44.8944,45.1967,45.4988,45.8007 ,46.1021,46.4033,46.7041,47.0048, 47.3053,47.6052,48.0545,48.3539,48.6527 ,48.9512,49.2493,49.5471,49.8445, 50.1417,50.4385,50.5969)
FOOTPRINT_POINT_LONGITUDE = (111.96,111.495,110.778,110.135,110.165 ,110.194,110.222,110.25,110.277,110.304 ,110.33,110.355,110.38,110.404,110.428, 110.451,110.473,110.495,110.516,110.537 ,110.557,110.577,110.596,110.615, 110.633,110.66,110.688,110.715,110.728, 110.74,110.753,110.765,110.777,110.788, 110.799,110.81,110.821,110.831,110.846, 110.856,110.865,110.875,110.883,110.892 ,110.9,110.908,110.916,110.924,110.931, 110.94,111.179,111.607,112.234,112.589, 112.586,112.58,112.577,112.574,112.569, 112.565,112.561,112.556,112.55,112.546, 112.542,112.536,112.532,112.528,112.524 ,112.517,112.512,112.508,112.501, 112.496,112.489,112.484,112.479,112.473 ,112.467,112.46,112.454,112.447,112.44, 112.433,112.426,112.419,112.411,112.404 ,112.396,112.388,112.376,112.368, 112.359,112.35,112.342,112.333,112.324, 112.314,112.304,111.96)
ORBIT_NUMBER = 17891
ORBITAL_ECCENTRICITY = 0.574
ORBITAL_INCLINATION = 86.96
ORBITAL_SEMIMAJOR_AXIS = 8808.62
PERIAPSIS_ALTITUDE = 369.56
PERIAPSIS_ARGUMENT_ANGLE = 136.71
PERIAPSIS_TIME = 2018-02-19T10:31:24.000Z
SPACECRAFT_ORIENTATION = (0.0,-1.0,0.0)
^MEX_ORIENTATION_DESC = "MEX_ORIENTATION_DESC.TXT"
SPACECRAFT_POINTING_MODE = NADIR
^MEX_POINTING_DESC = "MEX_POINTING_DESC.TXT"
RIGHT_ASCENSION = -1e+32
DECLINATION = -1e+32
OFFSET_ANGLE = -1e+32
SPACECRAFT_SOLAR_DISTANCE = 2.36738e+08
TARGET_NAME = MARS
/* CAMERA DATA ELEMENTS */
DETECTOR_TEMPERATURE = 17.351
FOCAL_PLANE_TEMPERATURE = 8.5833
INST_CMPRS_NAME = "DISCRETE COSINE TRANSFORMATION (DCT)"
INST_CMPRS_RATIO = 9.81482
INST_CMPRS_QUALITY = 0
INST_CMPRS_QUANTZ_TBL_ID = 0
INSTRUMENT_TEMPERATURE = 11.8457
LENS_TEMPERATURE = 9.195
MACROPIXEL_SIZE = 4
MISSING_FRAMES = 0
PIXEL_SUBSAMPLING_FLAG = N
SIGNAL_CHAIN_ID = 2
/* RADIOMETRIC DATA ELEMENTS */
BANDWIDTH = 81.0
CENTER_FILTER_WAVELENGTH = 955.5
RADIANCE_OFFSET = 0.743005
RADIANCE_SCALING_FACTOR = 0.00541957
REFLECTANCE_SCALING_FACTOR = 0.000655285
MEX:REFLECTANCE_OFFSET = 0.0898375
/* IMAGE OBJECT DEFINITIONS */
OBJECT = IMAGE
  INTERCHANGE_FORMAT = BINARY
  LINES = 16586
  LINE_SAMPLES = 1981
  SAMPLE_TYPE = UNSIGNED_INTEGER
  SAMPLE_BITS = 8
  BANDS = 1
  BAND_STORAGE_TYPE = BAND_SEQUENTIAL
  MAXIMUM = 255
  MEAN = 121.177
  MINIMUM = 1
  STANDARD_DEVIATION = 54.8917
END_OBJECT = IMAGE
/* MAP OBJECT DEFINITIONS */
OBJECT = IMAGE_MAP_PROJECTION
  ^DATA_SET_MAP_PROJECTION_CATALOG= "DSMAP.CAT"
  A_AXIS_RADIUS = 3396.0
  B_AXIS_RADIUS = 3396.0
  C_AXIS_RADIUS = 3396.0
  CENTER_LATITUDE = 0.0
  CENTER_LONGITUDE = 112.0
  COORDINATE_SYSTEM_NAME = PLANETOGRAPHIC
  COORDINATE_SYSTEM_TYPE = "BODY-FIXED ROTATING"
  EASTERNMOST_LONGITUDE = 112.589
  FIRST_STANDARD_PARALLEL = "N/A"
  LINE_FIRST_PIXEL = 1
  LINE_LAST_PIXEL = 16586
  LINE_PROJECTION_OFFSET = 59903.125
  MAP_PROJECTION_ROTATION = 0.0
  MAP_PROJECTION_TYPE = SINUSOIDAL
  MAP_RESOLUTION = 1185.42760773333
  MAP_SCALE = 0.05
  MAXIMUM_LATITUDE = 50.5969
  MINIMUM_LATITUDE = 36.5211
  POSITIVE_LONGITUDE_DIRECTION = EAST
  REFERENCE_LATITUDE = "N/A"
  REFERENCE_LONGITUDE = "N/A"
  SAMPLE_FIRST_PIXEL = 1
  SAMPLE_LAST_PIXEL = 1981
  SAMPLE_PROJECTION_OFFSET = 1399.625
  SECOND_STANDARD_PARALLEL = "N/A"
  WESTERNMOST_LONGITUDE = 110.135
END_OBJECT = IMAGE_MAP_PROJECTION
/* The JPEG2000 image data file associated with this label. */
OBJECT = COMPRESSED_FILE
  FILE_NAME = "HH891_0000_IR3.JP2"
  RECORD_TYPE = UNDEFINED
  FILE_RECORDS = UNK
  ENCODING_TYPE = "JP2"
  INTERCHANGE_FORMAT = BINARY
  UNCOMPRESSED_FILE_NAME = "HH891_0000_IR3.IMG"
  REQUIRED_STORAGE_BYTES = "32876676"
  ^DESCRIPTION = "JP2INFO.TXT"
END_OBJECT = COMPRESSED_FILE
END
