PDS_VERSION_ID = PDS3
/* FILE DATA ELEMENTS */
RECORD_TYPE = STREAM
/* POINTERS TO DATA OBJECTS */
^COMPRESSED_FILE = "HH891_0000_RE3.JP2"
/* IDENTIFICATION DATA ELEMENTS */
DATA_SET_ID = "MEX-M-HRSC-5-REFDR-MAPPROJECTED-V3.0"
DATA_SET_NAME = "MARS EXPRESS HRSC MAP PROJECTED REFDR V3.0"
DETECTOR_ID = MEX_HRSC_RED
EVENT_TYPE = "MARS-REGIONAL-MAPPING-Im-Pf"
INSTRUMENT_HOST_ID = MEX
INSTRUMENT_HOST_NAME = "MARS EXPRESS"
INSTRUMENT_ID = HRSC
INSTRUMENT_NAME = "HIGH RESOLUTION STEREO CAMERA"
MISSION_NAME = "MARS EXPRESS"
MISSION_PHASE_NAME = ME_Phase_38
PROCESSING_LEVEL_ID = 3
PRODUCT_CREATION_TIME = 2018-09-04T13:05:27.000Z
PRODUCT_ID = "HH891_0000_RE3.JP2"
RELEASE_ID = 0140
REVISION_ID = 0000
/* QUALITY DATA ELEMENTS */
DATA_QUALITY_ID = 1
DATA_QUALITY_DESC = "Data calculated based on original SPICE kernels"
/* TIME DATA ELEMENTS */
SPACECRAFT_CLOCK_START_COUNT = "1/0467116128.08264"
SPACECRAFT_CLOCK_STOP_COUNT = "1/0467116418.08238"
START_TIME = 2018-02-19T10:30:02.028Z
STOP_TIME = 2018-02-19T10:33:39.243Z
/* ORBITAL DATA ELEMENTS */
ASCENDING_NODE_LONGITUDE = 238.24
MAXIMUM_RESOLUTION = 62.6
FOOTPRINT_POINT_LATITUDE = (50.453,50.4444,50.4326,50.4171,50.1819 ,49.8749,49.4142,48.9537,48.6469, 48.3401,48.0335,47.7271,47.2845,47.0278 ,46.7713,46.5149,46.1307,45.8744, 45.6184,45.3624,45.1065,44.8508,44.5954 ,44.3399,44.0845,43.8296,43.5747, 43.3198,43.0652,42.8106,42.5562,42.3019 ,42.0478,41.6669,41.4131,41.1598, 40.9065,40.612,40.3102,40.0087,39.7077, 39.4067,39.1061,38.6555,38.3557,38.0561 ,37.757,37.458,37.1595,36.8612,36.5654, 36.5717,36.5761,36.5788,36.5833,36.8819 ,37.1807,37.4799,37.7792,38.0794, 38.3796,38.6802,38.9809,39.282,39.5833, 40.0361,40.3382,40.6408,40.9357,41.1896 ,41.4434,41.6976,42.0793,42.3339, 42.5886,42.9715,43.2268,43.61,43.8656, 44.1213,44.5054,44.7615,45.018,45.4026, 45.6591,46.0444,46.4299,46.687,46.9443, 47.2015,47.4674,47.9285,48.236,48.5435, 48.8515,49.1595,49.6216,49.9298,50.238, 50.453)
FOOTPRINT_POINT_LONGITUDE = (111.867,111.492,111.022,110.478, 110.187,110.216,110.257,110.298,110.324 ,110.349,110.373,110.397,110.431,110.45 ,110.468,110.486,110.512,110.529, 110.546,110.562,110.578,110.593,110.608 ,110.622,110.637,110.651,110.664, 110.677,110.69,110.703,110.715,110.727, 110.739,110.756,110.766,110.777,110.787 ,110.799,110.81,110.821,110.832,110.842 ,110.852,110.866,110.875,110.884, 110.892,110.9,110.907,110.915,110.921, 111.41,111.835,112.166,112.613,112.608, 112.604,112.599,112.594,112.589,112.584 ,112.579,112.574,112.568,112.563, 112.554,112.548,112.543,112.537,112.532 ,112.526,112.521,112.513,112.507, 112.502,112.493,112.487,112.478,112.472 ,112.466,112.456,112.45,112.443,112.433 ,112.426,112.415,112.404,112.397, 112.389,112.382,112.374,112.359,112.349 ,112.339,112.329,112.318,112.302, 112.291,112.279,111.867)
ORBIT_NUMBER = 17891
ORBITAL_ECCENTRICITY = 0.574
ORBITAL_INCLINATION = 86.96
ORBITAL_SEMIMAJOR_AXIS = 8808.62
PERIAPSIS_ALTITUDE = 369.56
PERIAPSIS_ARGUMENT_ANGLE = 136.71
PERIAPSIS_TIME = 2018-02-19T10:31:24.000Z
SPACECRAFT_ORIENTATION = (0.0,-1.0,0.0)
^MEX_ORIENTATION_DESC = "MEX_ORIENTATION_DESC.TXT"
SPACECRAFT_POINTING_MODE = NADIR
^MEX_POINTING_DESC = "MEX_POINTING_DESC.TXT"
RIGHT_ASCENSION = -1e+32
DECLINATION = -1e+32
OFFSET_ANGLE = -1e+32
SPACECRAFT_SOLAR_DISTANCE = 2.36738e+08
TARGET_NAME = MARS
/* CAMERA DATA ELEMENTS */
DETECTOR_TEMPERATURE = 18.9822
FOCAL_PLANE_TEMPERATURE = 8.5833
INST_CMPRS_NAME = "DISCRETE COSINE TRANSFORMATION (DCT)"
INST_CMPRS_RATIO = 12.1067
INST_CMPRS_QUALITY = 0
INST_CMPRS_QUANTZ_TBL_ID = 0
INSTRUMENT_TEMPERATURE = 11.8457
LENS_TEMPERATURE = 9.195
MACROPIXEL_SIZE = 4
MISSING_FRAMES = 0
PIXEL_SUBSAMPLING_FLAG = N
SIGNAL_CHAIN_ID = 2
/* RADIOMETRIC DATA ELEMENTS */
BANDWIDTH = 48.0
CENTER_FILTER_WAVELENGTH = 748.0
RADIANCE_OFFSET = 0.940296
RADIANCE_SCALING_FACTOR = 0.00534042
REFLECTANCE_SCALING_FACTOR = 0.000683029
MEX:REFLECTANCE_OFFSET = 0.120262
/* IMAGE OBJECT DEFINITIONS */
OBJECT = IMAGE
  INTERCHANGE_FORMAT = BINARY
  LINES = 16586
  LINE_SAMPLES = 1981
  SAMPLE_TYPE = UNSIGNED_INTEGER
  SAMPLE_BITS = 8
  BANDS = 1
  BAND_STORAGE_TYPE = BAND_SEQUENTIAL
  MAXIMUM = 255
  MEAN = 118.717
  MINIMUM = 1
  STANDARD_DEVIATION = 52.26
END_OBJECT = IMAGE
/* MAP OBJECT DEFINITIONS */
OBJECT = IMAGE_MAP_PROJECTION
  ^DATA_SET_MAP_PROJECTION_CATALOG= "DSMAP.CAT"
  A_AXIS_RADIUS = 3396.0
  B_AXIS_RADIUS = 3396.0
  C_AXIS_RADIUS = 3396.0
  CENTER_LATITUDE = 0.0
  CENTER_LONGITUDE = 112.0
  COORDINATE_SYSTEM_NAME = PLANETOGRAPHIC
  COORDINATE_SYSTEM_TYPE = "BODY-FIXED ROTATING"
  EASTERNMOST_LONGITUDE = 112.613
  FIRST_STANDARD_PARALLEL = "N/A"
  LINE_FIRST_PIXEL = 1
  LINE_LAST_PIXEL = 16586
  LINE_PROJECTION_OFFSET = 59903.125
  MAP_PROJECTION_ROTATION = 0.0
  MAP_PROJECTION_TYPE = SINUSOIDAL
  MAP_RESOLUTION = 1185.42760773333
  MAP_SCALE = 0.05
  MAXIMUM_LATITUDE = 50.453
  MINIMUM_LATITUDE = 36.5654
  POSITIVE_LONGITUDE_DIRECTION = EAST
  REFERENCE_LATITUDE = "N/A"
  REFERENCE_LONGITUDE = "N/A"
  SAMPLE_FIRST_PIXEL = 1
  SAMPLE_LAST_PIXEL = 1981
  SAMPLE_PROJECTION_OFFSET = 1399.625
  SECOND_STANDARD_PARALLEL = "N/A"
  WESTERNMOST_LONGITUDE = 110.187
END_OBJECT = IMAGE_MAP_PROJECTION
/* The JPEG2000 image data file associated with this label. */
OBJECT = COMPRESSED_FILE
  FILE_NAME = "HH891_0000_RE3.JP2"
  RECORD_TYPE = UNDEFINED
  FILE_RECORDS = UNK
  ENCODING_TYPE = "JP2"
  INTERCHANGE_FORMAT = BINARY
  UNCOMPRESSED_FILE_NAME = "HH891_0000_RE3.IMG"
  REQUIRED_STORAGE_BYTES = "32876676"
  ^DESCRIPTION = "JP2INFO.TXT"
END_OBJECT = COMPRESSED_FILE
END
