PDS_VERSION_ID = PDS3
/* FILE DATA ELEMENTS */
RECORD_TYPE = STREAM
/* POINTERS TO DATA OBJECTS */
^COMPRESSED_FILE = "HH893_0000_P23.JP2"
/* IDENTIFICATION DATA ELEMENTS */
DATA_SET_ID = "MEX-M-HRSC-5-REFDR-MAPPROJECTED-V3.0"
DATA_SET_NAME = "MARS EXPRESS HRSC MAP PROJECTED REFDR V3.0"
DETECTOR_ID = MEX_HRSC_P2
EVENT_TYPE = "MARS-REGIONAL-MAPPING-Vo-Te"
INSTRUMENT_HOST_ID = MEX
INSTRUMENT_HOST_NAME = "MARS EXPRESS"
INSTRUMENT_ID = HRSC
INSTRUMENT_NAME = "HIGH RESOLUTION STEREO CAMERA"
MISSION_NAME = "MARS EXPRESS"
MISSION_PHASE_NAME = ME_Phase_38
PROCESSING_LEVEL_ID = 3
PRODUCT_CREATION_TIME = 2018-09-04T13:05:27.000Z
PRODUCT_ID = "HH893_0000_P23.JP2"
RELEASE_ID = 0140
REVISION_ID = 0000
/* QUALITY DATA ELEMENTS */
DATA_QUALITY_ID = 1
DATA_QUALITY_DESC = "Data calculated based on original SPICE kernels"
/* TIME DATA ELEMENTS */
SPACECRAFT_CLOCK_START_COUNT = "1/0467166525.07335"
SPACECRAFT_CLOCK_STOP_COUNT = "1/0467166698.39391"
START_TIME = 2018-02-20T00:29:49.911Z
STOP_TIME = 2018-02-20T00:31:33.723Z
/* ORBITAL DATA ELEMENTS */
ASCENDING_NODE_LONGITUDE = 238.21
MAXIMUM_RESOLUTION = 60.9
FOOTPRINT_POINT_LATITUDE = (43.4938,43.4899,43.4862,43.4818, 43.4765,43.471,43.4365,43.3173,43.139, 43.0199,42.8412,42.722,42.6032,42.425, 42.2468,42.0687,41.9499,41.8313,41.6535 ,41.5348,41.4163,41.1201,40.9094, 40.7681,40.627,40.4861,40.2745,40.0631, 39.9221,39.781,39.6402,39.4994,39.3586, 39.218,39.007,38.8666,38.726,38.5855, 38.3751,38.2348,38.0947,37.9544,37.8143 ,37.6043,37.3944,37.1847,37.0449, 36.8764,36.8809,36.8834,36.8877,36.8903 ,36.8925,36.9651,37.105,37.2449,37.3849 ,37.5252,37.7355,37.8759,38.0161, 38.1564,38.2971,38.4379,38.5782,38.717, 38.8542,38.996,39.141,39.2828,39.4238, 39.5651,39.7063,39.918,40.0593,40.2004, 40.3416,40.4832,40.6248,40.7661,40.9075 ,41.0484,41.2423,41.4204,41.5986, 41.7177,41.8363,42.0146,42.1335,42.2525 ,42.3714,42.4911,42.6102,42.7292, 42.8484,43.0273,43.1466,43.2667,43.4456 ,43.4938)
FOOTPRINT_POINT_LONGITUDE = (268.051,267.792,267.565,267.321, 267.046,266.787,266.422,266.429,266.438 ,266.444,266.453,266.459,266.465, 266.473,266.481,266.49,266.495,266.5, 266.508,266.513,266.518,266.531,266.539 ,266.545,266.55,266.556,266.564,266.571 ,266.576,266.581,266.586,266.591, 266.596,266.601,266.608,266.612,266.616 ,266.621,266.627,266.631,266.635, 266.639,266.643,266.649,266.654,266.66, 266.663,266.744,267.054,267.24,267.596, 267.859,268.076,268.329,268.326,268.324 ,268.322,268.32,268.316,268.314,268.311 ,268.309,268.307,268.304,268.302, 268.298,268.294,268.292,268.292,268.29, 268.287,268.285,268.282,268.278,268.275 ,268.273,268.27,268.267,268.264,268.261 ,268.259,268.255,268.252,268.248, 268.244,268.242,268.239,268.235,268.233 ,268.23,268.228,268.225,268.223,268.22, 268.217,268.213,268.21,268.208,268.204, 268.051)
ORBIT_NUMBER = 17893
ORBITAL_ECCENTRICITY = 0.574
ORBITAL_INCLINATION = 86.96
ORBITAL_SEMIMAJOR_AXIS = 8808.41
PERIAPSIS_ALTITUDE = 369.93
PERIAPSIS_ARGUMENT_ANGLE = 136.37
PERIAPSIS_TIME = 2018-02-20T00:29:24.000Z
SPACECRAFT_ORIENTATION = (0.0,-1.0,0.0)
^MEX_ORIENTATION_DESC = "MEX_ORIENTATION_DESC.TXT"
SPACECRAFT_POINTING_MODE = NADIR
^MEX_POINTING_DESC = "MEX_POINTING_DESC.TXT"
RIGHT_ASCENSION = -1e+32
DECLINATION = -1e+32
OFFSET_ANGLE = -1e+32
SPACECRAFT_SOLAR_DISTANCE = 2.36638e+08
TARGET_NAME = MARS
/* CAMERA DATA ELEMENTS */
DETECTOR_TEMPERATURE = 18.9822
FOCAL_PLANE_TEMPERATURE = 8.5833
INST_CMPRS_NAME = "DISCRETE COSINE TRANSFORMATION (DCT)"
INST_CMPRS_RATIO = 5.5466
INST_CMPRS_QUALITY = 0
INST_CMPRS_QUANTZ_TBL_ID = 0
INSTRUMENT_TEMPERATURE = 11.6418
LENS_TEMPERATURE = 8.7872
MACROPIXEL_SIZE = 4
MISSING_FRAMES = 0
PIXEL_SUBSAMPLING_FLAG = N
SIGNAL_CHAIN_ID = 3
/* RADIOMETRIC DATA ELEMENTS */
BANDWIDTH = 177.0
CENTER_FILTER_WAVELENGTH = 676.5
RADIANCE_OFFSET = 2.54219
RADIANCE_SCALING_FACTOR = 0.0308487
REFLECTANCE_SCALING_FACTOR = 0.00091593
MEX:REFLECTANCE_OFFSET = 0.0754805
/* IMAGE OBJECT DEFINITIONS */
OBJECT = IMAGE
  INTERCHANGE_FORMAT = BINARY
  LINES = 7889
  LINE_SAMPLES = 1817
  SAMPLE_TYPE = UNSIGNED_INTEGER
  SAMPLE_BITS = 8
  BANDS = 1
  BAND_STORAGE_TYPE = BAND_SEQUENTIAL
  MAXIMUM = 255
  MEAN = 126.664
  MINIMUM = 1
  STANDARD_DEVIATION = 13.8883
END_OBJECT = IMAGE
/* MAP OBJECT DEFINITIONS */
OBJECT = IMAGE_MAP_PROJECTION
  ^DATA_SET_MAP_PROJECTION_CATALOG= "DSMAP.CAT"
  A_AXIS_RADIUS = 3396.0
  B_AXIS_RADIUS = 3396.0
  C_AXIS_RADIUS = 3396.0
  CENTER_LATITUDE = 0.0
  CENTER_LONGITUDE = 267.0
  COORDINATE_SYSTEM_NAME = PLANETOGRAPHIC
  COORDINATE_SYSTEM_TYPE = "BODY-FIXED ROTATING"
  EASTERNMOST_LONGITUDE = 268.329
  FIRST_STANDARD_PARALLEL = "N/A"
  LINE_FIRST_PIXEL = 1
  LINE_LAST_PIXEL = 7889
  LINE_PROJECTION_OFFSET = 51602.375
  MAP_PROJECTION_ROTATION = 0.0
  MAP_PROJECTION_TYPE = SINUSOIDAL
  MAP_RESOLUTION = 1185.42760773333
  MAP_SCALE = 0.05
  MAXIMUM_LATITUDE = 43.4938
  MINIMUM_LATITUDE = 36.8764
  POSITIVE_LONGITUDE_DIRECTION = EAST
  REFERENCE_LATITUDE = "N/A"
  REFERENCE_LONGITUDE = "N/A"
  SAMPLE_FIRST_PIXEL = 1
  SAMPLE_LAST_PIXEL = 1817
  SAMPLE_PROJECTION_OFFSET = 532.375
  SECOND_STANDARD_PARALLEL = "N/A"
  WESTERNMOST_LONGITUDE = 266.422
END_OBJECT = IMAGE_MAP_PROJECTION
/* The JPEG2000 image data file associated with this label. */
OBJECT = COMPRESSED_FILE
  FILE_NAME = "HH893_0000_P23.JP2"
  RECORD_TYPE = UNDEFINED
  FILE_RECORDS = UNK
  ENCODING_TYPE = "JP2"
  INTERCHANGE_FORMAT = BINARY
  UNCOMPRESSED_FILE_NAME = "HH893_0000_P23.IMG"
  REQUIRED_STORAGE_BYTES = "14354300"
  ^DESCRIPTION = "JP2INFO.TXT"
END_OBJECT = COMPRESSED_FILE
END
