PDS_VERSION_ID = PDS3
/* FILE DATA ELEMENTS */
RECORD_TYPE = STREAM
/* POINTERS TO DATA OBJECTS */
^COMPRESSED_FILE = "HH897_0000_IR3.JP2"
/* IDENTIFICATION DATA ELEMENTS */
DATA_SET_ID = "MEX-M-HRSC-5-REFDR-MAPPROJECTED-V3.0"
DATA_SET_NAME = "MARS EXPRESS HRSC MAP PROJECTED REFDR V3.0"
DETECTOR_ID = MEX_HRSC_IR
EVENT_TYPE = "MARS-REGIONAL-MAPPING-Vo-Im-Pf"
INSTRUMENT_HOST_ID = MEX
INSTRUMENT_HOST_NAME = "MARS EXPRESS"
INSTRUMENT_ID = HRSC
INSTRUMENT_NAME = "HIGH RESOLUTION STEREO CAMERA"
MISSION_NAME = "MARS EXPRESS"
MISSION_PHASE_NAME = ME_Phase_38
PROCESSING_LEVEL_ID = 3
PRODUCT_CREATION_TIME = 2018-09-04T13:05:27.000Z
PRODUCT_ID = "HH897_0000_IR3.JP2"
RELEASE_ID = 0140
REVISION_ID = 0000
/* QUALITY DATA ELEMENTS */
DATA_QUALITY_ID = 1
DATA_QUALITY_DESC = "Data calculated based on original SPICE kernels"
/* TIME DATA ELEMENTS */
SPACECRAFT_CLOCK_START_COUNT = "1/0467266953.47385"
SPACECRAFT_CLOCK_STOP_COUNT = "1/0467267191.01509"
START_TIME = 2018-02-21T04:22:49.094Z
STOP_TIME = 2018-02-21T04:25:25.545Z
/* ORBITAL DATA ELEMENTS */
ASCENDING_NODE_LONGITUDE = 238.13
MAXIMUM_RESOLUTION = 62.2
FOOTPRINT_POINT_LATITUDE = (51.4018,51.3854,51.3678,51.3491, 51.3291,51.3037,50.9298,50.54,50.1496, 49.9542,49.6611,49.4646,49.2684,49.0722 ,48.8758,48.6792,48.3843,48.1877, 47.9908,47.7936,47.596,47.3985,47.2009, 47.0031,46.8051,46.5083,46.31,46.1119, 45.9133,45.7146,45.5161,45.3173,45.1183 ,44.9191,44.7194,44.5201,44.2207, 44.0212,43.8214,43.6215,43.4215,43.2213 ,43.0213,42.8209,42.6206,42.4203, 42.2197,42.0191,41.8183,41.6174,41.3176 ,41.3444,41.3728,41.3957,41.5973, 41.7988,42.101,42.403,42.6041,42.9058, 43.1068,43.308,43.6071,43.8077,44.0084, 44.2081,44.4107,44.7102,44.9103,45.1103 ,45.4097,45.6094,45.8088,46.0082, 46.2076,46.4066,46.6054,46.8042,47.1024 ,47.3009,47.5983,47.7966,47.9947, 48.1927,48.3907,48.5882,48.7858,48.9833 ,49.1805,49.3777,49.5748,49.7718, 49.9684,50.165,50.3611,50.5574,50.7535, 50.9493,51.3406,51.4018)
FOOTPRINT_POINT_LONGITUDE = (218.085,217.77,217.454,217.136,216.815 ,216.432,216.388,216.437,216.484, 216.508,216.542,216.564,216.586,216.608 ,216.629,216.65,216.681,216.702,216.722 ,216.742,216.761,216.78,216.799,216.817 ,216.836,216.863,216.88,216.898,216.915 ,216.932,216.948,216.965,216.981, 216.996,217.011,217.027,217.049,217.064 ,217.078,217.092,217.106,217.12,217.133 ,217.146,217.159,217.172,217.185, 217.197,217.209,217.221,217.438,217.919 ,218.49,218.994,218.988,218.982,218.972 ,218.962,218.955,218.945,218.938, 218.931,218.92,218.913,218.906,218.898, 218.891,218.879,218.872,218.864,218.852 ,218.844,218.836,218.827,218.819, 218.811,218.802,218.793,218.78,218.771, 218.758,218.749,218.739,218.73,218.72, 218.711,218.701,218.691,218.681,218.671 ,218.661,218.651,218.64,218.629,218.619 ,218.608,218.597,218.586,218.563, 218.085)
ORBIT_NUMBER = 17897
ORBITAL_ECCENTRICITY = 0.573
ORBITAL_INCLINATION = 86.98
ORBITAL_SEMIMAJOR_AXIS = 8800.92
PERIAPSIS_ALTITUDE = 370.07
PERIAPSIS_ARGUMENT_ANGLE = 135.66
PERIAPSIS_TIME = 2018-02-21T04:25:06.000Z
SPACECRAFT_ORIENTATION = (0.0,-1.0,0.0)
^MEX_ORIENTATION_DESC = "MEX_ORIENTATION_DESC.TXT"
SPACECRAFT_POINTING_MODE = ACROSSTRACK
^MEX_POINTING_DESC = "MEX_POINTING_DESC.TXT"
RIGHT_ASCENSION = -1e+32
DECLINATION = -1e+32
OFFSET_ANGLE = -0.6
SPACECRAFT_SOLAR_DISTANCE = 2.36439e+08
TARGET_NAME = MARS
/* CAMERA DATA ELEMENTS */
DETECTOR_TEMPERATURE = 0.0
FOCAL_PLANE_TEMPERATURE = 0.0
INST_CMPRS_NAME = "DISCRETE COSINE TRANSFORMATION (DCT)"
INST_CMPRS_RATIO = 10.6966
INST_CMPRS_QUALITY = 0
INST_CMPRS_QUANTZ_TBL_ID = 0
INSTRUMENT_TEMPERATURE = 0.0
LENS_TEMPERATURE = 0.0
MACROPIXEL_SIZE = 4
MISSING_FRAMES = 0
PIXEL_SUBSAMPLING_FLAG = N
SIGNAL_CHAIN_ID = 2
/* RADIOMETRIC DATA ELEMENTS */
BANDWIDTH = 81.0
CENTER_FILTER_WAVELENGTH = 955.5
RADIANCE_OFFSET = 1.24838
RADIANCE_SCALING_FACTOR = 0.00501218
REFLECTANCE_SCALING_FACTOR = 0.000604492
MEX:REFLECTANCE_OFFSET = 0.150561
/* IMAGE OBJECT DEFINITIONS */
OBJECT = IMAGE
  INTERCHANGE_FORMAT = BINARY
  LINES = 9768
  LINE_SAMPLES = 2039
  SAMPLE_TYPE = UNSIGNED_INTEGER
  SAMPLE_BITS = 8
  BANDS = 1
  BAND_STORAGE_TYPE = BAND_SEQUENTIAL
  MAXIMUM = 255
  MEAN = 128.609
  MINIMUM = 1
  STANDARD_DEVIATION = 14.4264
END_OBJECT = IMAGE
/* MAP OBJECT DEFINITIONS */
OBJECT = IMAGE_MAP_PROJECTION
  ^DATA_SET_MAP_PROJECTION_CATALOG= "DSMAP.CAT"
  A_AXIS_RADIUS = 3396.0
  B_AXIS_RADIUS = 3396.0
  C_AXIS_RADIUS = 3396.0
  CENTER_LATITUDE = 0.0
  CENTER_LONGITUDE = 218.0
  COORDINATE_SYSTEM_NAME = PLANETOGRAPHIC
  COORDINATE_SYSTEM_TYPE = "BODY-FIXED ROTATING"
  EASTERNMOST_LONGITUDE = 218.994
  FIRST_STANDARD_PARALLEL = "N/A"
  LINE_FIRST_PIXEL = 1
  LINE_LAST_PIXEL = 9768
  LINE_PROJECTION_OFFSET = 60857.125
  MAP_PROJECTION_ROTATION = 0.0
  MAP_PROJECTION_TYPE = SINUSOIDAL
  MAP_RESOLUTION = 1185.42760773333
  MAP_SCALE = 0.05
  MAXIMUM_LATITUDE = 51.4018
  MINIMUM_LATITUDE = 41.3176
  POSITIVE_LONGITUDE_DIRECTION = EAST
  REFERENCE_LATITUDE = "N/A"
  REFERENCE_LONGITUDE = "N/A"
  SAMPLE_FIRST_PIXEL = 1
  SAMPLE_LAST_PIXEL = 2039
  SAMPLE_PROJECTION_OFFSET = 1230.625
  SECOND_STANDARD_PARALLEL = "N/A"
  WESTERNMOST_LONGITUDE = 216.388
END_OBJECT = IMAGE_MAP_PROJECTION
/* The JPEG2000 image data file associated with this label. */
OBJECT = COMPRESSED_FILE
  FILE_NAME = "HH897_0000_IR3.JP2"
  RECORD_TYPE = UNDEFINED
  FILE_RECORDS = UNK
  ENCODING_TYPE = "JP2"
  INTERCHANGE_FORMAT = BINARY
  UNCOMPRESSED_FILE_NAME = "HH897_0000_IR3.IMG"
  REQUIRED_STORAGE_BYTES = "19937342"
  ^DESCRIPTION = "JP2INFO.TXT"
END_OBJECT = COMPRESSED_FILE
END
