PDS_VERSION_ID = PDS3
/* FILE DATA ELEMENTS */
RECORD_TYPE = STREAM
/* POINTERS TO DATA OBJECTS */
^COMPRESSED_FILE = "HH897_0000_S13.JP2"
/* IDENTIFICATION DATA ELEMENTS */
DATA_SET_ID = "MEX-M-HRSC-5-REFDR-MAPPROJECTED-V3.0"
DATA_SET_NAME = "MARS EXPRESS HRSC MAP PROJECTED REFDR V3.0"
DETECTOR_ID = MEX_HRSC_S1
EVENT_TYPE = "MARS-REGIONAL-MAPPING-Vo-Im-Pf"
INSTRUMENT_HOST_ID = MEX
INSTRUMENT_HOST_NAME = "MARS EXPRESS"
INSTRUMENT_ID = HRSC
INSTRUMENT_NAME = "HIGH RESOLUTION STEREO CAMERA"
MISSION_NAME = "MARS EXPRESS"
MISSION_PHASE_NAME = ME_Phase_38
PROCESSING_LEVEL_ID = 3
PRODUCT_CREATION_TIME = 2018-09-04T13:05:27.000Z
PRODUCT_ID = "HH897_0000_S13.JP2"
RELEASE_ID = 0140
REVISION_ID = 0000
/* QUALITY DATA ELEMENTS */
DATA_QUALITY_ID = 1
DATA_QUALITY_DESC = "Data calculated based on original SPICE kernels"
/* TIME DATA ELEMENTS */
SPACECRAFT_CLOCK_START_COUNT = "1/0467266953.47385"
SPACECRAFT_CLOCK_STOP_COUNT = "1/0467267191.01509"
START_TIME = 2018-02-21T04:22:43.000Z
STOP_TIME = 2018-02-21T04:25:26.216Z
/* ORBITAL DATA ELEMENTS */
ASCENDING_NODE_LONGITUDE = 238.13
MAXIMUM_RESOLUTION = 31.6
FOOTPRINT_POINT_LATITUDE = (51.416,51.398,51.3787,51.3581,51.3361, 51.302,51.1034,50.7006,50.297,50.0949, 49.8927,49.6905,49.3857,49.081,48.8777, 48.6742,48.4706,48.267,48.0632,47.859, 47.5521,47.3475,47.04,46.835,46.6299, 46.4245,46.2189,45.9103,45.7043,45.4983 ,45.2921,45.0857,44.7751,44.4647, 44.2576,43.9466,43.7392,43.5316,43.3238 ,43.116,42.9079,42.5958,42.3876,42.1791 ,41.9706,41.6574,41.4486,41.2396, 41.0306,40.901,40.9202,40.936,40.9595, 40.9727,41.0897,41.2991,41.5088,41.7183 ,41.928,42.1373,42.3465,42.5555,42.869, 43.0779,43.2871,43.5974,43.8058,44.1175 ,44.3281,44.6391,44.8467,45.158,45.3651 ,45.5723,45.7792,45.986,46.1928,46.3993 ,46.6052,46.8115,47.1205,47.3263, 47.6345,47.84,48.1478,48.3529,48.6599, 48.8645,49.0688,49.2731,49.4771,49.7832 ,49.9865,50.19,50.3928,50.5959,50.7988, 51.0012,51.3047,51.416)
FOOTPRINT_POINT_LONGITUDE = (218.232,217.904,217.574,217.242, 216.907,216.423,216.354,216.405,216.455 ,216.48,216.504,216.528,216.562,216.596 ,216.619,216.641,216.662,216.684, 216.705,216.726,216.756,216.776,216.805 ,216.824,216.843,216.862,216.88,216.907 ,216.924,216.942,216.959,216.975,217.0, 217.023,217.039,217.062,217.077,217.091 ,217.106,217.12,217.134,217.154,217.168 ,217.181,217.194,217.213,217.225, 217.237,217.249,217.481,217.791,218.063 ,218.502,218.769,219.005,218.998, 218.992,218.985,218.978,218.972,218.965 ,218.958,218.948,218.94,218.933,218.922 ,218.915,218.904,218.896,218.884, 218.876,218.864,218.856,218.848,218.84, 218.831,218.823,218.814,218.805,218.796 ,218.783,218.774,218.76,218.75,218.736, 218.726,218.712,218.702,218.692,218.681 ,218.671,218.655,218.644,218.634, 218.623,218.612,218.6,218.589,218.572, 218.232)
ORBIT_NUMBER = 17897
ORBITAL_ECCENTRICITY = 0.573
ORBITAL_INCLINATION = 86.98
ORBITAL_SEMIMAJOR_AXIS = 8800.92
PERIAPSIS_ALTITUDE = 370.07
PERIAPSIS_ARGUMENT_ANGLE = 135.66
PERIAPSIS_TIME = 2018-02-21T04:25:06.000Z
SPACECRAFT_ORIENTATION = (0.0,-1.0,0.0)
^MEX_ORIENTATION_DESC = "MEX_ORIENTATION_DESC.TXT"
SPACECRAFT_POINTING_MODE = ACROSSTRACK
^MEX_POINTING_DESC = "MEX_POINTING_DESC.TXT"
RIGHT_ASCENSION = -1e+32
DECLINATION = -1e+32
OFFSET_ANGLE = -0.6
SPACECRAFT_SOLAR_DISTANCE = 2.36439e+08
TARGET_NAME = MARS
/* CAMERA DATA ELEMENTS */
DETECTOR_TEMPERATURE = 0.0
FOCAL_PLANE_TEMPERATURE = 0.0
INST_CMPRS_NAME = "DISCRETE COSINE TRANSFORMATION (DCT)"
INST_CMPRS_RATIO = 7.94048
INST_CMPRS_QUALITY = 0
INST_CMPRS_QUANTZ_TBL_ID = 0
INSTRUMENT_TEMPERATURE = 0.0
LENS_TEMPERATURE = 0.0
MACROPIXEL_SIZE = 2
MISSING_FRAMES = 0
PIXEL_SUBSAMPLING_FLAG = N
SIGNAL_CHAIN_ID = 1
/* RADIOMETRIC DATA ELEMENTS */
BANDWIDTH = 180.0
CENTER_FILTER_WAVELENGTH = 677.0
RADIANCE_OFFSET = 4.86335
RADIANCE_SCALING_FACTOR = 0.0181951
REFLECTANCE_SCALING_FACTOR = 0.000530683
MEX:REFLECTANCE_OFFSET = 0.141846
/* IMAGE OBJECT DEFINITIONS */
OBJECT = IMAGE
  INTERCHANGE_FORMAT = BINARY
  LINES = 19535
  LINE_SAMPLES = 4077
  SAMPLE_TYPE = UNSIGNED_INTEGER
  SAMPLE_BITS = 8
  BANDS = 1
  BAND_STORAGE_TYPE = BAND_SEQUENTIAL
  MAXIMUM = 255
  MEAN = 128.29
  MINIMUM = 1
  STANDARD_DEVIATION = 13.2355
END_OBJECT = IMAGE
/* MAP OBJECT DEFINITIONS */
OBJECT = IMAGE_MAP_PROJECTION
  ^DATA_SET_MAP_PROJECTION_CATALOG= "DSMAP.CAT"
  A_AXIS_RADIUS = 3396.0
  B_AXIS_RADIUS = 3396.0
  C_AXIS_RADIUS = 3396.0
  CENTER_LATITUDE = 0.0
  CENTER_LONGITUDE = 218.0
  COORDINATE_SYSTEM_NAME = PLANETOGRAPHIC
  COORDINATE_SYSTEM_TYPE = "BODY-FIXED ROTATING"
  EASTERNMOST_LONGITUDE = 219.005
  FIRST_STANDARD_PARALLEL = "N/A"
  LINE_FIRST_PIXEL = 1
  LINE_LAST_PIXEL = 19535
  LINE_PROJECTION_OFFSET = 121714.75
  MAP_PROJECTION_ROTATION = 0.0
  MAP_PROJECTION_TYPE = SINUSOIDAL
  MAP_RESOLUTION = 2370.85521546667
  MAP_SCALE = 0.025
  MAXIMUM_LATITUDE = 51.416
  MINIMUM_LATITUDE = 40.901
  POSITIVE_LONGITUDE_DIRECTION = EAST
  REFERENCE_LATITUDE = "N/A"
  REFERENCE_LONGITUDE = "N/A"
  SAMPLE_FIRST_PIXEL = 1
  SAMPLE_LAST_PIXEL = 4077
  SAMPLE_PROJECTION_OFFSET = 2461.75
  SECOND_STANDARD_PARALLEL = "N/A"
  WESTERNMOST_LONGITUDE = 216.354
END_OBJECT = IMAGE_MAP_PROJECTION
/* The JPEG2000 image data file associated with this label. */
OBJECT = COMPRESSED_FILE
  FILE_NAME = "HH897_0000_S13.JP2"
  RECORD_TYPE = UNDEFINED
  FILE_RECORDS = UNK
  ENCODING_TYPE = "JP2"
  INTERCHANGE_FORMAT = BINARY
  UNCOMPRESSED_FILE_NAME = "HH897_0000_S13.IMG"
  REQUIRED_STORAGE_BYTES = "79668657"
  ^DESCRIPTION = "JP2INFO.TXT"
END_OBJECT = COMPRESSED_FILE
END
