PDS_VERSION_ID = PDS3
/* FILE DATA ELEMENTS */
RECORD_TYPE = STREAM
/* POINTERS TO DATA OBJECTS */
^COMPRESSED_FILE = "HH911_0000_ND3.JP2"
/* IDENTIFICATION DATA ELEMENTS */
DATA_SET_ID = "MEX-M-HRSC-5-REFDR-MAPPROJECTED-V3.0"
DATA_SET_NAME = "MARS EXPRESS HRSC MAP PROJECTED REFDR V3.0"
DETECTOR_ID = MEX_HRSC_NADIR
EVENT_TYPE = "MARS-REGIONAL-STEREO-Vo-Te-Gl"
INSTRUMENT_HOST_ID = MEX
INSTRUMENT_HOST_NAME = "MARS EXPRESS"
INSTRUMENT_ID = HRSC
INSTRUMENT_NAME = "HIGH RESOLUTION STEREO CAMERA"
MISSION_NAME = "MARS EXPRESS"
MISSION_PHASE_NAME = ME_Phase_38
PROCESSING_LEVEL_ID = 3
PRODUCT_CREATION_TIME = 2018-09-04T13:05:27.000Z
PRODUCT_ID = "HH911_0000_ND3.JP2"
RELEASE_ID = 0140
REVISION_ID = 0000
/* QUALITY DATA ELEMENTS */
DATA_QUALITY_ID = 1
DATA_QUALITY_DESC = "Data calculated based on original SPICE kernels"
/* TIME DATA ELEMENTS */
SPACECRAFT_CLOCK_START_COUNT = "1/0467619076.08292"
SPACECRAFT_CLOCK_STOP_COUNT = "1/0467619315.08411"
START_TIME = 2018-02-25T06:11:59.568Z
STOP_TIME = 2018-02-25T06:14:41.579Z
/* ORBITAL DATA ELEMENTS */
ASCENDING_NODE_LONGITUDE = 237.88
MAXIMUM_RESOLUTION = 15
FOOTPRINT_POINT_LATITUDE = (41.5761,41.5693,41.5619,41.5537, 41.5447,41.2304,41.0238,40.8172,40.6107 ,40.4043,40.1979,39.9915,39.7852,39.579 ,39.3728,39.1667,38.9607,38.7547, 38.5488,38.24,37.9315,37.6231,37.3149, 37.1095,36.9042,36.699,36.4939,36.2889, 36.084,35.8792,35.6744,35.4698,35.2652, 35.0608,34.8565,34.6523,34.4481,34.0403 ,33.6328,33.2258,32.8194,32.4134, 32.2053,31.9971,31.7891,31.5813,31.3736 ,31.2709,31.275,31.2785,31.2814,31.2835 ,31.3893,31.5975,31.8058,32.0143, 32.2229,32.4316,32.8385,33.2459,33.4498 ,33.6538,33.8579,34.0622,34.2666,34.471 ,34.6756,34.8803,35.0852,35.2901, 35.4951,35.7002,35.9054,36.2135,36.5218 ,36.7274,36.9331,37.1389,37.3448, 37.5508,37.757,37.963,38.1693,38.4788, 38.6852,38.8917,39.0982,39.3049,39.5116 ,39.7184,39.9252,40.1321,40.339,40.546, 40.7531,40.9602,41.1674,41.3746,41.5819 ,41.5761)
FOOTPRINT_POINT_LONGITUDE = (228.487,228.214,227.938,227.66,227.378 ,227.244,227.256,227.268,227.28,227.291 ,227.302,227.313,227.324,227.334, 227.345,227.355,227.366,227.377,227.388 ,227.396,227.41,227.426,227.441,227.446 ,227.454,227.46,227.47,227.478,227.485, 227.491,227.498,227.504,227.511,227.515 ,227.521,227.527,227.532,227.542,227.55 ,227.558,227.566,227.574,227.579, 227.582,227.586,227.59,227.593,228.033, 228.31,228.584,228.856,229.108,229.332, 229.327,229.322,229.317,229.313,229.308 ,229.298,229.288,229.283,229.277, 229.272,229.267,229.262,229.256,229.251 ,229.245,229.239,229.234,229.228, 229.222,229.216,229.207,229.198,229.192 ,229.185,229.179,229.172,229.166, 229.158,229.152,229.145,229.135,229.128 ,229.121,229.113,229.106,229.099, 229.091,229.084,229.076,229.068,229.06, 229.052,229.044,229.036,229.028,229.02, 228.487)
ORBIT_NUMBER = 17911
ORBITAL_ECCENTRICITY = 0.573
ORBITAL_INCLINATION = 86.98
ORBITAL_SEMIMAJOR_AXIS = 8798.93
PERIAPSIS_ALTITUDE = 371.13
PERIAPSIS_ARGUMENT_ANGLE = 133.23
PERIAPSIS_TIME = 2018-02-25T06:10:40.000Z
SPACECRAFT_ORIENTATION = (0.0,-1.0,0.0)
^MEX_ORIENTATION_DESC = "MEX_ORIENTATION_DESC.TXT"
SPACECRAFT_POINTING_MODE = ACROSSTRACK
^MEX_POINTING_DESC = "MEX_POINTING_DESC.TXT"
RIGHT_ASCENSION = -1e+32
DECLINATION = -1e+32
OFFSET_ANGLE = -0.808
SPACECRAFT_SOLAR_DISTANCE = 2.35731e+08
TARGET_NAME = MARS
/* CAMERA DATA ELEMENTS */
DETECTOR_TEMPERATURE = 18.9822
FOCAL_PLANE_TEMPERATURE = 9.3989
INST_CMPRS_NAME = "DISCRETE COSINE TRANSFORMATION (DCT)"
INST_CMPRS_RATIO = 5.09593
INST_CMPRS_QUALITY = 0
INST_CMPRS_QUANTZ_TBL_ID = 0
INSTRUMENT_TEMPERATURE = 12.4574
LENS_TEMPERATURE = 10.0106
MACROPIXEL_SIZE = 1
MISSING_FRAMES = 0
PIXEL_SUBSAMPLING_FLAG = N
SIGNAL_CHAIN_ID = 0
/* RADIOMETRIC DATA ELEMENTS */
BANDWIDTH = 177.0
CENTER_FILTER_WAVELENGTH = 677.5
RADIANCE_OFFSET = 2.51344
RADIANCE_SCALING_FACTOR = 0.0331541
REFLECTANCE_SCALING_FACTOR = 0.000978709
MEX:REFLECTANCE_OFFSET = 0.0741968
/* IMAGE OBJECT DEFINITIONS */
OBJECT = IMAGE
  INTERCHANGE_FORMAT = BINARY
  LINES = 48956
  LINE_SAMPLES = 8415
  SAMPLE_TYPE = UNSIGNED_INTEGER
  SAMPLE_BITS = 8
  BANDS = 1
  BAND_STORAGE_TYPE = BAND_SEQUENTIAL
  MAXIMUM = 255
  MEAN = 147.731
  MINIMUM = 1
  STANDARD_DEVIATION = 22.5747
END_OBJECT = IMAGE
/* MAP OBJECT DEFINITIONS */
OBJECT = IMAGE_MAP_PROJECTION
  ^DATA_SET_MAP_PROJECTION_CATALOG= "DSMAP.CAT"
  A_AXIS_RADIUS = 3396.0
  B_AXIS_RADIUS = 3396.0
  C_AXIS_RADIUS = 3396.0
  CENTER_LATITUDE = 0.0
  CENTER_LONGITUDE = 228.0
  COORDINATE_SYSTEM_NAME = PLANETOGRAPHIC
  COORDINATE_SYSTEM_TYPE = "BODY-FIXED ROTATING"
  EASTERNMOST_LONGITUDE = 229.332
  FIRST_STANDARD_PARALLEL = "N/A"
  LINE_FIRST_PIXEL = 1
  LINE_LAST_PIXEL = 48956
  LINE_PROJECTION_OFFSET = 197196.0
  MAP_PROJECTION_ROTATION = 0.0
  MAP_PROJECTION_TYPE = SINUSOIDAL
  MAP_RESOLUTION = 4741.71043093333
  MAP_SCALE = 0.0125
  MAXIMUM_LATITUDE = 41.5819
  MINIMUM_LATITUDE = 31.2709
  POSITIVE_LONGITUDE_DIRECTION = EAST
  REFERENCE_LATITUDE = "N/A"
  REFERENCE_LONGITUDE = "N/A"
  SAMPLE_FIRST_PIXEL = 1
  SAMPLE_LAST_PIXEL = 8415
  SAMPLE_PROJECTION_OFFSET = 3000.0
  SECOND_STANDARD_PARALLEL = "N/A"
  WESTERNMOST_LONGITUDE = 227.244
END_OBJECT = IMAGE_MAP_PROJECTION
/* The JPEG2000 image data file associated with this label. */
OBJECT = COMPRESSED_FILE
  FILE_NAME = "HH911_0000_ND3.JP2"
  RECORD_TYPE = UNDEFINED
  FILE_RECORDS = UNK
  ENCODING_TYPE = "JP2"
  INTERCHANGE_FORMAT = BINARY
  UNCOMPRESSED_FILE_NAME = "HH911_0000_ND3.IMG"
  REQUIRED_STORAGE_BYTES = "411998400"
  ^DESCRIPTION = "JP2INFO.TXT"
END_OBJECT = COMPRESSED_FILE
END
