PDS_VERSION_ID = PDS3
/* FILE DATA ELEMENTS */
RECORD_TYPE = STREAM
/* POINTERS TO DATA OBJECTS */
^COMPRESSED_FILE = "HH911_0000_P23.JP2"
/* IDENTIFICATION DATA ELEMENTS */
DATA_SET_ID = "MEX-M-HRSC-5-REFDR-MAPPROJECTED-V3.0"
DATA_SET_NAME = "MARS EXPRESS HRSC MAP PROJECTED REFDR V3.0"
DETECTOR_ID = MEX_HRSC_P2
EVENT_TYPE = "MARS-REGIONAL-STEREO-Vo-Te-Gl"
INSTRUMENT_HOST_ID = MEX
INSTRUMENT_HOST_NAME = "MARS EXPRESS"
INSTRUMENT_ID = HRSC
INSTRUMENT_NAME = "HIGH RESOLUTION STEREO CAMERA"
MISSION_NAME = "MARS EXPRESS"
MISSION_PHASE_NAME = ME_Phase_38
PROCESSING_LEVEL_ID = 3
PRODUCT_CREATION_TIME = 2018-09-04T13:05:27.000Z
PRODUCT_ID = "HH911_0000_P23.JP2"
RELEASE_ID = 0140
REVISION_ID = 0000
/* QUALITY DATA ELEMENTS */
DATA_QUALITY_ID = 1
DATA_QUALITY_DESC = "Data calculated based on original SPICE kernels"
/* TIME DATA ELEMENTS */
SPACECRAFT_CLOCK_START_COUNT = "1/0467619076.08292"
SPACECRAFT_CLOCK_STOP_COUNT = "1/0467619315.08411"
START_TIME = 2018-02-25T06:12:22.584Z
STOP_TIME = 2018-02-25T06:15:07.949Z
/* ORBITAL DATA ELEMENTS */
ASCENDING_NODE_LONGITUDE = 237.88
MAXIMUM_RESOLUTION = 31.2
FOOTPRINT_POINT_LATITUDE = (41.5236,41.524,41.5239,41.5233,41.5222 ,41.3538,41.1472,40.9406,40.7342, 40.5278,40.3215,40.1154,39.9094,39.7035 ,39.4979,39.292,38.9833,38.7773,38.4667 ,38.1649,37.8574,37.6523,37.3444,37.039 ,36.8376,36.6347,36.4294,36.2269, 36.0238,35.8215,35.6189,35.4166,35.2149 ,34.8124,34.41,34.0091,33.8041,33.4966, 33.2916,33.0869,32.8818,32.6769,32.4722 ,32.1592,31.9497,31.7405,31.5314, 31.2993,31.2959,31.2921,31.2881,31.2837 ,31.2793,31.3784,31.5877,31.7959, 32.0053,32.2145,32.4222,32.6267,32.8316 ,33.0368,33.2415,33.4473,33.6534, 33.8598,34.0641,34.2655,34.4671,34.7692 ,34.9715,35.2747,35.4789,35.8815, 36.0843,36.2899,36.4945,36.6975,36.9026 ,37.2072,37.4136,37.6197,37.8271, 38.1323,38.3378,38.5443,38.7498,38.955, 39.264,39.47,39.6764,39.9861,40.1928, 40.3995,40.7099,40.9169,41.1243,41.3315 ,41.539,41.5236)
FOOTPRINT_POINT_LONGITUDE = (228.535,228.263,227.989,227.712, 227.432,227.222,227.234,227.246,227.257 ,227.268,227.279,227.29,227.3,227.311, 227.321,227.331,227.347,227.357,227.375 ,227.381,227.395,227.404,227.419,227.43 ,227.434,227.441,227.451,227.457, 227.464,227.47,227.476,227.483,227.488, 227.498,227.508,227.517,227.52,227.526, 227.53,227.533,227.537,227.541,227.545, 227.551,227.554,227.558,227.561,227.76, 228.043,228.324,228.601,228.877,229.116 ,229.357,229.352,229.347,229.341, 229.336,229.331,229.326,229.32,229.315, 229.31,229.304,229.298,229.293,229.287, 229.282,229.276,229.267,229.261,229.253 ,229.246,229.234,229.228,229.222, 229.215,229.209,229.202,229.192,229.185 ,229.178,229.171,229.161,229.154, 229.146,229.139,229.132,229.12,229.113, 229.105,229.093,229.085,229.077,229.065 ,229.057,229.048,229.04,229.031, 228.535)
ORBIT_NUMBER = 17911
ORBITAL_ECCENTRICITY = 0.573
ORBITAL_INCLINATION = 86.98
ORBITAL_SEMIMAJOR_AXIS = 8798.93
PERIAPSIS_ALTITUDE = 371.13
PERIAPSIS_ARGUMENT_ANGLE = 133.23
PERIAPSIS_TIME = 2018-02-25T06:10:40.000Z
SPACECRAFT_ORIENTATION = (0.0,-1.0,0.0)
^MEX_ORIENTATION_DESC = "MEX_ORIENTATION_DESC.TXT"
SPACECRAFT_POINTING_MODE = ACROSSTRACK
^MEX_POINTING_DESC = "MEX_POINTING_DESC.TXT"
RIGHT_ASCENSION = -1e+32
DECLINATION = -1e+32
OFFSET_ANGLE = -0.808
SPACECRAFT_SOLAR_DISTANCE = 2.35731e+08
TARGET_NAME = MARS
/* CAMERA DATA ELEMENTS */
DETECTOR_TEMPERATURE = 19.1861
FOCAL_PLANE_TEMPERATURE = 9.3989
INST_CMPRS_NAME = "DISCRETE COSINE TRANSFORMATION (DCT)"
INST_CMPRS_RATIO = 4.64524
INST_CMPRS_QUALITY = 0
INST_CMPRS_QUANTZ_TBL_ID = 0
INSTRUMENT_TEMPERATURE = 12.4574
LENS_TEMPERATURE = 10.0106
MACROPIXEL_SIZE = 2
MISSING_FRAMES = 0
PIXEL_SUBSAMPLING_FLAG = N
SIGNAL_CHAIN_ID = 3
/* RADIOMETRIC DATA ELEMENTS */
BANDWIDTH = 177.0
CENTER_FILTER_WAVELENGTH = 676.5
RADIANCE_OFFSET = 2.79884
RADIANCE_SCALING_FACTOR = 0.0316883
REFLECTANCE_SCALING_FACTOR = 0.000933664
MEX:REFLECTANCE_OFFSET = 0.082465
/* IMAGE OBJECT DEFINITIONS */
OBJECT = IMAGE
  INTERCHANGE_FORMAT = BINARY
  LINES = 24478
  LINE_SAMPLES = 4208
  SAMPLE_TYPE = UNSIGNED_INTEGER
  SAMPLE_BITS = 8
  BANDS = 1
  BAND_STORAGE_TYPE = BAND_SEQUENTIAL
  MAXIMUM = 255
  MEAN = 151.059
  MINIMUM = 1
  STANDARD_DEVIATION = 21.4935
END_OBJECT = IMAGE
/* MAP OBJECT DEFINITIONS */
OBJECT = IMAGE_MAP_PROJECTION
  ^DATA_SET_MAP_PROJECTION_CATALOG= "DSMAP.CAT"
  A_AXIS_RADIUS = 3396.0
  B_AXIS_RADIUS = 3396.0
  C_AXIS_RADIUS = 3396.0
  CENTER_LATITUDE = 0.0
  CENTER_LONGITUDE = 228.0
  COORDINATE_SYSTEM_NAME = PLANETOGRAPHIC
  COORDINATE_SYSTEM_TYPE = "BODY-FIXED ROTATING"
  EASTERNMOST_LONGITUDE = 229.357
  FIRST_STANDARD_PARALLEL = "N/A"
  LINE_FIRST_PIXEL = 1
  LINE_LAST_PIXEL = 24478
  LINE_PROJECTION_OFFSET = 98597.75
  MAP_PROJECTION_ROTATION = 0.0
  MAP_PROJECTION_TYPE = SINUSOIDAL
  MAP_RESOLUTION = 2370.85521546667
  MAP_SCALE = 0.025
  MAXIMUM_LATITUDE = 41.539
  MINIMUM_LATITUDE = 31.2793
  POSITIVE_LONGITUDE_DIRECTION = EAST
  REFERENCE_LATITUDE = "N/A"
  REFERENCE_LONGITUDE = "N/A"
  SAMPLE_FIRST_PIXEL = 1
  SAMPLE_LAST_PIXEL = 4208
  SAMPLE_PROJECTION_OFFSET = 1499.75
  SECOND_STANDARD_PARALLEL = "N/A"
  WESTERNMOST_LONGITUDE = 227.222
END_OBJECT = IMAGE_MAP_PROJECTION
/* The JPEG2000 image data file associated with this label. */
OBJECT = COMPRESSED_FILE
  FILE_NAME = "HH911_0000_P23.JP2"
  RECORD_TYPE = UNDEFINED
  FILE_RECORDS = UNK
  ENCODING_TYPE = "JP2"
  INTERCHANGE_FORMAT = BINARY
  UNCOMPRESSED_FILE_NAME = "HH911_0000_P23.IMG"
  REQUIRED_STORAGE_BYTES = "103028672"
  ^DESCRIPTION = "JP2INFO.TXT"
END_OBJECT = COMPRESSED_FILE
END
