PDS_VERSION_ID = PDS3
/* FILE DATA ELEMENTS */
RECORD_TYPE = STREAM
/* POINTERS TO DATA OBJECTS */
^COMPRESSED_FILE = "HH912_0000_GR3.JP2"
/* IDENTIFICATION DATA ELEMENTS */
DATA_SET_ID = "MEX-M-HRSC-5-REFDR-MAPPROJECTED-V3.0"
DATA_SET_NAME = "MARS EXPRESS HRSC MAP PROJECTED REFDR V3.0"
DETECTOR_ID = MEX_HRSC_GREEN
EVENT_TYPE = "MARS-REGIONAL-MAPPING-Vo-Im-Pf"
INSTRUMENT_HOST_ID = MEX
INSTRUMENT_HOST_NAME = "MARS EXPRESS"
INSTRUMENT_ID = HRSC
INSTRUMENT_NAME = "HIGH RESOLUTION STEREO CAMERA"
MISSION_NAME = "MARS EXPRESS"
MISSION_PHASE_NAME = ME_Phase_38
PROCESSING_LEVEL_ID = 3
PRODUCT_CREATION_TIME = 2018-09-04T13:05:27.000Z
PRODUCT_ID = "HH912_0000_GR3.JP2"
RELEASE_ID = 0140
REVISION_ID = 0000
/* QUALITY DATA ELEMENTS */
DATA_QUALITY_ID = 1
DATA_QUALITY_DESC = "Data calculated based on original SPICE kernels"
/* TIME DATA ELEMENTS */
SPACECRAFT_CLOCK_START_COUNT = "1/0467644066.09105"
SPACECRAFT_CLOCK_STOP_COUNT = "1/0467644282.58611"
START_TIME = 2018-02-25T13:08:24.657Z
STOP_TIME = 2018-02-25T13:10:49.631Z
/* ORBITAL DATA ELEMENTS */
ASCENDING_NODE_LONGITUDE = 237.86
MAXIMUM_RESOLUTION = 60.1
FOOTPRINT_POINT_LATITUDE = (51.5191,51.5059,51.4961,51.4888, 51.4775,51.4654,51.4523,51.3341,51.1508 ,50.8757,50.6923,50.5088,50.3252, 50.0498,49.8662,49.6825,49.4988,49.2229 ,49.0389,48.8549,48.671,48.3948,48.2108 ,48.0265,47.8423,47.6581,47.4739, 47.1976,46.9211,46.7368,46.4602,46.2758 ,46.0914,45.907,45.6303,45.3535,45.0768 ,44.7999,44.6153,44.4308,44.154,43.9694 ,43.7849,43.5081,43.3154,43.1309, 42.8541,42.5773,42.3004,42.1332,42.145, 42.1509,42.1604,42.1656,42.1714,42.2723 ,42.5498,42.7348,43.0124,43.1975, 43.3825,43.5757,43.8534,44.1311,44.3162 ,44.5013,44.6864,44.964,45.1492,45.3343 ,45.5193,45.7043,45.9819,46.1669,46.352 ,46.6295,46.8145,46.9995,47.1844, 47.3694,47.5543,47.7392,48.0165,48.2013 ,48.3861,48.5709,48.7556,49.0327, 49.3096,49.5864,49.771,49.9555,50.2322, 50.4166,50.6009,50.7852,50.9695,51.1536 ,51.3378,51.5191)
FOOTPRINT_POINT_LONGITUDE = (127.008,126.553,126.249,126.038, 125.732,125.425,125.115,124.891,124.913 ,124.944,124.965,124.986,125.006, 125.035,125.055,125.074,125.093,125.121 ,125.139,125.156,125.174,125.2,125.217, 125.233,125.25,125.266,125.282,125.306, 125.329,125.344,125.366,125.38,125.395, 125.408,125.429,125.449,125.469,125.488 ,125.5,125.512,125.53,125.542,125.554, 125.571,125.583,125.594,125.61,125.625, 125.64,125.649,126.019,126.22,126.57, 126.786,127.051,127.432,127.423,127.417 ,127.407,127.401,127.395,127.388, 127.378,127.368,127.362,127.355,127.348 ,127.337,127.33,127.323,127.316,127.309 ,127.298,127.29,127.282,127.271,127.263 ,127.255,127.247,127.239,127.23,127.222 ,127.209,127.201,127.192,127.183, 127.174,127.161,127.147,127.133,127.123 ,127.114,127.099,127.089,127.079, 127.069,127.059,127.048,127.038, 127.008)
ORBIT_NUMBER = 17912
ORBITAL_ECCENTRICITY = 0.573
ORBITAL_INCLINATION = 86.96
ORBITAL_SEMIMAJOR_AXIS = 8800.61
PERIAPSIS_ALTITUDE = 371.94
PERIAPSIS_ARGUMENT_ANGLE = 133.09
PERIAPSIS_TIME = 2018-02-25T13:09:43.000Z
SPACECRAFT_ORIENTATION = (0.0,-1.0,0.0)
^MEX_ORIENTATION_DESC = "MEX_ORIENTATION_DESC.TXT"
SPACECRAFT_POINTING_MODE = ACROSSTRACK
^MEX_POINTING_DESC = "MEX_POINTING_DESC.TXT"
RIGHT_ASCENSION = -1e+32
DECLINATION = -1e+32
OFFSET_ANGLE = -0.38
SPACECRAFT_SOLAR_DISTANCE = 2.3568e+08
TARGET_NAME = MARS
/* CAMERA DATA ELEMENTS */
DETECTOR_TEMPERATURE = 19.1861
FOCAL_PLANE_TEMPERATURE = 9.3989
INST_CMPRS_NAME = "DISCRETE COSINE TRANSFORMATION (DCT)"
INST_CMPRS_RATIO = 11.6316
INST_CMPRS_QUALITY = 0
INST_CMPRS_QUANTZ_TBL_ID = 0
INSTRUMENT_TEMPERATURE = 12.2535
LENS_TEMPERATURE = 9.6028
MACROPIXEL_SIZE = 4
MISSING_FRAMES = 1
PIXEL_SUBSAMPLING_FLAG = N
SIGNAL_CHAIN_ID = 2
/* RADIOMETRIC DATA ELEMENTS */
BANDWIDTH = 88.0
CENTER_FILTER_WAVELENGTH = 538.0
RADIANCE_OFFSET = 1.20307
RADIANCE_SCALING_FACTOR = 0.00348716
REFLECTANCE_SCALING_FACTOR = 0.000166766
MEX:REFLECTANCE_OFFSET = 0.0575344
/* IMAGE OBJECT DEFINITIONS */
OBJECT = IMAGE
  INTERCHANGE_FORMAT = BINARY
  LINES = 11112
  LINE_SAMPLES = 2086
  SAMPLE_TYPE = UNSIGNED_INTEGER
  SAMPLE_BITS = 8
  BANDS = 1
  BAND_STORAGE_TYPE = BAND_SEQUENTIAL
  MAXIMUM = 255
  MEAN = 105.92
  MINIMUM = 1
  STANDARD_DEVIATION = 41.4783
END_OBJECT = IMAGE
/* MAP OBJECT DEFINITIONS */
OBJECT = IMAGE_MAP_PROJECTION
  ^DATA_SET_MAP_PROJECTION_CATALOG= "DSMAP.CAT"
  A_AXIS_RADIUS = 3396.0
  B_AXIS_RADIUS = 3396.0
  C_AXIS_RADIUS = 3396.0
  CENTER_LATITUDE = 0.0
  CENTER_LONGITUDE = 126.0
  COORDINATE_SYSTEM_NAME = PLANETOGRAPHIC
  COORDINATE_SYSTEM_TYPE = "BODY-FIXED ROTATING"
  EASTERNMOST_LONGITUDE = 127.432
  FIRST_STANDARD_PARALLEL = "N/A"
  LINE_FIRST_PIXEL = 1
  LINE_LAST_PIXEL = 11112
  LINE_PROJECTION_OFFSET = 61069.375
  MAP_PROJECTION_ROTATION = 0.0
  MAP_PROJECTION_TYPE = SINUSOIDAL
  MAP_RESOLUTION = 1185.42760773333
  MAP_SCALE = 0.05
  MAXIMUM_LATITUDE = 51.5191
  MINIMUM_LATITUDE = 42.1332
  POSITIVE_LONGITUDE_DIRECTION = EAST
  REFERENCE_LATITUDE = "N/A"
  REFERENCE_LONGITUDE = "N/A"
  SAMPLE_FIRST_PIXEL = 1
  SAMPLE_LAST_PIXEL = 2086
  SAMPLE_PROJECTION_OFFSET = 828.875
  SECOND_STANDARD_PARALLEL = "N/A"
  WESTERNMOST_LONGITUDE = 124.891
END_OBJECT = IMAGE_MAP_PROJECTION
/* The JPEG2000 image data file associated with this label. */
OBJECT = COMPRESSED_FILE
  FILE_NAME = "HH912_0000_GR3.JP2"
  RECORD_TYPE = UNDEFINED
  FILE_RECORDS = UNK
  ENCODING_TYPE = "JP2"
  INTERCHANGE_FORMAT = BINARY
  UNCOMPRESSED_FILE_NAME = "HH912_0000_GR3.IMG"
  REQUIRED_STORAGE_BYTES = "23200492"
  ^DESCRIPTION = "JP2INFO.TXT"
END_OBJECT = COMPRESSED_FILE
END
