PDS_VERSION_ID = PDS3
/* FILE DATA ELEMENTS */
RECORD_TYPE = STREAM
/* POINTERS TO DATA OBJECTS */
^COMPRESSED_FILE = "HH913_0000_S13.JP2"
/* IDENTIFICATION DATA ELEMENTS */
DATA_SET_ID = "MEX-M-HRSC-5-REFDR-MAPPROJECTED-V3.0"
DATA_SET_NAME = "MARS EXPRESS HRSC MAP PROJECTED REFDR V3.0"
DETECTOR_ID = MEX_HRSC_S1
EVENT_TYPE = "MARS-REGIONAL-MAPPING-Im-Gl-Pf"
INSTRUMENT_HOST_ID = MEX
INSTRUMENT_HOST_NAME = "MARS EXPRESS"
INSTRUMENT_ID = HRSC
INSTRUMENT_NAME = "HIGH RESOLUTION STEREO CAMERA"
MISSION_NAME = "MARS EXPRESS"
MISSION_PHASE_NAME = ME_Phase_38
PROCESSING_LEVEL_ID = 3
PRODUCT_CREATION_TIME = 2018-09-04T13:05:27.000Z
PRODUCT_ID = "HH913_0000_S13.JP2"
RELEASE_ID = 0140
REVISION_ID = 0000
/* QUALITY DATA ELEMENTS */
DATA_QUALITY_ID = 1
DATA_QUALITY_DESC = "Data calculated based on original SPICE kernels"
/* TIME DATA ELEMENTS */
SPACECRAFT_CLOCK_START_COUNT = "1/0467669261.07357"
SPACECRAFT_CLOCK_STOP_COUNT = "1/0467669516.32696"
START_TIME = 2018-02-25T20:07:50.445Z
STOP_TIME = 2018-02-25T20:10:51.422Z
/* ORBITAL DATA ELEMENTS */
ASCENDING_NODE_LONGITUDE = 237.84
MAXIMUM_RESOLUTION = 31.7
FOOTPRINT_POINT_LATITUDE = (48.0853,48.0868,48.0844,48.078,47.8723 ,47.6425,47.2974,47.0669,46.8362, 46.6056,46.3742,46.1434,45.9174,45.6823 ,45.4521,45.1064,44.8772,44.5256, 44.2913,44.0576,43.8256,43.5968,43.361, 43.1257,42.7766,42.548,42.3095,42.0742, 41.8455,41.6069,41.3728,41.1413,40.9052 ,40.6711,40.4387,40.0919,39.8564, 39.5028,39.2672,39.0306,38.7979,38.5712 ,38.3373,38.102,37.8664,37.6318,37.393, 37.1603,36.8082,36.5735,36.3347,36.3244 ,36.3184,36.3146,36.4274,36.6599, 36.8968,37.135,37.3703,37.6054,37.841, 38.1942,38.4291,38.7816,39.0166,39.3692 ,39.6019,39.8384,40.0732,40.3083, 40.5437,40.7769,41.0105,41.2375,41.4712 ,41.7108,41.9482,42.1789,42.4168, 42.6513,42.8793,43.1095,43.3454,43.5777 ,43.8106,44.159,44.5099,44.7475,45.0929 ,45.3238,45.5589,45.9029,46.1347,46.37, 46.7156,46.9454,47.1773,47.408,47.6398, 48.0853)
FOOTPRINT_POINT_LONGITUDE = (26.2808,25.6982,25.1028,24.5134, 24.3598,24.3748,24.3967,24.4109,24.4247 ,24.4383,24.4516,24.4646,24.4778, 24.4899,24.5022,24.5201,24.5318,24.5481 ,24.5587,24.5691,24.5795,24.5899, 24.5994,24.6087,24.6226,24.632,24.6402, 24.6485,24.6572,24.6647,24.6725,24.6803 ,24.6874,24.6945,24.7016,24.7121, 24.7184,24.7274,24.7332,24.7386,24.7444 ,24.7506,24.7558,24.7607,24.7653, 24.7699,24.7738,24.7783,24.7843,24.7881 ,24.7912,25.2277,25.8963,26.1759, 26.4789,26.4792,26.4767,26.4733,26.4718 ,26.4703,26.4683,26.4655,26.4638, 26.4611,26.4592,26.4561,26.4555,26.4523 ,26.4501,26.4476,26.4449,26.4435, 26.4417,26.4443,26.4423,26.4361,26.4313 ,26.4309,26.4255,26.4223,26.4236, 26.4232,26.4186,26.4164,26.4137,26.41, 26.4042,26.3974,26.395,26.3927,26.3872, 26.385,26.3815,26.3751,26.3708,26.3681, 26.3637,26.36,26.3552,26.2808)
ORBIT_NUMBER = 17913
ORBITAL_ECCENTRICITY = 0.573
ORBITAL_INCLINATION = 86.96
ORBITAL_SEMIMAJOR_AXIS = 8798.15
PERIAPSIS_ALTITUDE = 372.26
PERIAPSIS_ARGUMENT_ANGLE = 132.92
PERIAPSIS_TIME = 2018-02-25T20:08:40.000Z
SPACECRAFT_ORIENTATION = (0.0,-1.0,0.0)
^MEX_ORIENTATION_DESC = "MEX_ORIENTATION_DESC.TXT"
SPACECRAFT_POINTING_MODE = ACROSSTRACK
^MEX_POINTING_DESC = "MEX_POINTING_DESC.TXT"
RIGHT_ASCENSION = -1e+32
DECLINATION = -1e+32
OFFSET_ANGLE = 0.4
SPACECRAFT_SOLAR_DISTANCE = 2.35629e+08
TARGET_NAME = MARS
/* CAMERA DATA ELEMENTS */
DETECTOR_TEMPERATURE = 17.5549
FOCAL_PLANE_TEMPERATURE = 8.3794
INST_CMPRS_NAME = "DISCRETE COSINE TRANSFORMATION (DCT)"
INST_CMPRS_RATIO = 7.98548
INST_CMPRS_QUALITY = 0
INST_CMPRS_QUANTZ_TBL_ID = 0
INSTRUMENT_TEMPERATURE = 11.4379
LENS_TEMPERATURE = 8.7872
MACROPIXEL_SIZE = 2
MISSING_FRAMES = 0
PIXEL_SUBSAMPLING_FLAG = N
SIGNAL_CHAIN_ID = 1
/* RADIOMETRIC DATA ELEMENTS */
BANDWIDTH = 180.0
CENTER_FILTER_WAVELENGTH = 677.0
RADIANCE_OFFSET = 2.40348
RADIANCE_SCALING_FACTOR = 0.0269611
REFLECTANCE_SCALING_FACTOR = 0.000780973
MEX:REFLECTANCE_OFFSET = 0.0696209
/* IMAGE OBJECT DEFINITIONS */
OBJECT = IMAGE
  INTERCHANGE_FORMAT = BINARY
  LINES = 27755
  LINE_SAMPLES = 3643
  SAMPLE_TYPE = UNSIGNED_INTEGER
  SAMPLE_BITS = 8
  BANDS = 1
  BAND_STORAGE_TYPE = BAND_SEQUENTIAL
  MAXIMUM = 255
  MEAN = 120.952
  MINIMUM = 1
  STANDARD_DEVIATION = 30.5434
END_OBJECT = IMAGE
/* MAP OBJECT DEFINITIONS */
OBJECT = IMAGE_MAP_PROJECTION
  ^DATA_SET_MAP_PROJECTION_CATALOG= "DSMAP.CAT"
  A_AXIS_RADIUS = 3396.0
  B_AXIS_RADIUS = 3396.0
  C_AXIS_RADIUS = 3396.0
  CENTER_LATITUDE = 0.0
  CENTER_LONGITUDE = 26.0
  COORDINATE_SYSTEM_NAME = PLANETOGRAPHIC
  COORDINATE_SYSTEM_TYPE = "BODY-FIXED ROTATING"
  EASTERNMOST_LONGITUDE = 26.4792
  FIRST_STANDARD_PARALLEL = "N/A"
  LINE_FIRST_PIXEL = 1
  LINE_LAST_PIXEL = 27755
  LINE_PROJECTION_OFFSET = 113877.75
  MAP_PROJECTION_ROTATION = 0.0
  MAP_PROJECTION_TYPE = SINUSOIDAL
  MAP_RESOLUTION = 2370.85521546667
  MAP_SCALE = 0.025
  MAXIMUM_LATITUDE = 48.0868
  MINIMUM_LATITUDE = 36.3146
  POSITIVE_LONGITUDE_DIRECTION = EAST
  REFERENCE_LATITUDE = "N/A"
  REFERENCE_LONGITUDE = "N/A"
  SAMPLE_FIRST_PIXEL = 1
  SAMPLE_LAST_PIXEL = 3643
  SAMPLE_PROJECTION_OFFSET = 2629.25
  SECOND_STANDARD_PARALLEL = "N/A"
  WESTERNMOST_LONGITUDE = 24.3598
END_OBJECT = IMAGE_MAP_PROJECTION
/* The JPEG2000 image data file associated with this label. */
OBJECT = COMPRESSED_FILE
  FILE_NAME = "HH913_0000_S13.JP2"
  RECORD_TYPE = UNDEFINED
  FILE_RECORDS = UNK
  ENCODING_TYPE = "JP2"
  INTERCHANGE_FORMAT = BINARY
  UNCOMPRESSED_FILE_NAME = "HH913_0000_S13.IMG"
  REQUIRED_STORAGE_BYTES = "101133323"
  ^DESCRIPTION = "JP2INFO.TXT"
END_OBJECT = COMPRESSED_FILE
END
