PDS_VERSION_ID = PDS3
/* FILE DATA ELEMENTS */
RECORD_TYPE = STREAM
/* POINTERS TO DATA OBJECTS */
^COMPRESSED_FILE = "HH916_0000_P13.JP2"
/* IDENTIFICATION DATA ELEMENTS */
DATA_SET_ID = "MEX-M-HRSC-5-REFDR-MAPPROJECTED-V3.0"
DATA_SET_NAME = "MARS EXPRESS HRSC MAP PROJECTED REFDR V3.0"
DETECTOR_ID = MEX_HRSC_P1
EVENT_TYPE = "MARS-REGIONAL-MAPPING-Te-Im-Eo"
INSTRUMENT_HOST_ID = MEX
INSTRUMENT_HOST_NAME = "MARS EXPRESS"
INSTRUMENT_ID = HRSC
INSTRUMENT_NAME = "HIGH RESOLUTION STEREO CAMERA"
MISSION_NAME = "MARS EXPRESS"
MISSION_PHASE_NAME = ME_Phase_38
PROCESSING_LEVEL_ID = 3
PRODUCT_CREATION_TIME = 2018-09-04T13:05:27.000Z
PRODUCT_ID = "HH916_0000_P13.JP2"
RELEASE_ID = 0140
REVISION_ID = 0000
/* QUALITY DATA ELEMENTS */
DATA_QUALITY_ID = 1
DATA_QUALITY_DESC = "Data calculated based on original SPICE kernels"
/* TIME DATA ELEMENTS */
SPACECRAFT_CLOCK_START_COUNT = "1/0467744894.09045"
SPACECRAFT_CLOCK_STOP_COUNT = "1/0467745123.58148"
START_TIME = 2018-02-26T17:08:35.763Z
STOP_TIME = 2018-02-26T17:10:54.207Z
/* ORBITAL DATA ELEMENTS */
ASCENDING_NODE_LONGITUDE = 237.78
MAXIMUM_RESOLUTION = 32.7
FOOTPRINT_POINT_LATITUDE = (34.4235,34.4144,34.4044,34.3937, 34.3821,34.3696,34.1583,33.9883,33.6501 ,33.4801,33.2259,32.9716,32.802,32.5478 ,32.2938,32.1245,31.8706,31.53,31.3558, 31.1828,31.0092,30.8373,30.6632,30.4897 ,30.3168,30.1432,29.9688,29.7937, 29.6134,29.4341,29.257,29.079,28.8125, 28.6347,28.457,28.2755,28.0054,27.8228, 27.6445,27.4606,27.2786,27.1022,26.914, 26.6337,26.3573,26.1727,25.9877,25.7076 ,25.4861,25.4938,25.5015,25.5088, 25.5159,25.5237,25.627,25.8132,26.0028, 26.1896,26.4689,26.6547,26.8392,27.0256 ,27.3032,27.4852,27.7564,27.9378, 28.1163,28.3874,28.5677,28.7459,28.926, 29.1003,29.2774,29.4558,29.6344,29.8137 ,30.079,30.2525,30.4263,30.6009,30.8617 ,31.0354,31.2096,31.3827,31.5584, 31.7319,31.9015,32.0707,32.3254,32.4952 ,32.8335,33.003,33.173,33.3437,33.5139, 33.6842,33.8542,34.0247,34.2796, 34.4235)
FOOTPRINT_POINT_LONGITUDE = (78.4705,78.2151,77.9574,77.6978, 77.4362,77.1719,77.0159,77.02,77.0296, 77.0331,77.0392,77.0448,77.0483,77.0536 ,77.0586,77.0619,77.0666,77.0733, 77.0757,77.0791,77.0817,77.0861,77.0879 ,77.0902,77.0931,77.0949,77.0959, 77.1005,77.0998,77.1,77.1023,77.1035, 77.1054,77.1064,77.1074,77.1087,77.1127 ,77.1127,77.1169,77.1153,77.1153, 77.1209,77.1183,77.1171,77.1194,77.1202 ,77.1206,77.1207,77.2605,77.4873, 77.7129,78.0046,78.3794,78.5833,78.8908 ,78.8882,78.8853,78.8826,78.8784, 78.8755,78.8727,78.8698,78.8654,78.8624 ,78.858,78.855,78.8521,78.8475,78.8444, 78.8413,78.8381,78.835,78.8318,78.8285, 78.8253,78.8219,78.8169,78.8136,78.8103 ,78.8069,78.8017,78.7982,78.7947, 78.7912,78.7876,78.784,78.7804,78.7768, 78.7713,78.7676,78.76,78.7561,78.7523, 78.7484,78.7444,78.7404,78.7364,78.7323 ,78.7261,78.4705)
ORBIT_NUMBER = 17916
ORBITAL_ECCENTRICITY = 0.573
ORBITAL_INCLINATION = 86.98
ORBITAL_SEMIMAJOR_AXIS = 8800.21
PERIAPSIS_ALTITUDE = 371.52
PERIAPSIS_ARGUMENT_ANGLE = 132.39
PERIAPSIS_TIME = 2018-02-26T17:05:34.000Z
SPACECRAFT_ORIENTATION = (0.0,-1.0,0.0)
^MEX_ORIENTATION_DESC = "MEX_ORIENTATION_DESC.TXT"
SPACECRAFT_POINTING_MODE = ACROSSTRACK
^MEX_POINTING_DESC = "MEX_POINTING_DESC.TXT"
RIGHT_ASCENSION = -1e+32
DECLINATION = -1e+32
OFFSET_ANGLE = -0.728
SPACECRAFT_SOLAR_DISTANCE = 2.35475e+08
TARGET_NAME = MARS
/* CAMERA DATA ELEMENTS */
DETECTOR_TEMPERATURE = 18.3705
FOCAL_PLANE_TEMPERATURE = 8.3794
INST_CMPRS_NAME = "DISCRETE COSINE TRANSFORMATION (DCT)"
INST_CMPRS_RATIO = 6.92279
INST_CMPRS_QUALITY = 0
INST_CMPRS_QUANTZ_TBL_ID = 0
INSTRUMENT_TEMPERATURE = 11.4379
LENS_TEMPERATURE = 8.7872
MACROPIXEL_SIZE = 2
MISSING_FRAMES = 0
PIXEL_SUBSAMPLING_FLAG = N
SIGNAL_CHAIN_ID = 3
/* RADIOMETRIC DATA ELEMENTS */
BANDWIDTH = 174.0
CENTER_FILTER_WAVELENGTH = 675.0
RADIANCE_OFFSET = 2.35003
RADIANCE_SCALING_FACTOR = 0.0253016
REFLECTANCE_SCALING_FACTOR = 0.000754609
MEX:REFLECTANCE_OFFSET = 0.0700887
/* IMAGE OBJECT DEFINITIONS */
OBJECT = IMAGE
  INTERCHANGE_FORMAT = BINARY
  LINES = 21098
  LINE_SAMPLES = 4094
  SAMPLE_TYPE = UNSIGNED_INTEGER
  SAMPLE_BITS = 8
  BANDS = 1
  BAND_STORAGE_TYPE = BAND_SEQUENTIAL
  MAXIMUM = 255
  MEAN = 143.223
  MINIMUM = 1
  STANDARD_DEVIATION = 24.4622
END_OBJECT = IMAGE
/* MAP OBJECT DEFINITIONS */
OBJECT = IMAGE_MAP_PROJECTION
  ^DATA_SET_MAP_PROJECTION_CATALOG= "DSMAP.CAT"
  A_AXIS_RADIUS = 3396.0
  B_AXIS_RADIUS = 3396.0
  C_AXIS_RADIUS = 3396.0
  CENTER_LATITUDE = 0.0
  CENTER_LONGITUDE = 78.0
  COORDINATE_SYSTEM_NAME = PLANETOGRAPHIC
  COORDINATE_SYSTEM_TYPE = "BODY-FIXED ROTATING"
  EASTERNMOST_LONGITUDE = 78.8908
  FIRST_STANDARD_PARALLEL = "N/A"
  LINE_FIRST_PIXEL = 1
  LINE_LAST_PIXEL = 21098
  LINE_PROJECTION_OFFSET = 81546.25
  MAP_PROJECTION_ROTATION = 0.0
  MAP_PROJECTION_TYPE = SINUSOIDAL
  MAP_RESOLUTION = 2370.85521546667
  MAP_SCALE = 0.025
  MAXIMUM_LATITUDE = 34.4235
  MINIMUM_LATITUDE = 25.4861
  POSITIVE_LONGITUDE_DIRECTION = EAST
  REFERENCE_LATITUDE = "N/A"
  REFERENCE_LONGITUDE = "N/A"
  SAMPLE_FIRST_PIXEL = 1
  SAMPLE_LAST_PIXEL = 4094
  SAMPLE_PROJECTION_OFFSET = 2114.25
  SECOND_STANDARD_PARALLEL = "N/A"
  WESTERNMOST_LONGITUDE = 77.0159
END_OBJECT = IMAGE_MAP_PROJECTION
/* The JPEG2000 image data file associated with this label. */
OBJECT = COMPRESSED_FILE
  FILE_NAME = "HH916_0000_P13.JP2"
  RECORD_TYPE = UNDEFINED
  FILE_RECORDS = UNK
  ENCODING_TYPE = "JP2"
  INTERCHANGE_FORMAT = BINARY
  UNCOMPRESSED_FILE_NAME = "HH916_0000_P13.IMG"
  REQUIRED_STORAGE_BYTES = "86399776"
  ^DESCRIPTION = "JP2INFO.TXT"
END_OBJECT = COMPRESSED_FILE
END
