PDS_VERSION_ID = PDS3
/* FILE DATA ELEMENTS */
RECORD_TYPE = STREAM
/* POINTERS TO DATA OBJECTS */
^COMPRESSED_FILE = "HH921_0000_S13.JP2"
/* IDENTIFICATION DATA ELEMENTS */
DATA_SET_ID = "MEX-M-HRSC-5-REFDR-MAPPROJECTED-V3.0"
DATA_SET_NAME = "MARS EXPRESS HRSC MAP PROJECTED REFDR V3.0"
DETECTOR_ID = MEX_HRSC_S1
EVENT_TYPE = "MARS-REGIONAL-STEREO-Te-Gl-Pf"
INSTRUMENT_HOST_ID = MEX
INSTRUMENT_HOST_NAME = "MARS EXPRESS"
INSTRUMENT_ID = HRSC
INSTRUMENT_NAME = "HIGH RESOLUTION STEREO CAMERA"
MISSION_NAME = "MARS EXPRESS"
MISSION_PHASE_NAME = ME_Phase_38
PROCESSING_LEVEL_ID = 3
PRODUCT_CREATION_TIME = 2018-09-04T13:05:27.000Z
PRODUCT_ID = "HH921_0000_S13.JP2"
RELEASE_ID = 0140
REVISION_ID = 0000
/* QUALITY DATA ELEMENTS */
DATA_QUALITY_ID = 1
DATA_QUALITY_DESC = "Data calculated based on original SPICE kernels"
/* TIME DATA ELEMENTS */
SPACECRAFT_CLOCK_START_COUNT = "1/0467870300.08265"
SPACECRAFT_CLOCK_STOP_COUNT = "1/0467870557.32936"
START_TIME = 2018-02-28T03:58:29.475Z
STOP_TIME = 2018-02-28T04:01:35.477Z
/* ORBITAL DATA ELEMENTS */
ASCENDING_NODE_LONGITUDE = 237.69
MAXIMUM_RESOLUTION = 15.8
FOOTPRINT_POINT_LATITUDE = (53.7945,53.7835,53.7744,53.7612, 53.7487,53.734,53.5069,53.2746,52.9257, 52.693,52.46,52.2266,51.993,51.7589, 51.5253,51.1738,50.8218,50.5869,50.3517 ,50.1162,49.8831,49.6457,49.4108, 49.1735,48.9372,48.7035,48.4724,48.2342 ,47.8837,47.6447,47.4116,47.0571, 46.7018,46.4657,46.2283,45.9901,45.7528 ,45.5139,45.2734,44.9165,44.6779, 44.4395,44.2011,43.9623,43.6045,43.3658 ,43.1247,42.7631,42.5217,42.2808, 42.0413,41.8017,41.809,41.8179,41.8214, 41.9483,42.1872,42.5491,42.7906,43.0311 ,43.2692,43.5059,43.7492,44.1141, 44.3528,44.7116,44.9508,45.1914,45.551, 45.9046,46.1472,46.3847,46.6233,46.862, 47.1,47.338,47.6861,47.9222,48.1615, 48.5198,48.7587,48.9909,49.2304,49.4651 ,49.8159,50.0521,50.4065,50.6433, 50.9964,51.232,51.5851,51.8207,52.1722, 52.4066,52.6408,52.8744,53.1084,53.3421 ,53.5753,53.7945)
FOOTPRINT_POINT_LONGITUDE = (288.433,287.973,287.645,287.23,286.881 ,286.509,286.191,286.22,286.262,286.29, 286.317,286.343,286.369,286.394,286.419 ,286.456,286.491,286.515,286.537, 286.559,286.582,286.603,286.624,286.644 ,286.665,286.685,286.707,286.725, 286.755,286.773,286.792,286.819,286.844 ,286.861,286.877,286.893,286.909, 286.924,286.938,286.96,286.974,286.987, 287.001,287.014,287.034,287.046,287.058 ,287.074,287.085,287.096,287.107, 287.117,287.655,288.333,288.646,288.877 ,288.872,288.864,288.858,288.852, 288.848,288.844,288.836,288.825,288.82, 288.811,288.805,288.798,288.788,288.78, 288.771,288.765,288.758,288.751,288.744 ,288.736,288.73,288.723,288.714,288.701 ,288.692,288.686,288.677,288.669, 288.658,288.649,288.636,288.626,288.612 ,288.602,288.587,288.577,288.562, 288.551,288.54,288.53,288.519,288.507, 288.496,288.433)
ORBIT_NUMBER = 17921
ORBITAL_ECCENTRICITY = 0.573
ORBITAL_INCLINATION = 86.97
ORBITAL_SEMIMAJOR_AXIS = 8795.62
PERIAPSIS_ALTITUDE = 372.87
PERIAPSIS_ARGUMENT_ANGLE = 131.54
PERIAPSIS_TIME = 2018-02-28T04:00:27.000Z
SPACECRAFT_ORIENTATION = (0.0,-1.0,0.0)
^MEX_ORIENTATION_DESC = "MEX_ORIENTATION_DESC.TXT"
SPACECRAFT_POINTING_MODE = NADIR
^MEX_POINTING_DESC = "MEX_POINTING_DESC.TXT"
RIGHT_ASCENSION = -1e+32
DECLINATION = -1e+32
OFFSET_ANGLE = -1e+32
SPACECRAFT_SOLAR_DISTANCE = 2.35218e+08
TARGET_NAME = MARS
/* CAMERA DATA ELEMENTS */
DETECTOR_TEMPERATURE = 17.1471
FOCAL_PLANE_TEMPERATURE = 7.7677
INST_CMPRS_NAME = "DISCRETE COSINE TRANSFORMATION (DCT)"
INST_CMPRS_RATIO = 6.9828
INST_CMPRS_QUALITY = 0
INST_CMPRS_QUANTZ_TBL_ID = 0
INSTRUMENT_TEMPERATURE = 11.0301
LENS_TEMPERATURE = 8.5833
MACROPIXEL_SIZE = 1
MISSING_FRAMES = 0
PIXEL_SUBSAMPLING_FLAG = N
SIGNAL_CHAIN_ID = 2
/* RADIOMETRIC DATA ELEMENTS */
BANDWIDTH = 180.0
CENTER_FILTER_WAVELENGTH = 677.0
RADIANCE_OFFSET = 1.90813
RADIANCE_SCALING_FACTOR = 0.0336729
REFLECTANCE_SCALING_FACTOR = 0.000972
MEX:REFLECTANCE_OFFSET = 0.05508
/* IMAGE OBJECT DEFINITIONS */
OBJECT = IMAGE
  INTERCHANGE_FORMAT = BINARY
  LINES = 56591
  LINE_SAMPLES = 8325
  SAMPLE_TYPE = UNSIGNED_INTEGER
  SAMPLE_BITS = 8
  BANDS = 1
  BAND_STORAGE_TYPE = BAND_SEQUENTIAL
  MAXIMUM = 255
  MEAN = 112.973
  MINIMUM = 1
  STANDARD_DEVIATION = 33.3287
END_OBJECT = IMAGE
/* MAP OBJECT DEFINITIONS */
OBJECT = IMAGE_MAP_PROJECTION
  ^DATA_SET_MAP_PROJECTION_CATALOG= "DSMAP.CAT"
  A_AXIS_RADIUS = 3396.0
  B_AXIS_RADIUS = 3396.0
  C_AXIS_RADIUS = 3396.0
  CENTER_LATITUDE = 0.0
  CENTER_LONGITUDE = 288.0
  COORDINATE_SYSTEM_NAME = PLANETOGRAPHIC
  COORDINATE_SYSTEM_TYPE = "BODY-FIXED ROTATING"
  EASTERNMOST_LONGITUDE = 288.877
  FIRST_STANDARD_PARALLEL = "N/A"
  LINE_FIRST_PIXEL = 1
  LINE_LAST_PIXEL = 56591
  LINE_PROJECTION_OFFSET = 254708.0
  MAP_PROJECTION_ROTATION = 0.0
  MAP_PROJECTION_TYPE = SINUSOIDAL
  MAP_RESOLUTION = 4741.71043093333
  MAP_SCALE = 0.0125
  MAXIMUM_LATITUDE = 53.7945
  MINIMUM_LATITUDE = 41.8017
  POSITIVE_LONGITUDE_DIRECTION = EAST
  REFERENCE_LATITUDE = "N/A"
  REFERENCE_LONGITUDE = "N/A"
  SAMPLE_FIRST_PIXEL = 1
  SAMPLE_LAST_PIXEL = 8325
  SAMPLE_PROJECTION_OFFSET = 5098.0
  SECOND_STANDARD_PARALLEL = "N/A"
  WESTERNMOST_LONGITUDE = 286.191
END_OBJECT = IMAGE_MAP_PROJECTION
/* The JPEG2000 image data file associated with this label. */
OBJECT = COMPRESSED_FILE
  FILE_NAME = "HH921_0000_S13.JP2"
  RECORD_TYPE = UNDEFINED
  FILE_RECORDS = UNK
  ENCODING_TYPE = "JP2"
  INTERCHANGE_FORMAT = BINARY
  UNCOMPRESSED_FILE_NAME = "HH921_0000_S13.IMG"
  REQUIRED_STORAGE_BYTES = "471153375"
  ^DESCRIPTION = "JP2INFO.TXT"
END_OBJECT = COMPRESSED_FILE
END
