PDS_VERSION_ID = PDS3
/* FILE DATA ELEMENTS */
RECORD_TYPE = STREAM
/* POINTERS TO DATA OBJECTS */
^COMPRESSED_FILE = "HH923_0000_IR3.JP2"
/* IDENTIFICATION DATA ELEMENTS */
DATA_SET_ID = "MEX-M-HRSC-5-REFDR-MAPPROJECTED-V3.0"
DATA_SET_NAME = "MARS EXPRESS HRSC MAP PROJECTED REFDR V3.0"
DETECTOR_ID = MEX_HRSC_IR
EVENT_TYPE = "MARS-REGIONAL-MAPPING-Vo-Im-Pf"
INSTRUMENT_HOST_ID = MEX
INSTRUMENT_HOST_NAME = "MARS EXPRESS"
INSTRUMENT_ID = HRSC
INSTRUMENT_NAME = "HIGH RESOLUTION STEREO CAMERA"
MISSION_NAME = "MARS EXPRESS"
MISSION_PHASE_NAME = ME_Phase_38
PROCESSING_LEVEL_ID = 3
PRODUCT_CREATION_TIME = 2018-09-04T13:05:27.000Z
PRODUCT_ID = "HH923_0000_IR3.JP2"
RELEASE_ID = 0140
REVISION_ID = 0000
/* QUALITY DATA ELEMENTS */
DATA_QUALITY_ID = 1
DATA_QUALITY_DESC = "Data calculated based on original SPICE kernels"
/* TIME DATA ELEMENTS */
SPACECRAFT_CLOCK_START_COUNT = "1/0467920594.09052"
SPACECRAFT_CLOCK_STOP_COUNT = "1/0467920848.39563"
START_TIME = 2018-02-28T17:56:49.699Z
STOP_TIME = 2018-02-28T17:59:51.805Z
/* ORBITAL DATA ELEMENTS */
ASCENDING_NODE_LONGITUDE = 237.65
MAXIMUM_RESOLUTION = 62.5
FOOTPRINT_POINT_LATITUDE = (52.7319,52.7196,52.7071,52.6963, 52.6814,52.477,52.2479,52.0185,51.7885, 51.4435,51.2135,50.868,50.5221,50.1761, 49.9453,49.7134,49.3663,49.0188,48.787, 48.555,48.3227,48.0905,47.7423,47.5095, 47.1607,46.9273,46.5778,46.3448,46.1113 ,45.7611,45.5275,45.294,45.0606,44.8269 ,44.5927,44.3585,44.1245,43.8899, 43.6556,43.4209,43.1868,42.952,42.7173, 42.4829,42.2479,42.0134,41.7784,41.5433 ,41.1911,40.9561,40.9283,40.9363,40.945 ,40.9491,41.0719,41.3074,41.543,41.7786 ,42.0138,42.2493,42.4844,42.7202, 42.9552,43.1903,43.5429,43.7779,44.0127 ,44.2477,44.4823,44.7171,44.9516, 45.3032,45.5372,45.7716,46.006,46.2399, 46.5908,46.9414,47.1752,47.4087,47.6418 ,47.9917,48.3414,48.5744,48.9235, 49.1562,49.5045,49.7367,49.9691,50.3171 ,50.5492,50.7806,51.1274,51.3585, 51.5895,51.9356,52.1661,52.3968,52.6267 ,52.7319)
FOOTPRINT_POINT_LONGITUDE = (83.9683,83.4941,83.0794,82.7639, 82.3693,82.1215,82.1471,82.1721,82.1966 ,82.2325,82.256,82.2903,82.3237,82.3562 ,82.3774,82.3978,82.4281,82.4575, 82.4766,82.4954,82.5136,82.5317,82.5583 ,82.5753,82.6005,82.6165,82.6403, 82.6559,82.6709,82.693,82.7072,82.7214, 82.7352,82.7487,82.7617,82.7745,82.7871 ,82.7991,82.8111,82.8226,82.8342, 82.8452,82.8561,82.8668,82.877,82.8872, 82.897,82.9065,82.9205,82.9295,83.192, 83.5364,84.0121,84.3076,84.6882,84.6833 ,84.6782,84.6731,84.668,84.6626,84.6574 ,84.6517,84.6463,84.6407,84.6321, 84.6262,84.6203,84.6142,84.6081,84.6018 ,84.5955,84.5859,84.5795,84.5727, 84.5658,84.559,84.5484,84.5377,84.5303, 84.5228,84.5153,84.5037,84.4918,84.4837 ,84.4713,84.4629,84.4502,84.4414, 84.4323,84.4187,84.4092,84.3999,84.3857 ,84.376,84.366,84.3509,84.3406,84.33, 84.3195,83.9683)
ORBIT_NUMBER = 17923
ORBITAL_ECCENTRICITY = 0.573
ORBITAL_INCLINATION = 86.98
ORBITAL_SEMIMAJOR_AXIS = 8798.43
PERIAPSIS_ALTITUDE = 372.21
PERIAPSIS_ARGUMENT_ANGLE = 131.17
PERIAPSIS_TIME = 2018-02-28T17:58:19.000Z
SPACECRAFT_ORIENTATION = (0.0,-1.0,0.0)
^MEX_ORIENTATION_DESC = "MEX_ORIENTATION_DESC.TXT"
SPACECRAFT_POINTING_MODE = NADIR
^MEX_POINTING_DESC = "MEX_POINTING_DESC.TXT"
RIGHT_ASCENSION = -1e+32
DECLINATION = -1e+32
OFFSET_ANGLE = -1e+32
SPACECRAFT_SOLAR_DISTANCE = 2.35115e+08
TARGET_NAME = MARS
/* CAMERA DATA ELEMENTS */
DETECTOR_TEMPERATURE = 19.39
FOCAL_PLANE_TEMPERATURE = 10.2145
INST_CMPRS_NAME = "DISCRETE COSINE TRANSFORMATION (DCT)"
INST_CMPRS_RATIO = 11.1857
INST_CMPRS_QUALITY = 0
INST_CMPRS_QUANTZ_TBL_ID = 0
INSTRUMENT_TEMPERATURE = 12.2535
LENS_TEMPERATURE = 10.4184
MACROPIXEL_SIZE = 4
MISSING_FRAMES = 0
PIXEL_SUBSAMPLING_FLAG = N
SIGNAL_CHAIN_ID = 2
/* RADIOMETRIC DATA ELEMENTS */
BANDWIDTH = 81.0
CENTER_FILTER_WAVELENGTH = 955.5
RADIANCE_OFFSET = 0.416083
RADIANCE_SCALING_FACTOR = 0.00483682
REFLECTANCE_SCALING_FACTOR = 0.00057683
MEX:REFLECTANCE_OFFSET = 0.0496213
/* IMAGE OBJECT DEFINITIONS */
OBJECT = IMAGE
  INTERCHANGE_FORMAT = BINARY
  LINES = 13920
  LINE_SAMPLES = 2016
  SAMPLE_TYPE = UNSIGNED_INTEGER
  SAMPLE_BITS = 8
  BANDS = 1
  BAND_STORAGE_TYPE = BAND_SEQUENTIAL
  MAXIMUM = 255
  MEAN = 102.577
  MINIMUM = 1
  STANDARD_DEVIATION = 32.4334
END_OBJECT = IMAGE
/* MAP OBJECT DEFINITIONS */
OBJECT = IMAGE_MAP_PROJECTION
  ^DATA_SET_MAP_PROJECTION_CATALOG= "DSMAP.CAT"
  A_AXIS_RADIUS = 3396.0
  B_AXIS_RADIUS = 3396.0
  C_AXIS_RADIUS = 3396.0
  CENTER_LATITUDE = 0.0
  CENTER_LONGITUDE = 84.0
  COORDINATE_SYSTEM_NAME = PLANETOGRAPHIC
  COORDINATE_SYSTEM_TYPE = "BODY-FIXED ROTATING"
  EASTERNMOST_LONGITUDE = 84.68819999999999
  FIRST_STANDARD_PARALLEL = "N/A"
  LINE_FIRST_PIXEL = 1
  LINE_LAST_PIXEL = 13920
  LINE_PROJECTION_OFFSET = 62447.875
  MAP_PROJECTION_ROTATION = 0.0
  MAP_PROJECTION_TYPE = SINUSOIDAL
  MAP_RESOLUTION = 1185.42760773333
  MAP_SCALE = 0.05
  MAXIMUM_LATITUDE = 52.7319
  MINIMUM_LATITUDE = 40.9283
  POSITIVE_LONGITUDE_DIRECTION = EAST
  REFERENCE_LATITUDE = "N/A"
  REFERENCE_LONGITUDE = "N/A"
  SAMPLE_FIRST_PIXEL = 1
  SAMPLE_LAST_PIXEL = 2016
  SAMPLE_PROJECTION_OFFSET = 1369.375
  SECOND_STANDARD_PARALLEL = "N/A"
  WESTERNMOST_LONGITUDE = 82.1215
END_OBJECT = IMAGE_MAP_PROJECTION
/* The JPEG2000 image data file associated with this label. */
OBJECT = COMPRESSED_FILE
  FILE_NAME = "HH923_0000_IR3.JP2"
  RECORD_TYPE = UNDEFINED
  FILE_RECORDS = UNK
  ENCODING_TYPE = "JP2"
  INTERCHANGE_FORMAT = BINARY
  UNCOMPRESSED_FILE_NAME = "HH923_0000_IR3.IMG"
  REQUIRED_STORAGE_BYTES = "28082880"
  ^DESCRIPTION = "JP2INFO.TXT"
END_OBJECT = COMPRESSED_FILE
END
