PDS_VERSION_ID = PDS3
/* FILE DATA ELEMENTS */
RECORD_TYPE = STREAM
/* POINTERS TO DATA OBJECTS */
^COMPRESSED_FILE = "HH923_0000_P13.JP2"
/* IDENTIFICATION DATA ELEMENTS */
DATA_SET_ID = "MEX-M-HRSC-5-REFDR-MAPPROJECTED-V3.0"
DATA_SET_NAME = "MARS EXPRESS HRSC MAP PROJECTED REFDR V3.0"
DETECTOR_ID = MEX_HRSC_P1
EVENT_TYPE = "MARS-REGIONAL-MAPPING-Vo-Im-Pf"
INSTRUMENT_HOST_ID = MEX
INSTRUMENT_HOST_NAME = "MARS EXPRESS"
INSTRUMENT_ID = HRSC
INSTRUMENT_NAME = "HIGH RESOLUTION STEREO CAMERA"
MISSION_NAME = "MARS EXPRESS"
MISSION_PHASE_NAME = ME_Phase_38
PROCESSING_LEVEL_ID = 3
PRODUCT_CREATION_TIME = 2018-09-04T13:05:27.000Z
PRODUCT_ID = "HH923_0000_P13.JP2"
RELEASE_ID = 0140
REVISION_ID = 0000
/* QUALITY DATA ELEMENTS */
DATA_QUALITY_ID = 1
DATA_QUALITY_DESC = "Data calculated based on original SPICE kernels"
/* TIME DATA ELEMENTS */
SPACECRAFT_CLOCK_START_COUNT = "1/0467920594.09052"
SPACECRAFT_CLOCK_STOP_COUNT = "1/0467920848.39563"
START_TIME = 2018-02-28T17:56:55.512Z
STOP_TIME = 2018-02-28T17:59:57.753Z
/* ORBITAL DATA ELEMENTS */
ASCENDING_NODE_LONGITUDE = 237.65
MAXIMUM_RESOLUTION = 30.8
FOOTPRINT_POINT_LATITUDE = (52.7319,52.7212,52.7056,52.6946, 52.6841,52.6072,52.2623,52.0319,51.8012 ,51.5705,51.2242,50.8777,50.6465, 50.4152,50.0682,49.8362,49.6039,49.372, 49.1399,48.7915,48.5592,48.3264,48.0938 ,47.8615,47.6285,47.3955,47.1627, 46.9292,46.6959,46.4627,46.2292,45.9956 ,45.762,45.5284,45.1781,44.9444,44.7107 ,44.4764,44.2423,43.891,43.6568,43.4224 ,43.1884,42.9539,42.7193,42.4852, 42.2507,41.8992,41.5472,41.1955,40.9609 ,40.9252,40.93,40.9374,40.941,40.9457, 41.0668,41.3017,41.537,41.7721,42.007, 42.2422,42.4771,42.7124,42.9471,43.1821 ,43.4169,43.6517,44.0039,44.2387, 44.5906,44.8252,45.0596,45.4113,45.7627 ,45.9971,46.2312,46.5824,46.9333, 47.1672,47.5178,47.7514,48.1016,48.4518 ,48.6851,49.0349,49.268,49.617,49.8497, 50.0826,50.315,50.5477,50.7798,51.1277, 51.4754,51.823,52.0544,52.2858,52.5168, 52.7319)
FOOTPRINT_POINT_LONGITUDE = (84.0551,83.6248,83.0922,82.7649, 82.4784,82.1037,82.1423,82.1674,82.1918 ,82.2159,82.2513,82.2856,82.308,82.33, 82.3623,82.383,82.4032,82.4234,82.4431, 82.4718,82.4906,82.5088,82.5268,82.5447 ,82.5619,82.5787,82.5954,82.6114, 82.6273,82.6429,82.6581,82.6729,82.6875 ,82.7018,82.7227,82.7364,82.7496, 82.7624,82.7749,82.7932,82.8051,82.8166 ,82.8281,82.839,82.8497,82.8604,82.8706 ,82.8856,82.8998,82.9137,82.9225, 83.2315,83.4367,83.8297,84.052,84.3942, 84.6889,84.684,84.6787,84.6735,84.6684, 84.6629,84.6576,84.6518,84.6464,84.6406 ,84.6349,84.629,84.62,84.6138,84.6045, 84.5981,84.5917,84.5818,84.5717,84.5647 ,84.5578,84.5471,84.5361,84.5286, 84.5172,84.5095,84.4977,84.4854,84.4771 ,84.4644,84.4557,84.4428,84.4338, 84.4245,84.4153,84.4056,84.3961,84.3817 ,84.3667,84.3513,84.341,84.3303,84.3197 ,84.0551)
ORBIT_NUMBER = 17923
ORBITAL_ECCENTRICITY = 0.573
ORBITAL_INCLINATION = 86.98
ORBITAL_SEMIMAJOR_AXIS = 8798.43
PERIAPSIS_ALTITUDE = 372.21
PERIAPSIS_ARGUMENT_ANGLE = 131.17
PERIAPSIS_TIME = 2018-02-28T17:58:19.000Z
SPACECRAFT_ORIENTATION = (0.0,-1.0,0.0)
^MEX_ORIENTATION_DESC = "MEX_ORIENTATION_DESC.TXT"
SPACECRAFT_POINTING_MODE = NADIR
^MEX_POINTING_DESC = "MEX_POINTING_DESC.TXT"
RIGHT_ASCENSION = -1e+32
DECLINATION = -1e+32
OFFSET_ANGLE = -1e+32
SPACECRAFT_SOLAR_DISTANCE = 2.35115e+08
TARGET_NAME = MARS
/* CAMERA DATA ELEMENTS */
DETECTOR_TEMPERATURE = 19.39
FOCAL_PLANE_TEMPERATURE = 10.2145
INST_CMPRS_NAME = "DISCRETE COSINE TRANSFORMATION (DCT)"
INST_CMPRS_RATIO = 9.20391
INST_CMPRS_QUALITY = 0
INST_CMPRS_QUANTZ_TBL_ID = 0
INSTRUMENT_TEMPERATURE = 12.2535
LENS_TEMPERATURE = 10.4184
MACROPIXEL_SIZE = 2
MISSING_FRAMES = 0
PIXEL_SUBSAMPLING_FLAG = N
SIGNAL_CHAIN_ID = 3
/* RADIOMETRIC DATA ELEMENTS */
BANDWIDTH = 174.0
CENTER_FILTER_WAVELENGTH = 675.0
RADIANCE_OFFSET = 2.18255
RADIANCE_SCALING_FACTOR = 0.0173083
REFLECTANCE_SCALING_FACTOR = 0.000514635
MEX:REFLECTANCE_OFFSET = 0.064895
/* IMAGE OBJECT DEFINITIONS */
OBJECT = IMAGE
  INTERCHANGE_FORMAT = BINARY
  LINES = 27840
  LINE_SAMPLES = 4032
  SAMPLE_TYPE = UNSIGNED_INTEGER
  SAMPLE_BITS = 8
  BANDS = 1
  BAND_STORAGE_TYPE = BAND_SEQUENTIAL
  MAXIMUM = 255
  MEAN = 106.491
  MINIMUM = 1
  STANDARD_DEVIATION = 27.838
END_OBJECT = IMAGE
/* MAP OBJECT DEFINITIONS */
OBJECT = IMAGE_MAP_PROJECTION
  ^DATA_SET_MAP_PROJECTION_CATALOG= "DSMAP.CAT"
  A_AXIS_RADIUS = 3396.0
  B_AXIS_RADIUS = 3396.0
  C_AXIS_RADIUS = 3396.0
  CENTER_LATITUDE = 0.0
  CENTER_LONGITUDE = 84.0
  COORDINATE_SYSTEM_NAME = PLANETOGRAPHIC
  COORDINATE_SYSTEM_TYPE = "BODY-FIXED ROTATING"
  EASTERNMOST_LONGITUDE = 84.6889
  FIRST_STANDARD_PARALLEL = "N/A"
  LINE_FIRST_PIXEL = 1
  LINE_LAST_PIXEL = 27840
  LINE_PROJECTION_OFFSET = 124896.25
  MAP_PROJECTION_ROTATION = 0.0
  MAP_PROJECTION_TYPE = SINUSOIDAL
  MAP_RESOLUTION = 2370.85521546667
  MAP_SCALE = 0.025
  MAXIMUM_LATITUDE = 52.7319
  MINIMUM_LATITUDE = 40.9252
  POSITIVE_LONGITUDE_DIRECTION = EAST
  REFERENCE_LATITUDE = "N/A"
  REFERENCE_LONGITUDE = "N/A"
  SAMPLE_FIRST_PIXEL = 1
  SAMPLE_LAST_PIXEL = 4032
  SAMPLE_PROJECTION_OFFSET = 2739.25
  SECOND_STANDARD_PARALLEL = "N/A"
  WESTERNMOST_LONGITUDE = 82.1037
END_OBJECT = IMAGE_MAP_PROJECTION
/* The JPEG2000 image data file associated with this label. */
OBJECT = COMPRESSED_FILE
  FILE_NAME = "HH923_0000_P13.JP2"
  RECORD_TYPE = UNDEFINED
  FILE_RECORDS = UNK
  ENCODING_TYPE = "JP2"
  INTERCHANGE_FORMAT = BINARY
  UNCOMPRESSED_FILE_NAME = "HH923_0000_P13.IMG"
  REQUIRED_STORAGE_BYTES = "112275072"
  ^DESCRIPTION = "JP2INFO.TXT"
END_OBJECT = COMPRESSED_FILE
END
