PDS_VERSION_ID = PDS3
/* FILE DATA ELEMENTS */
RECORD_TYPE = STREAM
/* POINTERS TO DATA OBJECTS */
^COMPRESSED_FILE = "HH923_0000_P23.JP2"
/* IDENTIFICATION DATA ELEMENTS */
DATA_SET_ID = "MEX-M-HRSC-5-REFDR-MAPPROJECTED-V3.0"
DATA_SET_NAME = "MARS EXPRESS HRSC MAP PROJECTED REFDR V3.0"
DETECTOR_ID = MEX_HRSC_P2
EVENT_TYPE = "MARS-REGIONAL-MAPPING-Vo-Im-Pf"
INSTRUMENT_HOST_ID = MEX
INSTRUMENT_HOST_NAME = "MARS EXPRESS"
INSTRUMENT_ID = HRSC
INSTRUMENT_NAME = "HIGH RESOLUTION STEREO CAMERA"
MISSION_NAME = "MARS EXPRESS"
MISSION_PHASE_NAME = ME_Phase_38
PROCESSING_LEVEL_ID = 3
PRODUCT_CREATION_TIME = 2018-09-04T13:05:27.000Z
PRODUCT_ID = "HH923_0000_P23.JP2"
RELEASE_ID = 0140
REVISION_ID = 0000
/* QUALITY DATA ELEMENTS */
DATA_QUALITY_ID = 1
DATA_QUALITY_DESC = "Data calculated based on original SPICE kernels"
/* TIME DATA ELEMENTS */
SPACECRAFT_CLOCK_START_COUNT = "1/0467920594.09052"
SPACECRAFT_CLOCK_STOP_COUNT = "1/0467920848.39563"
START_TIME = 2018-02-28T17:57:40.475Z
STOP_TIME = 2018-02-28T18:00:43.473Z
/* ORBITAL DATA ELEMENTS */
ASCENDING_NODE_LONGITUDE = 237.65
MAXIMUM_RESOLUTION = 30.9
FOOTPRINT_POINT_LATITUDE = (52.632,52.6228,52.6164,52.6073,52.5982 ,52.5878,52.4057,52.1703,51.9352, 51.7004,51.4654,51.2305,50.9956,50.7608 ,50.526,50.1738,49.939,49.7051,49.4708, 49.2364,49.0021,48.768,48.5339,48.3002, 48.0663,47.8321,47.5986,47.3652,47.1315 ,46.8985,46.6653,46.4323,46.0829, 45.8503,45.6175,45.3851,45.1526,44.9201 ,44.6879,44.4563,44.1087,43.7618, 43.5306,43.2997,42.9532,42.6075,42.3768 ,42.1466,41.9164,41.6866,41.3422, 40.9981,40.9613,40.9668,40.9708,40.9752 ,40.9777,40.9823,40.9858,41.3306, 41.6756,42.0215,42.2519,42.4831,42.7137 ,42.9452,43.2924,43.5239,43.8718, 44.1037,44.4522,44.801,45.0336,45.2666, 45.4999,45.7329,46.0828,46.3162,46.6669 ,47.0176,47.2515,47.603,47.9546,48.189, 48.4235,48.7757,49.0104,49.3631,49.5982 ,49.9508,50.1862,50.539,50.8927,51.1283 ,51.364,51.7176,52.0718,52.4258,52.662, 52.632)
FOOTPRINT_POINT_LONGITUDE = (84.0298,83.6451,83.4022,83.0784, 82.7752,82.4515,82.1328,82.158,82.1825, 82.2063,82.2298,82.2529,82.2754,82.2976 ,82.3193,82.3511,82.3718,82.3915, 82.4111,82.4305,82.4493,82.4678,82.4859 ,82.5035,82.5208,82.5381,82.5545, 82.5707,82.5867,82.602,82.6171,82.6319, 82.6535,82.6674,82.6812,82.6945,82.7076 ,82.7205,82.733,82.7449,82.7626,82.7794 ,82.7903,82.8008,82.8164,82.8311, 82.8409,82.8502,82.8594,82.8681,82.8809 ,82.8932,83.0878,83.4049,83.6159, 83.8975,84.0737,84.4433,84.7143,84.706, 84.6974,84.6889,84.6829,84.677,84.6707, 84.6647,84.6553,84.6488,84.6391,84.6323 ,84.6222,84.6118,84.6047,84.5976, 84.5904,84.5829,84.5715,84.5638,84.5521 ,84.5399,84.5316,84.5192,84.5063, 84.4975,84.4885,84.4749,84.4655,84.4514 ,84.4417,84.4268,84.4167,84.401,84.3854 ,84.3746,84.3636,84.3467,84.3297, 84.3119,84.3,84.0298)
ORBIT_NUMBER = 17923
ORBITAL_ECCENTRICITY = 0.573
ORBITAL_INCLINATION = 86.98
ORBITAL_SEMIMAJOR_AXIS = 8798.43
PERIAPSIS_ALTITUDE = 372.21
PERIAPSIS_ARGUMENT_ANGLE = 131.17
PERIAPSIS_TIME = 2018-02-28T17:58:19.000Z
SPACECRAFT_ORIENTATION = (0.0,-1.0,0.0)
^MEX_ORIENTATION_DESC = "MEX_ORIENTATION_DESC.TXT"
SPACECRAFT_POINTING_MODE = NADIR
^MEX_POINTING_DESC = "MEX_POINTING_DESC.TXT"
RIGHT_ASCENSION = -1e+32
DECLINATION = -1e+32
OFFSET_ANGLE = -1e+32
SPACECRAFT_SOLAR_DISTANCE = 2.35115e+08
TARGET_NAME = MARS
/* CAMERA DATA ELEMENTS */
DETECTOR_TEMPERATURE = 19.1861
FOCAL_PLANE_TEMPERATURE = 10.2145
INST_CMPRS_NAME = "DISCRETE COSINE TRANSFORMATION (DCT)"
INST_CMPRS_RATIO = 7.37098
INST_CMPRS_QUALITY = 0
INST_CMPRS_QUANTZ_TBL_ID = 0
INSTRUMENT_TEMPERATURE = 12.2535
LENS_TEMPERATURE = 10.4184
MACROPIXEL_SIZE = 2
MISSING_FRAMES = 0
PIXEL_SUBSAMPLING_FLAG = N
SIGNAL_CHAIN_ID = 3
/* RADIOMETRIC DATA ELEMENTS */
BANDWIDTH = 177.0
CENTER_FILTER_WAVELENGTH = 676.5
RADIANCE_OFFSET = 2.23637
RADIANCE_SCALING_FACTOR = 0.0167938
REFLECTANCE_SCALING_FACTOR = 0.000492229
MEX:REFLECTANCE_OFFSET = 0.0655485
/* IMAGE OBJECT DEFINITIONS */
OBJECT = IMAGE
  INTERCHANGE_FORMAT = BINARY
  LINES = 27840
  LINE_SAMPLES = 4032
  SAMPLE_TYPE = UNSIGNED_INTEGER
  SAMPLE_BITS = 8
  BANDS = 1
  BAND_STORAGE_TYPE = BAND_SEQUENTIAL
  MAXIMUM = 255
  MEAN = 108.693
  MINIMUM = 1
  STANDARD_DEVIATION = 28.3392
END_OBJECT = IMAGE
/* MAP OBJECT DEFINITIONS */
OBJECT = IMAGE_MAP_PROJECTION
  ^DATA_SET_MAP_PROJECTION_CATALOG= "DSMAP.CAT"
  A_AXIS_RADIUS = 3396.0
  B_AXIS_RADIUS = 3396.0
  C_AXIS_RADIUS = 3396.0
  CENTER_LATITUDE = 0.0
  CENTER_LONGITUDE = 84.0
  COORDINATE_SYSTEM_NAME = PLANETOGRAPHIC
  COORDINATE_SYSTEM_TYPE = "BODY-FIXED ROTATING"
  EASTERNMOST_LONGITUDE = 84.71429999999999
  FIRST_STANDARD_PARALLEL = "N/A"
  LINE_FIRST_PIXEL = 1
  LINE_LAST_PIXEL = 27840
  LINE_PROJECTION_OFFSET = 124896.25
  MAP_PROJECTION_ROTATION = 0.0
  MAP_PROJECTION_TYPE = SINUSOIDAL
  MAP_RESOLUTION = 2370.85521546667
  MAP_SCALE = 0.025
  MAXIMUM_LATITUDE = 52.662
  MINIMUM_LATITUDE = 40.9613
  POSITIVE_LONGITUDE_DIRECTION = EAST
  REFERENCE_LATITUDE = "N/A"
  REFERENCE_LONGITUDE = "N/A"
  SAMPLE_FIRST_PIXEL = 1
  SAMPLE_LAST_PIXEL = 4032
  SAMPLE_PROJECTION_OFFSET = 2739.25
  SECOND_STANDARD_PARALLEL = "N/A"
  WESTERNMOST_LONGITUDE = 82.1328
END_OBJECT = IMAGE_MAP_PROJECTION
/* The JPEG2000 image data file associated with this label. */
OBJECT = COMPRESSED_FILE
  FILE_NAME = "HH923_0000_P23.JP2"
  RECORD_TYPE = UNDEFINED
  FILE_RECORDS = UNK
  ENCODING_TYPE = "JP2"
  INTERCHANGE_FORMAT = BINARY
  UNCOMPRESSED_FILE_NAME = "HH923_0000_P23.IMG"
  REQUIRED_STORAGE_BYTES = "112275072"
  ^DESCRIPTION = "JP2INFO.TXT"
END_OBJECT = COMPRESSED_FILE
END
