PDS_VERSION_ID = PDS3
/* FILE DATA ELEMENTS */
RECORD_TYPE = STREAM
/* POINTERS TO DATA OBJECTS */
^COMPRESSED_FILE = "HH924_0000_S13.JP2"
/* IDENTIFICATION DATA ELEMENTS */
DATA_SET_ID = "MEX-M-HRSC-5-REFDR-MAPPROJECTED-V3.0"
DATA_SET_NAME = "MARS EXPRESS HRSC MAP PROJECTED REFDR V3.0"
DETECTOR_ID = MEX_HRSC_S1
EVENT_TYPE = "MARS-REGIONAL-MAPPING-Vo-Im-Pf"
INSTRUMENT_HOST_ID = MEX
INSTRUMENT_HOST_NAME = "MARS EXPRESS"
INSTRUMENT_ID = HRSC
INSTRUMENT_NAME = "HIGH RESOLUTION STEREO CAMERA"
MISSION_NAME = "MARS EXPRESS"
MISSION_PHASE_NAME = ME_Phase_38
PROCESSING_LEVEL_ID = 3
PRODUCT_CREATION_TIME = 2018-09-04T13:05:27.000Z
PRODUCT_ID = "HH924_0000_S13.JP2"
RELEASE_ID = 0140
REVISION_ID = 0000
/* QUALITY DATA ELEMENTS */
DATA_QUALITY_ID = 1
DATA_QUALITY_DESC = "Data calculated based on original SPICE kernels"
/* TIME DATA ELEMENTS */
SPACECRAFT_CLOCK_START_COUNT = "1/0467945806.44378"
SPACECRAFT_CLOCK_STOP_COUNT = "1/0467946017.31270"
START_TIME = 2018-03-01T00:56:56.000Z
STOP_TIME = 2018-03-01T00:59:09.097Z
/* ORBITAL DATA ELEMENTS */
ASCENDING_NODE_LONGITUDE = 237.64
MAXIMUM_RESOLUTION = 32
FOOTPRINT_POINT_LATITUDE = (48.0232,48.0165,48.0102,48.0003, 47.9917,47.9763,47.6214,47.3666,47.1966 ,47.0268,46.8571,46.6873,46.5173, 46.3469,46.1768,46.0067,45.8364,45.6658 ,45.41,45.2394,44.9834,44.8129,44.6422, 44.4713,44.3006,44.0439,43.8727,43.7017 ,43.5304,43.3593,43.188,43.0167,42.8453 ,42.6738,42.5024,42.3307,42.159,41.9873 ,41.8153,41.6437,41.3862,41.1285, 40.8706,40.6986,40.5267,40.3546,40.0964 ,39.9243,39.6662,39.494,39.292,39.3001, 39.3073,39.3118,39.3168,39.3213,39.5796 ,39.8383,40.0109,40.1832,40.442,40.6145 ,40.7868,41.0453,41.2176,41.4759, 41.6481,41.8203,41.9924,42.1645,42.3365 ,42.5088,42.6804,42.8522,43.11,43.2818, 43.4533,43.625,43.8826,44.054,44.3111, 44.4825,44.6538,44.9108,45.0821,45.2532 ,45.4242,45.6807,45.8517,46.0225, 46.2785,46.4489,46.6194,46.8755,47.0462 ,47.2166,47.3869,47.5572,47.8123, 48.0232)
FOOTPRINT_POINT_LONGITUDE = (342.361,341.993,341.7,341.314,341.021, 340.562,340.447,340.466,340.478,340.49, 340.502,340.514,340.525,340.536,340.547 ,340.558,340.569,340.58,340.595,340.606 ,340.621,340.631,340.64,340.65,340.659, 340.673,340.682,340.691,340.699,340.708 ,340.716,340.724,340.733,340.74,340.748 ,340.756,340.763,340.771,340.778, 340.785,340.796,340.806,340.816,340.822 ,340.828,340.834,340.843,340.849, 340.858,340.863,340.937,341.259,341.582 ,341.836,342.175,342.622,342.618, 342.613,342.61,342.607,342.602,342.598, 342.595,342.589,342.586,342.58,342.577, 342.573,342.569,342.565,342.562,342.558 ,342.554,342.55,342.544,342.54,342.536, 342.532,342.525,342.521,342.514,342.51, 342.505,342.499,342.494,342.489,342.485 ,342.477,342.472,342.468,342.46,342.455 ,342.45,342.442,342.437,342.432,342.426 ,342.421,342.412,342.361)
ORBIT_NUMBER = 17924
ORBITAL_ECCENTRICITY = 0.572
ORBITAL_INCLINATION = 86.98
ORBITAL_SEMIMAJOR_AXIS = 8790.5
PERIAPSIS_ALTITUDE = 373.26
PERIAPSIS_ARGUMENT_ANGLE = 130.99
PERIAPSIS_TIME = 2018-03-01T00:57:14.000Z
SPACECRAFT_ORIENTATION = (0.0,-1.0,0.0)
^MEX_ORIENTATION_DESC = "MEX_ORIENTATION_DESC.TXT"
SPACECRAFT_POINTING_MODE = NADIR
^MEX_POINTING_DESC = "MEX_POINTING_DESC.TXT"
RIGHT_ASCENSION = -1e+32
DECLINATION = -1e+32
OFFSET_ANGLE = -1e+32
SPACECRAFT_SOLAR_DISTANCE = 2.35063e+08
TARGET_NAME = MARS
/* CAMERA DATA ELEMENTS */
DETECTOR_TEMPERATURE = 0.0
FOCAL_PLANE_TEMPERATURE = 0.0
INST_CMPRS_NAME = "DISCRETE COSINE TRANSFORMATION (DCT)"
INST_CMPRS_RATIO = 10.1036
INST_CMPRS_QUALITY = 0
INST_CMPRS_QUANTZ_TBL_ID = 0
INSTRUMENT_TEMPERATURE = 0.0
LENS_TEMPERATURE = 0.0
MACROPIXEL_SIZE = 2
MISSING_FRAMES = 0
PIXEL_SUBSAMPLING_FLAG = N
SIGNAL_CHAIN_ID = 1
/* RADIOMETRIC DATA ELEMENTS */
BANDWIDTH = 180.0
CENTER_FILTER_WAVELENGTH = 677.0
RADIANCE_OFFSET = 2.45963
RADIANCE_SCALING_FACTOR = 0.0129339
REFLECTANCE_SCALING_FACTOR = 0.000372855
MEX:REFLECTANCE_OFFSET = 0.0709056
/* IMAGE OBJECT DEFINITIONS */
OBJECT = IMAGE
  INTERCHANGE_FORMAT = BINARY
  LINES = 15239
  LINE_SAMPLES = 3551
  SAMPLE_TYPE = UNSIGNED_INTEGER
  SAMPLE_BITS = 8
  BANDS = 1
  BAND_STORAGE_TYPE = BAND_SEQUENTIAL
  MAXIMUM = 252
  MEAN = 86.4683
  MINIMUM = 1
  STANDARD_DEVIATION = 24.0647
END_OBJECT = IMAGE
/* MAP OBJECT DEFINITIONS */
OBJECT = IMAGE_MAP_PROJECTION
  ^DATA_SET_MAP_PROJECTION_CATALOG= "DSMAP.CAT"
  A_AXIS_RADIUS = 3396.0
  B_AXIS_RADIUS = 3396.0
  C_AXIS_RADIUS = 3396.0
  CENTER_LATITUDE = 0.0
  CENTER_LONGITUDE = 342.0
  COORDINATE_SYSTEM_NAME = PLANETOGRAPHIC
  COORDINATE_SYSTEM_TYPE = "BODY-FIXED ROTATING"
  EASTERNMOST_LONGITUDE = 342.622
  FIRST_STANDARD_PARALLEL = "N/A"
  LINE_FIRST_PIXEL = 1
  LINE_LAST_PIXEL = 15239
  LINE_PROJECTION_OFFSET = 113696.75
  MAP_PROJECTION_ROTATION = 0.0
  MAP_PROJECTION_TYPE = SINUSOIDAL
  MAP_RESOLUTION = 2370.85521546667
  MAP_SCALE = 0.025
  MAXIMUM_LATITUDE = 48.0232
  MINIMUM_LATITUDE = 39.292
  POSITIVE_LONGITUDE_DIRECTION = EAST
  REFERENCE_LATITUDE = "N/A"
  REFERENCE_LONGITUDE = "N/A"
  SAMPLE_FIRST_PIXEL = 1
  SAMPLE_LAST_PIXEL = 3551
  SAMPLE_PROJECTION_OFFSET = 2504.75
  SECOND_STANDARD_PARALLEL = "N/A"
  WESTERNMOST_LONGITUDE = 340.447
END_OBJECT = IMAGE_MAP_PROJECTION
/* The JPEG2000 image data file associated with this label. */
OBJECT = COMPRESSED_FILE
  FILE_NAME = "HH924_0000_S13.JP2"
  RECORD_TYPE = UNDEFINED
  FILE_RECORDS = UNK
  ENCODING_TYPE = "JP2"
  INTERCHANGE_FORMAT = BINARY
  UNCOMPRESSED_FILE_NAME = "HH924_0000_S13.IMG"
  REQUIRED_STORAGE_BYTES = "54134995"
  ^DESCRIPTION = "JP2INFO.TXT"
END_OBJECT = COMPRESSED_FILE
END
