PDS_VERSION_ID = PDS3
/* FILE DATA ELEMENTS */
RECORD_TYPE = STREAM
/* POINTERS TO DATA OBJECTS */
^COMPRESSED_FILE = "HH926_0001_P13.JP2"
/* IDENTIFICATION DATA ELEMENTS */
DATA_SET_ID = "MEX-M-HRSC-5-REFDR-MAPPROJECTED-V3.0"
DATA_SET_NAME = "MARS EXPRESS HRSC MAP PROJECTED REFDR V3.0"
DETECTOR_ID = MEX_HRSC_P1
EVENT_TYPE = "MARS-REGIONAL-MAPPING-Vo-Im-Pf"
INSTRUMENT_HOST_ID = MEX
INSTRUMENT_HOST_NAME = "MARS EXPRESS"
INSTRUMENT_ID = HRSC
INSTRUMENT_NAME = "HIGH RESOLUTION STEREO CAMERA"
MISSION_NAME = "MARS EXPRESS"
MISSION_PHASE_NAME = ME_Phase_38
PROCESSING_LEVEL_ID = 3
PRODUCT_CREATION_TIME = 2018-09-04T13:05:27.000Z
PRODUCT_ID = "HH926_0001_P13.JP2"
RELEASE_ID = 0140
REVISION_ID = 0000
/* QUALITY DATA ELEMENTS */
DATA_QUALITY_ID = 1
DATA_QUALITY_DESC = "Data calculated based on original SPICE kernels"
/* TIME DATA ELEMENTS */
SPACECRAFT_CLOCK_START_COUNT = "1/0467996045.07322"
SPACECRAFT_CLOCK_STOP_COUNT = "1/0467996335.46884"
START_TIME = 2018-03-01T14:54:24.127Z
STOP_TIME = 2018-03-01T14:58:06.846Z
/* ORBITAL DATA ELEMENTS */
ASCENDING_NODE_LONGITUDE = 237.59
MAXIMUM_RESOLUTION = 30.2
FOOTPRINT_POINT_LATITUDE = (53.0915,53.0903,53.0856,52.9521, 52.6329,52.3137,51.9945,51.6755,51.3565 ,51.0377,50.719,50.241,49.7631,49.4446, 49.1261,48.8077,48.4894,48.171,47.8528, 47.5345,47.2163,46.8982,46.58,46.2618, 45.9437,45.6256,45.3075,44.9894,44.6712 ,44.1939,43.8757,43.5575,43.2392, 42.7619,42.4432,42.1252,41.8067,41.4882 ,41.1697,40.6917,40.373,39.8948,39.5759 ,39.0975,38.7786,38.4594,38.14,37.8204, 37.341,37.173,37.171,37.1689,37.1651, 37.16,37.4803,37.8004,38.1203,38.4401, 38.76,39.2394,39.5589,39.8782,40.3572, 40.6763,40.9955,41.3145,41.6335,41.9525 ,42.2714,42.7496,43.0684,43.3872, 43.7059,44.0246,44.5026,44.8212,45.1398 ,45.6178,45.9364,46.255,46.733,47.0514, 47.3702,47.6898,48.0087,48.4869,48.964, 49.283,49.6025,50.0812,50.4003,50.7196, 51.1987,51.5181,51.8378,52.1575,52.4772 ,52.7972,53.1171,53.0915)
FOOTPRINT_POINT_LONGITUDE = (138.245,137.917,137.268,136.708, 136.737,136.765,136.792,136.819,136.845 ,136.871,136.896,136.932,136.966, 136.989,137.011,137.032,137.053,137.074 ,137.094,137.113,137.132,137.151, 137.169,137.187,137.204,137.221,137.237 ,137.253,137.269,137.292,137.307, 137.321,137.335,137.356,137.369,137.382 ,137.394,137.407,137.419,137.436, 137.447,137.464,137.474,137.49,137.5, 137.51,137.519,137.528,137.542,137.795, 138.282,138.554,138.897,139.301,139.293 ,139.285,139.277,139.269,139.261, 139.249,139.241,139.233,139.222,139.214 ,139.206,139.198,139.191,139.183, 139.175,139.164,139.156,139.148,139.14, 139.133,139.12,139.113,139.105,139.094, 139.086,139.078,139.065,139.053,139.048 ,139.049,139.042,139.028,139.007, 138.999,138.994,138.982,138.973,138.965 ,138.952,138.943,138.935,138.926, 138.917,138.909,138.899,138.245)
ORBIT_NUMBER = 17926
ORBITAL_ECCENTRICITY = 0.573
ORBITAL_INCLINATION = 86.96
ORBITAL_SEMIMAJOR_AXIS = 8794.68
PERIAPSIS_ALTITUDE = 373.77
PERIAPSIS_ARGUMENT_ANGLE = 130.67
PERIAPSIS_TIME = 2018-03-01T14:55:13.000Z
SPACECRAFT_ORIENTATION = (0.0,-1.0,0.0)
^MEX_ORIENTATION_DESC = "MEX_ORIENTATION_DESC.TXT"
SPACECRAFT_POINTING_MODE = INERT
^MEX_POINTING_DESC = "MEX_POINTING_DESC.TXT"
RIGHT_ASCENSION = 222.386
DECLINATION = -67.366
OFFSET_ANGLE = -1e+32
SPACECRAFT_SOLAR_DISTANCE = 2.34959e+08
TARGET_NAME = MARS
/* CAMERA DATA ELEMENTS */
DETECTOR_TEMPERATURE = 18.3705
FOCAL_PLANE_TEMPERATURE = 9.195
INST_CMPRS_NAME = "DISCRETE COSINE TRANSFORMATION (DCT)"
INST_CMPRS_RATIO = 6.22083
INST_CMPRS_QUALITY = 0
INST_CMPRS_QUANTZ_TBL_ID = 0
INSTRUMENT_TEMPERATURE = 12.4574
LENS_TEMPERATURE = 10.2145
MACROPIXEL_SIZE = 2
MISSING_FRAMES = 0
PIXEL_SUBSAMPLING_FLAG = N
SIGNAL_CHAIN_ID = 3
/* RADIOMETRIC DATA ELEMENTS */
BANDWIDTH = 174.0
CENTER_FILTER_WAVELENGTH = 675.0
RADIANCE_OFFSET = 3.54059
RADIANCE_SCALING_FACTOR = 0.0235849
REFLECTANCE_SCALING_FACTOR = 0.000700337
MEX:REFLECTANCE_OFFSET = 0.105135
/* IMAGE OBJECT DEFINITIONS */
OBJECT = IMAGE
  INTERCHANGE_FORMAT = BINARY
  LINES = 37673
  LINE_SAMPLES = 4457
  SAMPLE_TYPE = UNSIGNED_INTEGER
  SAMPLE_BITS = 8
  BANDS = 1
  BAND_STORAGE_TYPE = BAND_SEQUENTIAL
  MAXIMUM = 255
  MEAN = 124.155
  MINIMUM = 1
  STANDARD_DEVIATION = 37.5701
END_OBJECT = IMAGE
/* MAP OBJECT DEFINITIONS */
OBJECT = IMAGE_MAP_PROJECTION
  ^DATA_SET_MAP_PROJECTION_CATALOG= "DSMAP.CAT"
  A_AXIS_RADIUS = 3396.0
  B_AXIS_RADIUS = 3396.0
  C_AXIS_RADIUS = 3396.0
  CENTER_LATITUDE = 0.0
  CENTER_LONGITUDE = 138.0
  COORDINATE_SYSTEM_NAME = PLANETOGRAPHIC
  COORDINATE_SYSTEM_TYPE = "BODY-FIXED ROTATING"
  EASTERNMOST_LONGITUDE = 139.301
  FIRST_STANDARD_PARALLEL = "N/A"
  LINE_FIRST_PIXEL = 1
  LINE_LAST_PIXEL = 37673
  LINE_PROJECTION_OFFSET = 125789.75
  MAP_PROJECTION_ROTATION = 0.0
  MAP_PROJECTION_TYPE = SINUSOIDAL
  MAP_RESOLUTION = 2370.85521546667
  MAP_SCALE = 0.025
  MAXIMUM_LATITUDE = 53.1171
  MINIMUM_LATITUDE = 37.16
  POSITIVE_LONGITUDE_DIRECTION = EAST
  REFERENCE_LATITUDE = "N/A"
  REFERENCE_LONGITUDE = "N/A"
  SAMPLE_FIRST_PIXEL = 1
  SAMPLE_LAST_PIXEL = 4457
  SAMPLE_PROJECTION_OFFSET = 1825.75
  SECOND_STANDARD_PARALLEL = "N/A"
  WESTERNMOST_LONGITUDE = 136.708
END_OBJECT = IMAGE_MAP_PROJECTION
/* The JPEG2000 image data file associated with this label. */
OBJECT = COMPRESSED_FILE
  FILE_NAME = "HH926_0001_P13.JP2"
  RECORD_TYPE = UNDEFINED
  FILE_RECORDS = UNK
  ENCODING_TYPE = "JP2"
  INTERCHANGE_FORMAT = BINARY
  UNCOMPRESSED_FILE_NAME = "HH926_0001_P13.IMG"
  REQUIRED_STORAGE_BYTES = "167935303"
  ^DESCRIPTION = "JP2INFO.TXT"
END_OBJECT = COMPRESSED_FILE
END
