PDS_VERSION_ID = PDS3
/* FILE DATA ELEMENTS */
RECORD_TYPE = STREAM
/* POINTERS TO DATA OBJECTS */
^COMPRESSED_FILE = "HH926_0001_P23.JP2"
/* IDENTIFICATION DATA ELEMENTS */
DATA_SET_ID = "MEX-M-HRSC-5-REFDR-MAPPROJECTED-V3.0"
DATA_SET_NAME = "MARS EXPRESS HRSC MAP PROJECTED REFDR V3.0"
DETECTOR_ID = MEX_HRSC_P2
EVENT_TYPE = "MARS-REGIONAL-MAPPING-Vo-Im-Pf"
INSTRUMENT_HOST_ID = MEX
INSTRUMENT_HOST_NAME = "MARS EXPRESS"
INSTRUMENT_ID = HRSC
INSTRUMENT_NAME = "HIGH RESOLUTION STEREO CAMERA"
MISSION_NAME = "MARS EXPRESS"
MISSION_PHASE_NAME = ME_Phase_38
PROCESSING_LEVEL_ID = 3
PRODUCT_CREATION_TIME = 2018-09-04T13:05:27.000Z
PRODUCT_ID = "HH926_0001_P23.JP2"
RELEASE_ID = 0140
REVISION_ID = 0000
/* QUALITY DATA ELEMENTS */
DATA_QUALITY_ID = 1
DATA_QUALITY_DESC = "Data calculated based on original SPICE kernels"
/* TIME DATA ELEMENTS */
SPACECRAFT_CLOCK_START_COUNT = "1/0467996045.07322"
SPACECRAFT_CLOCK_STOP_COUNT = "1/0467996335.46884"
START_TIME = 2018-03-01T14:55:08.963Z
STOP_TIME = 2018-03-01T14:58:50.707Z
/* ORBITAL DATA ELEMENTS */
ASCENDING_NODE_LONGITUDE = 237.59
MAXIMUM_RESOLUTION = 33.6
FOOTPRINT_POINT_LATITUDE = (53.0254,53.0082,52.9956,52.9826, 52.9551,53.1091,52.7799,52.2874,51.9597 ,51.6325,51.3056,50.9799,50.6548, 50.3302,50.0055,49.6821,49.3588,49.0359 ,48.7139,48.3922,48.0709,47.7502, 47.4299,47.1103,46.7911,46.4721,46.1536 ,45.8355,45.5176,45.2002,44.8832, 44.4101,44.0944,43.7791,43.4639,43.1491 ,42.8349,42.3648,41.8943,41.5812, 41.2687,40.8006,40.4886,40.1771,39.866, 39.555,39.0887,38.778,38.4679,38.1585, 37.8495,37.5406,37.1906,37.2063,37.2163 ,37.2297,37.403,37.7117,38.1762,38.4859 ,38.7959,39.1066,39.5726,39.8832, 40.1952,40.6631,40.9753,41.288,41.7573, 42.2275,42.5412,42.8556,43.1702,43.485, 43.9582,44.2735,44.5895,45.0656,45.383, 45.7006,46.0188,46.4949,46.8113,47.1303 ,47.4637,47.7893,48.1101,48.5912, 48.8951,49.3857,49.7112,50.0371,50.3621 ,50.6874,51.1769,51.5034,51.8315, 52.1594,52.4882,53.0254)
FOOTPRINT_POINT_LONGITUDE = (139.162,138.612,138.234,137.86,137.12, 136.732,136.76,136.801,136.828,136.853, 136.878,136.903,136.927,136.95,136.972, 136.994,137.016,137.037,137.057,137.077 ,137.096,137.115,137.133,137.151, 137.168,137.185,137.202,137.218,137.234 ,137.249,137.264,137.285,137.299, 137.313,137.326,137.339,137.352,137.37, 137.388,137.399,137.41,137.426,137.436, 137.446,137.456,137.466,137.48,137.488, 137.497,137.506,137.514,137.522,137.76, 138.189,138.477,138.879,139.401,139.396 ,139.39,139.386,139.382,139.378,139.372 ,139.368,139.365,139.36,139.356,139.353 ,139.347,139.342,139.339,139.336, 139.333,139.329,139.325,139.321,139.318 ,139.315,139.312,139.31,139.307,139.302 ,139.297,139.295,139.302,139.303, 139.301,139.297,139.282,139.284,139.283 ,139.283,139.282,139.28,139.279,139.278 ,139.277,139.277,139.276,139.162)
ORBIT_NUMBER = 17926
ORBITAL_ECCENTRICITY = 0.573
ORBITAL_INCLINATION = 86.96
ORBITAL_SEMIMAJOR_AXIS = 8794.68
PERIAPSIS_ALTITUDE = 373.77
PERIAPSIS_ARGUMENT_ANGLE = 130.67
PERIAPSIS_TIME = 2018-03-01T14:55:13.000Z
SPACECRAFT_ORIENTATION = (0.0,-1.0,0.0)
^MEX_ORIENTATION_DESC = "MEX_ORIENTATION_DESC.TXT"
SPACECRAFT_POINTING_MODE = INERT
^MEX_POINTING_DESC = "MEX_POINTING_DESC.TXT"
RIGHT_ASCENSION = 222.386
DECLINATION = -67.366
OFFSET_ANGLE = -1e+32
SPACECRAFT_SOLAR_DISTANCE = 2.34959e+08
TARGET_NAME = MARS
/* CAMERA DATA ELEMENTS */
DETECTOR_TEMPERATURE = 19.39
FOCAL_PLANE_TEMPERATURE = 9.195
INST_CMPRS_NAME = "DISCRETE COSINE TRANSFORMATION (DCT)"
INST_CMPRS_RATIO = 6.11275
INST_CMPRS_QUALITY = 0
INST_CMPRS_QUANTZ_TBL_ID = 0
INSTRUMENT_TEMPERATURE = 12.4574
LENS_TEMPERATURE = 10.2145
MACROPIXEL_SIZE = 2
MISSING_FRAMES = 0
PIXEL_SUBSAMPLING_FLAG = N
SIGNAL_CHAIN_ID = 3
/* RADIOMETRIC DATA ELEMENTS */
BANDWIDTH = 177.0
CENTER_FILTER_WAVELENGTH = 676.5
RADIANCE_OFFSET = 3.70643
RADIANCE_SCALING_FACTOR = 0.0225293
REFLECTANCE_SCALING_FACTOR = 0.000659466
MEX:REFLECTANCE_OFFSET = 0.108493
/* IMAGE OBJECT DEFINITIONS */
OBJECT = IMAGE
  INTERCHANGE_FORMAT = BINARY
  LINES = 37673
  LINE_SAMPLES = 4457
  SAMPLE_TYPE = UNSIGNED_INTEGER
  SAMPLE_BITS = 8
  BANDS = 1
  BAND_STORAGE_TYPE = BAND_SEQUENTIAL
  MAXIMUM = 255
  MEAN = 126.688
  MINIMUM = 1
  STANDARD_DEVIATION = 36.3426
END_OBJECT = IMAGE
/* MAP OBJECT DEFINITIONS */
OBJECT = IMAGE_MAP_PROJECTION
  ^DATA_SET_MAP_PROJECTION_CATALOG= "DSMAP.CAT"
  A_AXIS_RADIUS = 3396.0
  B_AXIS_RADIUS = 3396.0
  C_AXIS_RADIUS = 3396.0
  CENTER_LATITUDE = 0.0
  CENTER_LONGITUDE = 138.0
  COORDINATE_SYSTEM_NAME = PLANETOGRAPHIC
  COORDINATE_SYSTEM_TYPE = "BODY-FIXED ROTATING"
  EASTERNMOST_LONGITUDE = 139.401
  FIRST_STANDARD_PARALLEL = "N/A"
  LINE_FIRST_PIXEL = 1
  LINE_LAST_PIXEL = 37673
  LINE_PROJECTION_OFFSET = 125789.75
  MAP_PROJECTION_ROTATION = 0.0
  MAP_PROJECTION_TYPE = SINUSOIDAL
  MAP_RESOLUTION = 2370.85521546667
  MAP_SCALE = 0.025
  MAXIMUM_LATITUDE = 53.1091
  MINIMUM_LATITUDE = 37.1906
  POSITIVE_LONGITUDE_DIRECTION = EAST
  REFERENCE_LATITUDE = "N/A"
  REFERENCE_LONGITUDE = "N/A"
  SAMPLE_FIRST_PIXEL = 1
  SAMPLE_LAST_PIXEL = 4457
  SAMPLE_PROJECTION_OFFSET = 1825.75
  SECOND_STANDARD_PARALLEL = "N/A"
  WESTERNMOST_LONGITUDE = 136.732
END_OBJECT = IMAGE_MAP_PROJECTION
/* The JPEG2000 image data file associated with this label. */
OBJECT = COMPRESSED_FILE
  FILE_NAME = "HH926_0001_P23.JP2"
  RECORD_TYPE = UNDEFINED
  FILE_RECORDS = UNK
  ENCODING_TYPE = "JP2"
  INTERCHANGE_FORMAT = BINARY
  UNCOMPRESSED_FILE_NAME = "HH926_0001_P23.IMG"
  REQUIRED_STORAGE_BYTES = "167935303"
  ^DESCRIPTION = "JP2INFO.TXT"
END_OBJECT = COMPRESSED_FILE
END
